BEGIN:VCALENDAR
VERSION:2.0
PRODID:-//https://techplay.jp//JP
CALSCALE:GREGORIAN
METHOD:PUBLISH
X-WR-CALDESC:【7/19無料セミナー】ビジネスシーンにおける
 メタバース活用の価値
X-WR-CALNAME:【7/19無料セミナー】ビジネスシーンにおける
 メタバース活用の価値
X-WR-TIMEZONE:Asia/Tokyo
BEGIN:VTIMEZONE
TZID:Asia/Tokyo
BEGIN:STANDARD
DTSTART:19700101T000000
TZOFFSETFROM:+0900
TZOFFSETTO:+0900
TZNAME:JST
END:STANDARD
END:VTIMEZONE
BEGIN:VEVENT
UID:910934@techplay.jp
SUMMARY:【7/19無料セミナー】ビジネスシーンにおけるメタ
 バース活用の価値
DTSTART;TZID=Asia/Tokyo:20230719T170000
DTEND;TZID=Asia/Tokyo:20230719T180000
DTSTAMP:20260419T184010Z
CREATED:20230703T025506Z
DESCRIPTION:イベント詳細はこちら\nhttps://techplay.jp/event/91093
 4?utm_medium=referral&utm_source=ics&utm_campaign=ics\n\nこのような
 方に聞いていただきたい\n・メタバース活用を考えて
 いるが、何をはじめに行えばよいか迷っている方・メ
 タバース活用のやり方を迷っている方・メタバース活
 用でどのような効果があるかわからない方\n概要\n一昨
 年程前から「メタバース」という言葉をよく聞くよう
 になり、現在も非常に盛り上がりを感じているメタバ
 ース市場。\nしかし実際のところ、どのようにメタバ
 ースを活用すればよいかはわからないものです。\n本
 セミナーではそのような企業様向けに「ビジネスシー
 ンにおけるメタバース活用の方法とその効果」につい
 て弊社の過去事例をもとにご紹介していきます。\nプ
 ログラム内容\n・セミナー「ビジネスシーンにおける
 メタバース活用の価値」\n・Q＆A\n・個別相談会\n※一
 部内容を変更する場合がございますのでご了承くださ
 い\n詳細\n開催日時：7月19日（水）17:00〜18:00（開場16:30
  エリアクローズ18:30）\n参加費用： 無料\n形式： XR CLO
 UDによるメタバースセミナー\n※お申込みいただいたメ
 ールアドレス宛に、参加用URLをお送りします。\n※競
 合他社様や個人事業主様、学生の方のご参加はご遠慮
 いただいております。ご了承ください。\n※本セミナ
 ーはメタバース活用を検討している企業様向けの内容
 となっております。monoAI technology株式会社についての
 ご質問にはお答えできません。\n登壇者monoAI techonology
 株式会社営業企画部　チーフメタバースコンサルタン
 ト沖野 真也
LOCATION:メタバースプラットフォーム「XR CLOUD」
URL:https://techplay.jp/event/910934?utm_medium=referral&utm_source=ics&utm
 _campaign=ics
END:VEVENT
END:VCALENDAR
