BEGIN:VCALENDAR
VERSION:2.0
PRODID:-//https://techplay.jp//JP
CALSCALE:GREGORIAN
METHOD:PUBLISH
X-WR-CALDESC:なるほどブレインテック第3回 "VIE STYLE様が描
 くブレインテックの未来"
X-WR-CALNAME:なるほどブレインテック第3回 "VIE STYLE様が描
 くブレインテックの未来"
X-WR-TIMEZONE:Asia/Tokyo
BEGIN:VTIMEZONE
TZID:Asia/Tokyo
BEGIN:STANDARD
DTSTART:19700101T000000
TZOFFSETFROM:+0900
TZOFFSETTO:+0900
TZNAME:JST
END:STANDARD
END:VTIMEZONE
BEGIN:VEVENT
UID:911281@techplay.jp
SUMMARY:なるほどブレインテック第3回 "VIE STYLE様が描くブ
 レインテックの未来"
DTSTART;TZID=Asia/Tokyo:20230809T140000
DTEND;TZID=Asia/Tokyo:20230809T150000
DTSTAMP:20260422T042959Z
CREATED:20230705T045859Z
DESCRIPTION:イベント詳細はこちら\nhttps://techplay.jp/event/91128
 1?utm_medium=referral&utm_source=ics&utm_campaign=ics\n\n”VIE STYLE様
 が描くブレインテックの未来"\n※本セミナーのお申し
 込みはこちらから\n―イベントの特徴\n脳波から生成し
 た音楽で、新しいサウナ体験とは？？リアルタイム機
 械学習による "鎮静深度モニタリング" に関する国立が
 ん研究センター東病院との共同研究とは？？\n今回は
 、エンターテイメント、e-sports、医療利用など幅広い
 分野で様々な新しいことを手掛けているVIE STYLE株式会
 社　茨木様　をお迎えし、ニューロフィードバックを
 活用した感情分析の事例をご紹介していきたいと思い
 ます。\nまた、脳波を可視化するイヤホン型脳波計 "VIE
  ZONE "や X-trodes社製品などのEEG最新動向についても、脳
 波分析手法のディスカッションを交えて座談会形式で
 ご紹介いたします。\n各方面のメディアで目にする”
 ととのうイヤホン”、”瞑想体験をサポートするアプ
 リ”などの誕生秘話は必見です！\n当日は、Q&Aのお時
 間も設けておりますので、「ニューロテクノロジー ～
 最新脳科学が未来のビジネスを生み出す（技術評論社
 ）」の著者でもある茨木様に直接ご質問いただくこと
 ができます。\nブレインテックを使った活用方法に興
 味のある方や、ニューロテクノロジーに関してご興味
 のある方、茨木様にご質問したい方、この機会にぜひ
 ご参加ください。\nお申し込みはこちら\n―”なるほど
 ブレインテック”とは？\nブレインテック・脳科学ｘAI
 のトピックを ”なるほど！” と、わかりやすく解説
 するお役立ちコンテンツをご紹介をしております。脳
 波を使ったビジネスの未来構想を実現するためのヒン
 トとなれば幸いです。\nこんな人にオススメです！\n・
 ブレインテックを使った活用方法に興味のある方・ニ
 ューロテクノロジーに関してご興味のある方\n日程・
 お申し込み\n\n\n\n日程\n時間\n会場\n定員\nお申し込み\n\
 n\n\n\n2023/08/09（水）～2023/08/09（水）\n14:00-15:00 (受付 13:
 55 -)\nzoom\nなし\n受付中\n\n\n\nアジェンダ\n\n\n\n時間\n内
 容\n\n\n\n\n14:00-14:10\nご挨拶・ゲスト紹介VIE STYLE様のご
 紹介\n\n\n14:10-14:20\nEEG最新動向と脳波分析の手法脳波を
 可視化するイヤホン型脳波計 "VIE ZONE "や X-trodes社製品
 などのEEG最新動向について、脳波分析手法のディスカ
 ッションを交えて座談会形式でお伺いします\n\n\n14:20-1
 4:30\nニューロフィードバックを活用した事例のご紹介
 エンタメ、e-sports、医療まで幅広く取り組んでいる感
 情分析の事例のご紹介と共に、ここでしか聞けない事
 例の秘話もお伺います\n\n\n14:30-14:40\n「Vie Lab Meet Up」開
 催の背景各種産業・研究領域とのパートナーシップを
 強化するイベント「Vie Lab Meet up」を定期開催するにあ
 たっての背景をお伺いします\n\n\n14:40-14:50\n今後の展望
 VIE STYLE様の考えるブレインテックの未来とは？お伺い
 します\n\n\n14:50-15:00\nQ&A皆様からいただいたご質問をリ
 アルタイムでご回答させていただきます\n\n\n\n講師/講
 師プロフィール\n茨木　拓也VIE STYLE株式会社　執行役
 員最高脳科学責任者株式会社NTTデータ経営研究所　ニ
 ューロイノベーションユニット　アソシエイトパート
 ナー\n神経科学分野における基礎研究成果の社会実装
 に長年取り組む。著書に「ニューロテクノロジー ～最
 新脳科学が未来のビジネスを生み出す（技術評論社）
 」\n村田　啓次株式会社マクニカBRIAN AI Innovation Lab.　
 コンサルタント\n各種半導体営業を経て2016年より新規
 事業担当IoTソリューション、データVisualization事業の立
 ち上げ、新規メーカー開拓を担う。現在はBraitech事業
 を担当し革新技術の社会実装に向けたサポートに従事
 。\n主催・運営\n株式会社マクニカ
LOCATION:オンライン
URL:https://techplay.jp/event/911281?utm_medium=referral&utm_source=ics&utm
 _campaign=ics
END:VEVENT
END:VCALENDAR
