BEGIN:VCALENDAR
VERSION:2.0
PRODID:-//https://techplay.jp//JP
CALSCALE:GREGORIAN
METHOD:PUBLISH
X-WR-CALDESC:売上UPに貢献する インサイドセールスの立ち
 上げ方
X-WR-CALNAME:売上UPに貢献する インサイドセールスの立ち
 上げ方
X-WR-TIMEZONE:Asia/Tokyo
BEGIN:VTIMEZONE
TZID:Asia/Tokyo
BEGIN:STANDARD
DTSTART:19700101T000000
TZOFFSETFROM:+0900
TZOFFSETTO:+0900
TZNAME:JST
END:STANDARD
END:VTIMEZONE
BEGIN:VEVENT
UID:911401@techplay.jp
SUMMARY:売上UPに貢献する インサイドセールスの立ち上げ
 方
DTSTART;TZID=Asia/Tokyo:20230713T110000
DTEND;TZID=Asia/Tokyo:20230713T114500
DTSTAMP:20260421T045814Z
CREATED:20230706T041448Z
DESCRIPTION:イベント詳細はこちら\nhttps://techplay.jp/event/91140
 1?utm_medium=referral&utm_source=ics&utm_campaign=ics\n\n売上UPに貢
 献する インサイドセールスの立ち上げ方\n日本国内で
 もインサイドセールスを取り入れる企業が増えていま
 すが、いまいちうまくいっていないと感じている営業
 マネージャーの方も多く、ご相談をいただく機会も増
 えて参りました。\n今回のウェビナーでは、アポ獲得
 だけでなく、”売上に貢献する”インサイドセールス
 の立ち上げ方をステップbyステップでご紹介します。\n
 【このような方におすすめです】\n\nインサイドセール
 スを取り入れてみようと考えている\nインサイドセー
 ルスを取り入れてみたが、生産性が上がっていない\n
 分業体制を敷いてみたが、うまくいっているかイマイ
 チ実感がない\n\n【本ウェビナーの内容】\n\nインサイ
 ドセールス導入の効果\nインサイドセールスの立ち上
 げのステップ\n\n\n概要\n\n\n\n\n\n\n\n\n\n対象\nインサイド
 セールス責任者 / 営業責任者 / 営業企画・経営企画\n\n
 \n日時\n2023年7月13日（木） 11:00 – 11:45\n\n\n内容\n・イ
 ンサイドセールス導入の効果・インサイドセールスの
 立ち上げのステップ\n\n\n会場\nオンライン（Zoom）\n\n\n
 費用\n無料\n\n\n参加方法\nお申込み後、開催日前日まで
 にメールにて視聴用URLが届きます。\n\n\nご不明点・ご
 質問\n弊社ホームページよりお問い合わせください。\n
 \n\n注意事項\n＊同業他社様のご参加はご遠慮いただい
 ております。＊弊社からのメールを配信解除されてい
 る方は、お手数ですが、申込時に表示される再配信設
 定にて再登録をよろしくお願いいたします。当日の Zoo
 m URL を送付させていただきます。【プライバシーポリ
 シーについて】今回ご提供いただく個人情報は、プラ
 イバシーポリシーに基づき厳重に管理いたします。株
 式会社Magic Moment 個人情報保護方針\n\n\n
LOCATION:Zoom
URL:https://techplay.jp/event/911401?utm_medium=referral&utm_source=ics&utm
 _campaign=ics
END:VEVENT
END:VCALENDAR
