BEGIN:VCALENDAR
VERSION:2.0
PRODID:-//https://techplay.jp//JP
CALSCALE:GREGORIAN
METHOD:PUBLISH
X-WR-CALDESC:ゼロから学ぶ！簡単で効率的社内DX
X-WR-CALNAME:ゼロから学ぶ！簡単で効率的社内DX
X-WR-TIMEZONE:Asia/Tokyo
BEGIN:VTIMEZONE
TZID:Asia/Tokyo
BEGIN:STANDARD
DTSTART:19700101T000000
TZOFFSETFROM:+0900
TZOFFSETTO:+0900
TZNAME:JST
END:STANDARD
END:VTIMEZONE
BEGIN:VEVENT
UID:911637@techplay.jp
SUMMARY:ゼロから学ぶ！簡単で効率的社内DX
DTSTART;TZID=Asia/Tokyo:20230725T140000
DTEND;TZID=Asia/Tokyo:20230725T143000
DTSTAMP:20260422T080232Z
CREATED:20230707T103854Z
DESCRIPTION:イベント詳細はこちら\nhttps://techplay.jp/event/91163
 7?utm_medium=referral&utm_source=ics&utm_campaign=ics\n\n「ゼロから
 学ぶ！簡単で効率的社内DX」\nGoogleWorkSpaceを活用し、実
 現可能な「簡単DX」の手法をご紹介します。\n「DXとい
 う言葉を聞いたことがあるけれどよく分からない」「D
 Xに取り組みたいが何から手を付けたらよいか分からな
 い」という方に向けて、\n事例も踏まえ初心者にも理
 解しやすくご説明いたします。簡単で効果的なDXの実
 践方法を学び、社内の業務効率化を進めていきましょ
 う！\n＜開催登壇会社＞Zen office株式会社（URL：https://ww
 w.zenoffice.co.jp）事業内容：ビジネスプロセスオートメ
 ーション支援\n＜開催日・時刻＞・7月25日（火）　14:00
 ～14:30・オンラインにて開催\n＜参加費/参加特典＞・
 参加費用    無料・参加特典    当日のスライド資
 料（簡易版）    ※セミナー終了後のアンケートに
 お答え頂いた方限定\n\n\n＜注意事項＞・リクルーティ
 ング、勧誘など、採用目的でのイベント参加はお断り
 しております。・キャンセル待ち・補欠・落選の方は
 ご参加いただくことが出来ませんのでご了承ください
 。・欠席される場合は、お手数ですが速やかにキャン
 セル処理をお願い致します。・無断キャンセルや欠席
 が続く場合、次回以降の参加をお断りさせていただく
 場合がございます。・お申し込み頂いた中で、競合他
 社様や参加に相応しくないと判断した場合はお断りを
 させていただく場合がございます。\n参加費\n無料\n注
 意事項\n\nリクルーティング、勧誘など、採用目的での
 イベント参加はお断りしております。\nキャンセル待
 ち・補欠・落選の方はご参加いただくことが出来ませ
 んのでご了承ください。\n欠席される場合は、お手数
 ですが速やかにキャンセル処理をお願い致します。\n
 無断キャンセルや欠席が続く場合、次回以降の参加を
 お断りさせていただく場合がございます。\n
LOCATION:オンライン
URL:https://techplay.jp/event/911637?utm_medium=referral&utm_source=ics&utm
 _campaign=ics
END:VEVENT
END:VCALENDAR
