BEGIN:VCALENDAR
VERSION:2.0
PRODID:-//https://techplay.jp//JP
CALSCALE:GREGORIAN
METHOD:PUBLISH
X-WR-CALDESC:テレアポDX革命：ひたすらコールする時代から
 デジタルの時代へ
X-WR-CALNAME:テレアポDX革命：ひたすらコールする時代から
 デジタルの時代へ
X-WR-TIMEZONE:Asia/Tokyo
BEGIN:VTIMEZONE
TZID:Asia/Tokyo
BEGIN:STANDARD
DTSTART:19700101T000000
TZOFFSETFROM:+0900
TZOFFSETTO:+0900
TZNAME:JST
END:STANDARD
END:VTIMEZONE
BEGIN:VEVENT
UID:911641@techplay.jp
SUMMARY:テレアポDX革命：ひたすらコールする時代からデ
 ジタルの時代へ
DTSTART;TZID=Asia/Tokyo:20230721T120000
DTEND;TZID=Asia/Tokyo:20230721T123000
DTSTAMP:20260421T143738Z
CREATED:20230707T110353Z
DESCRIPTION:イベント詳細はこちら\nhttps://techplay.jp/event/91164
 1?utm_medium=referral&utm_source=ics&utm_campaign=ics\n\nテレアポDX
 革命：ひたすらコールする時代からデジタルの時代へ\
 n概要\n■内容このテレアポDX革命は、営業の業務をデ
 ジタル化し、作業効率UPさせる方法をご紹介させてい
 ただきます。テレアポが自動化されたプロセスによっ
 て、より効率的に顧客にアプローチすることができる
 ようになります。\n■対象者営業会社、経営者、営業
 責任者・営業組織が属人的で人数を増やさないと売上
 が上がらない・営業DXにおいて何から手を付けたら良
 いかわからずアナログな状態となってしまっている・
 根性論での生産性UPに限界を感じ始めている・ただの
 システム導入プロジェクトとなってしまい成果をあげ
 られていない・営業組織の活動がブラックボックスで
 誰も可視化できていない\n・日時2023/7/21(金)12:00-12:30・
 参加費無料・イベント形式ウェビナー（オンラインzoom
 ）※お申し込み後にZoomのURLをお送りいたします。・参
 加特典当日のスライド資料（簡易版）※セミナー終了
 後のアンケートにお答え頂いた方限定・注意事項お申
 し込み頂いた中で、競合他社様や参加に相応しくない
 と判断した場合はお断りをさせていただく場合がござ
 います。\nタイムスケジュール\n2023/7/21(金)12:00-12:30\n※
  当日予告なく時間配分・内容が変更になる可能性がご
 ざいます。\n登壇者\n\n宮本智道\n社長室　事業開発部
 兼　セールスマネージャー\n大学卒業後、某大手通信
 会社に入社し、固定回線のテレアポ営業や飛び込み営
 業を経験。\n営業マネージャーとして、BtoBのテレマー
 ケティング組織を立ち上げ、2年で組織を10倍に拡大。\
 n\n\n\n参加対象\n\n経営者\n営業責任者\n\n参加費\n無料\n
 注意事項\n\nリクルーティング、勧誘など、採用目的で
 のイベント参加はお断りしております。\nキャンセル
 待ち・補欠・落選の方はご参加いただくことが出来ま
 せんのでご了承ください。\n欠席される場合は、お手
 数ですが速やかにキャンセル処理をお願い致します。\
 n無断キャンセルや欠席が続く場合、次回以降の参加を
 お断りさせていただく場合がございます。\n
LOCATION:オンライン
URL:https://techplay.jp/event/911641?utm_medium=referral&utm_source=ics&utm
 _campaign=ics
END:VEVENT
END:VCALENDAR
