BEGIN:VCALENDAR
VERSION:2.0
PRODID:-//https://techplay.jp//JP
CALSCALE:GREGORIAN
METHOD:PUBLISH
X-WR-CALDESC:Boost Up OKINAWA 2023　プログラム説明会～全国の
 スタートアップ・起業家が対象の沖縄アクセラレータ
 ープログラム～
X-WR-CALNAME:Boost Up OKINAWA 2023　プログラム説明会～全国の
 スタートアップ・起業家が対象の沖縄アクセラレータ
 ープログラム～
X-WR-TIMEZONE:Asia/Tokyo
BEGIN:VTIMEZONE
TZID:Asia/Tokyo
BEGIN:STANDARD
DTSTART:19700101T000000
TZOFFSETFROM:+0900
TZOFFSETTO:+0900
TZNAME:JST
END:STANDARD
END:VTIMEZONE
BEGIN:VEVENT
UID:912107@techplay.jp
SUMMARY:Boost Up OKINAWA 2023　プログラム説明会～全国のスタ
 ートアップ・起業家が対象の沖縄アクセラレータープ
 ログラム～
DTSTART;TZID=Asia/Tokyo:20230808T160000
DTEND;TZID=Asia/Tokyo:20230808T170000
DTSTAMP:20260420T125434Z
CREATED:20230711T072200Z
DESCRIPTION:イベント詳細はこちら\nhttps://techplay.jp/event/91210
 7?utm_medium=referral&utm_source=ics&utm_campaign=ics\n\n概要\n沖縄
 の産業活性化を目指して、スタートアップや起業家を
 育成することを目的に、この度、アクセラレータープ
 ログラム「Boost Up OKINAWA 2023」が始動。沖縄県内および
 全国の起業を志す人材やスタートアップ企業を対象に
 、経験豊富なメンター陣によるメンタリングや各種イ
 ベント、セミナーを通じて、ビジネス・サービスのブ
 ラッシュアップを加速化させるプログラムです。\n今
 回は沖縄のスタートアップ育成に精通されている一般
 財団法人沖縄ITイノベーション戦略センター（ISCO）　
 スタートアップセクションマネジャー　兼村 光 氏を
 お招きし、沖縄における様々なスタートアップ支援策
 やエコシステムなどをご紹介いただきながら、沖縄で
 ビジネスを始めるポイントについてご説明いただきま
 す。\nまた、今回始動した「Boost Up OKINAWA 2023」のプロ
 グラムについても詳しくご説明いたします。\n・沖縄
 で事業を始めてみたい・沖縄で県や事務局の協力を得
 ながらサービス実証をしてみたい・沖縄で起業をして
 みたいと思われる方には是非ご参加いただきたいプロ
 グラムとなっておりますので、是非ご参加ください。\
 nタイムスケジュール\n16:00～　オープニング\n16:05～16:4
 0　パネルディスカッション「沖縄のスタートアップの
 今」　一般財団法人沖縄ITイノベーション戦略センタ
 ー（ISCO）　スタートアップセクションマネジャー　兼
 村 光 氏　株式会社eiicon　執行役員　Enterprise事業本部
 ・公共セクター事業本部管掌　村田 宗一郎\n16:40～17:00
 「Boost Up OKINAWA 2023」 事業概要・プログラム説明\n17:00
 　終了\n※ 当日予告なく時間配分・内容が変更になる
 可能性がございます。\n登壇者\n一般財団法人沖縄ITイ
 ノベーション戦略センター（ISCO）　スタートアップセ
 クションマネジャー　兼村 光 氏\nプロフィール：ITテ
 クノロジー分野を軸に沖縄県経済の振興を図る産業支
 援機関として設立された「一般財団法人沖縄ITイノベ
 ーション戦略センター」に在籍。主にスタートアップ
 支援に関連する業務を担当。ライフワークとして、社
 会課題解決や起業家育成に関する活動に従事。\n（各
 種委員）\n・新事業創出促進事業評価委員／沖縄振興
 開発金融公庫\n・次世代アントレプレナー育成事業講
 師／沖縄県\n・沖縄型中核人材育成プログラム講師／
 内閣府\n・創業スクール講師／コザ信用金庫\n・一般社
 団法人沖縄STEM教育センター監事\n・琉球大学非常勤講
 師\n・一般社団法人シェアリングエコノミー協会沖縄
 支部長\n・NPO法人沖縄青少年自立援助センター ちゅら
 ゆい 理事\n\n株式会社eiicon　執行役員　村田 宗一郎\n
 プロフィール：関西学院大学卒。2020年eiiconに参画。Ent
 erprise事業本部・公共セクター事業本部を管掌し、主に
 法人企業・自治体へのオープンイノベーション支援に
 従事。eiiconのオープンイノベーションプログラム総責
 任者。各種プログラムでのセミナー・講師・メンター
 やイベントでの講演など実績多数。\n\n主催・運営\n沖
 縄県株式会社eiicon\n参加費\n無料\nこんな方におすすめ\
 n・沖縄県内に在住しているスタートアップ、起業を検
 討している方・沖縄県外に在住しているスタートアッ
 プ、起業を検討している方で、沖縄県での事業を検討
 している方・その他、スタートアップ支援者等\n注意
 事項\n※ 営業、勧誘目的でのイベント参加はお断りい
 たします。※ 参加を辞退する場合は、詳細ページより
 申込のキャンセルをお願い致します。※ 無断キャンセ
 ル・欠席が続く場合、次回以降の参加をお断りさせて
 いただく場合がございますのでご了承ください。\n個
 人情報の取扱いについて\n申し込み時にご提供いただ
 いた情報は、イベント受付管理や各種ご案内（サービ
 ス・イベント等）に利用させていただきます。
LOCATION:オンライン
URL:https://techplay.jp/event/912107?utm_medium=referral&utm_source=ics&utm
 _campaign=ics
END:VEVENT
END:VCALENDAR
