BEGIN:VCALENDAR
VERSION:2.0
PRODID:-//https://techplay.jp//JP
CALSCALE:GREGORIAN
METHOD:PUBLISH
X-WR-CALDESC:【7/28（金）大阪】クラスメソッドの最新開発
 ノウハウを学ぶ勉強会 in 大阪 モバイルアプリ開発編
X-WR-CALNAME:【7/28（金）大阪】クラスメソッドの最新開発
 ノウハウを学ぶ勉強会 in 大阪 モバイルアプリ開発編
X-WR-TIMEZONE:Asia/Tokyo
BEGIN:VTIMEZONE
TZID:Asia/Tokyo
BEGIN:STANDARD
DTSTART:19700101T000000
TZOFFSETFROM:+0900
TZOFFSETTO:+0900
TZNAME:JST
END:STANDARD
END:VTIMEZONE
BEGIN:VEVENT
UID:912560@techplay.jp
SUMMARY:【7/28（金）大阪】クラスメソッドの最新開発ノウ
 ハウを学ぶ勉強会 in 大阪 モバイルアプリ開発編
DTSTART;TZID=Asia/Tokyo:20230728T190000
DTEND;TZID=Asia/Tokyo:20230728T210000
DTSTAMP:20260422T052313Z
CREATED:20230714T063405Z
DESCRIPTION:イベント詳細はこちら\nhttps://techplay.jp/event/91256
 0?utm_medium=referral&utm_source=ics&utm_campaign=ics\n\nイベント概
 要\nクラスメソッドは、2022年のAWS Partner Awardsにおいて
 、AWSのグローバル最優秀SIパートナー「SI Partner of the Ye
 ar - GLOBAL」に選出されました。クラスメソッドのCX事業
 本部では、受託開発の全フェーズを担当し、日々様々
 な分野のプロフェッショナルがチームで顧客と業務を
 進めています。\n\nプロジェクトマネジメント、スクラ
 ムを中心としたアジャイル開発推進\nUI/UXを中心とした
 デザイン設計・実装\nWebやネイティブアプリに対応し
 たフロントエンドの設計・構築\nコンテナやサーバー
 レスを中心としたモダン開発\nAWSを中心としたクラウ
 ドインフラの設計・構築\nオフショアとのパートナー
 シップによるモダンオフショア開発\n\nこの勉強会では
 、それらノウハウの全てを参加者の皆さんに提供する
 ことで、今の受託開発に求められるスキルや考え方に
 触れてもらうきっかけになればと思い企画しました。
 勉強会の後には社員との懇親会もあるので、是非、直
 接会場に足を運んで頂き、クラスメソッドの現場マネ
 ージャーやエンジニアと交流しながら、日々の開発業
 務における悩みなど相談いただければ幸いです。\n勉
 強会のテーマ\n今回はモバイルアプリ開発がテーマで
 す。様々な企業のモバイルアプリ開発に携わったiOSア
 プリエンジニアが、これまでの経験で得た知見を余す
 ことなく語ります！\nこんな方が対象です\n\nモバイル
 アプリエンジニアの人\nモバイルアプリの技術や開発
 に興味のある人\n最近のモバイルアプリの開発事情に
 ついて知りたい人\n最近の開発事情について弊社エン
 ジニアとあれこれ話してみたい人\n\n開催概要\n\n\n\n開
 催日時\n2023年7月28日（金）19:00〜21:00（受付開始18:30）\
 n\n\n\n\n募集締切日\n2023年7月28日（金）12時まで※定員
 に達した場合、早めに締め切る場合があります\n\n\n会
 場\nクラスメソッド株式会社　大阪オフィス\n\n\n定員\n
 10名（先着順）\n\n\n\n\n\n\n\n◆大阪オフィス◆\nクラス
 メソッド大阪オフィス\n〒550-0002 大阪府大阪市西区江
 戸堀1丁目9番1号 肥後橋センタービル10階\n（※会場は 1
 0階のオフィスになります）\n◆最寄交通機関からの経
 路◆\n\n四つ橋線 肥後橋駅 7番出口 徒歩1分\n御堂筋線 
 淀屋橋駅 12番出口 徒歩5分\n\nコンテンツとタイムテー
 ブル\n※各セッションは飲み物と軽食をとりながらの
 ビアバッシュ形式で行います。\n\n\n\n#\n時間\nセッショ
 ンタイトル\nスピーカー\n\n\n\n\n-\n19:00-19:05\nCX事業本部
 の紹介\n\n\n\n1\n19:05-19:25\nデザイナーが語るモバイルア
 プリ開発\nisoda\n\n\n2\n19:25-19:45\niOS 17を待ちきれない方
 の為の現行OSでのウェジェットインタラクティブ術\nリ
 ルオッサ\n\n\n3\n19:45-20:05\n実際にFlutterを使ってプロダ
 クトを作ってみた\n山田良\n\n\n\n20:05-20:10\nクロージン
 グ\n\n\n\n-\n20:10-21:00\n懇親会（クラスメソッド大阪オフ
 ィスにて自由参加）\n\n\n\n\nデザイナーが語るモバイル
 アプリ開発\nデザイナー歴はそこそこ、モバイルアプ
 リのデザインは２年程の私が、他のデザインとの違い
 やモバイルアプリのデザイナーとして気をつけている
 ことなどをお話しします。最近はスクラム開発案件に
 も携わったので、スクラムでのデザイナーの携わり方
 についてもご紹介したいです。\nisoda\n\n\nブログ\n　- ht
 tps://dev.classmethod.jp/author/iso/\nCX事業本部Delivery部デザイ
 ンチーム\n勉強会運営やってます\n\niOS 17を待ちきれな
 い方の為の現行OSでのウェジェットインタラクティブ
 術\niOS 17からWidget上でインタラクティブな動作を実現
 できるようになりました。インタラクティブ機能の登
 場の嬉しい気持ちと同様にiOS 17からしか使えない悲し
 い気持ちになった皆様、「安心してください」。私が
 現行OSでもウィジェットをインタラクティブに動作さ
 せる秘技をお教えします。\nリルオッサ\n\n\nブログ\nhtt
 ps://dev.classmethod.jp/author/littleossa/\n\n\nTwitter\nhttps://twitter.
 com/littleossa\n\n\nCX事業本部Delivery部フロントエンドチー
 ム\nWidgetの可能性に心を躍らせましょう\n\n実際にFlutter
 を使ってプロダクトを作ってみた\nFlutterを実務で使っ
 てみたので、iOSアプリエンジニアからの目線で、良か
 ったところハマったところ課題などを紹介します。Flut
 terに興味があって、実際に仕事で使ってみたい人は良
 かったら聞いてみてください。\n山田良\n\n\nブログ\nhtt
 ps://dev.classmethod.jp/author/yamada-ryo/\n\n\nCX事業本部Delivery部
 \nねこはかわいい\n\n参加にあたっての諸注意\n\nエージ
 ェントの方や営業目的でのイベントの参加はご遠慮く
 ださい。\n性別/性的指向/障碍の有無/人種/宗教/年齢/
 容姿/体格/技術の選択に関わりなく、 誰もが気持ちよ
 く参加できるようにご協力ください。\n当イベントの
 内容およびスケジュールは、予告なく変更となる場合
 があります。予めご了承ください。\nイベント参加時
 に入力いただいた情報は、以下に基づき扱います。\n
 クラスメソッド 個人情報保護方針\n\n\n\n会場に関する
 諸注意\n入場について\nPM6:30以降は、肥後橋センタービ
 ルの玄関が閉まります。\nお手数ですが、階段で地下1F
 食堂街に降り、エレベーターで【10F】までお越しくだ
 さい。\n電源・Wi-Fi\n電源は会場都合によりご提供でき
 ません。ご了承ください。Wi-Fiは当日ご案内いたしま
 す。\n喫煙\n館内は禁煙です。喫煙スペースに関しては
 、当日にご案内いたします。\nその他\n立ち入り禁止区
 域への立ち入りはご遠慮願います。
LOCATION:クラスメソッド株式会社大阪オフィス 大阪府大
 阪市西区江戸堀１丁目９−１(肥後橋センタービル10階)
URL:https://techplay.jp/event/912560?utm_medium=referral&utm_source=ics&utm
 _campaign=ics
END:VEVENT
END:VCALENDAR
