BEGIN:VCALENDAR
VERSION:2.0
PRODID:-//https://techplay.jp//JP
CALSCALE:GREGORIAN
METHOD:PUBLISH
X-WR-CALDESC:SHIFT 89祭2023 『ITで飛び立とう、次なる世界へ
 』
X-WR-CALNAME:SHIFT 89祭2023 『ITで飛び立とう、次なる世界へ
 』
X-WR-TIMEZONE:Asia/Tokyo
BEGIN:VTIMEZONE
TZID:Asia/Tokyo
BEGIN:STANDARD
DTSTART:19700101T000000
TZOFFSETFROM:+0900
TZOFFSETTO:+0900
TZNAME:JST
END:STANDARD
END:VTIMEZONE
BEGIN:VEVENT
UID:912826@techplay.jp
SUMMARY:SHIFT 89祭2023 『ITで飛び立とう、次なる世界へ』
DTSTART;TZID=Asia/Tokyo:20230809T100000
DTEND;TZID=Asia/Tokyo:20230809T192000
DTSTAMP:20260424T054338Z
CREATED:20230718T011408Z
DESCRIPTION:イベント詳細はこちら\nhttps://techplay.jp/event/91282
 6?utm_medium=referral&utm_source=ics&utm_campaign=ics\n\n━━━━━
 ━━━━━━━━━━━━━━━━━━━━━━━━
 ━━━━━━━━━━━多種多様な業界の事例から学
 ぶDXカンファレンス「89（バグ）祭」　主催：株式会社
 SHIFT━━━━━━━━━━━━━━━━━━━━━━
 ━━━━━━━━━━━━━━━━━━SHIFTグループ
 ではこのたび、毎年恒例の自社主催イベント「89（バ
 グ）祭」を開催いたします。\n多種多様な企業様にご
 登壇いただき、ここでしか聞けないサービス開発プロ
 ジェクトの成功事例／失敗事例から「品質」「ビジネ
 ス」を軸とした各種取り組みまで、新たなノウハウや
 学びが得られるセッションを、登壇企業様と共にご紹
 介させて頂きます。\nチェックいただきたい6つのポイ
 ントは以下です。\nPOINT 01：ビジネスを変革するDX・デ
 ジタル戦略POINT 02：上流工程～下流工程まで一気通関
 の品質保証POINT 03：顧客視点の体験価値を最大化するUI
 /UIPOINT 04：あらゆる脅威から企業だけでなく国をも守
 るセキュリティ対策POINT 05：事業を加速させるバック
 オフィスDXPOINT 06：IT人材不足にアプローチする採用・
 育成\n皆さまのこれからの事業活動においてお役に立
 てる情報としてご活用いただければと存じます。ご参
 加お待ちしております。\n見どころ\n１．普段知る機会
 の少ない他業界や他社でのリアルな成功／失敗事例を
 もとに展開するセッション２．市場環境が変化するな
 か、各業界をリードする企業のノウハウが集結３．IT
 に関わるさまざまな領域を支援するSHIFTグループの活
 用法をご紹介\n開催概要\n■日時：2023年8月9日（水）10:
 00～19:20■会場：オンライン■参加費：無料※競合他社
 様のご参加はお断りさせていただきます。\n登壇企業
 ・団体（予定）\n株式会社ジェーシービー、エムスリ
 ー株式会社、日本電気株式会社、パーク２４株式会社
 、特定非営利活動法人 Digital Government Labs、株式会社エ
 ナリス、Tricentis、防衛技術協会、株式会社セールスフ
 ォース・ジャパン、la belle vie株式会社、株式会社ぐる
 なび、株式会社ポーラ・オルビスホールディングス、
 グリー株式会社、デジタル庁、ほかSHIFTグループ\n※順
 不同※ご登壇企業は現時点での情報であり、変更が生
 じる可能性があります。\n89祭とは\nソフトウェアの品
 質保証・テストの専門企業であるSHIFTが、「ソフトウ
 ェアバグの日」として8月9日を一般社団法人 日本記念
 日協会に記念日登録し、その日に合わせて2017年から毎
 年開催している、お客様感謝祭です。イベントには、
 「安心安全なソフトウェア製品で溢れるスマート世界
 が現実となるように」という想いが込められています
 。\n\n個人情報保護方針について\n個人情報保護方針に
 ついて当社は、ご入力いただいた個人情報を、以下の
 目的で株式会社SHIFT及びSHIFTグループ企業で共同利用す
 ることがあります。・本セミナーの運営・お問合せへ
 の対応・製品・サービスに関するご案内\n個人情報の
 取り扱いについてはこちらをご参照いただき、同意の
 上お申し込みください。株式会社SHIFTプライバシーポ
 リシーはこちら　https://www.shiftinc.jp/privacy/
LOCATION:オンライン
URL:https://techplay.jp/event/912826?utm_medium=referral&utm_source=ics&utm
 _campaign=ics
END:VEVENT
END:VCALENDAR
