BEGIN:VCALENDAR
VERSION:2.0
PRODID:-//https://techplay.jp//JP
CALSCALE:GREGORIAN
METHOD:PUBLISH
X-WR-CALDESC:【主催】7/28(金) 第13回保険分科会
X-WR-CALNAME:【主催】7/28(金) 第13回保険分科会
X-WR-TIMEZONE:Asia/Tokyo
BEGIN:VTIMEZONE
TZID:Asia/Tokyo
BEGIN:STANDARD
DTSTART:19700101T000000
TZOFFSETFROM:+0900
TZOFFSETTO:+0900
TZNAME:JST
END:STANDARD
END:VTIMEZONE
BEGIN:VEVENT
UID:912847@techplay.jp
SUMMARY:【主催】7/28(金) 第13回保険分科会
DTSTART;TZID=Asia/Tokyo:20230728T170000
DTEND;TZID=Asia/Tokyo:20230728T200000
DTSTAMP:20260420T025838Z
CREATED:20230718T041029Z
DESCRIPTION:イベント詳細はこちら\nhttps://techplay.jp/event/91284
 7?utm_medium=referral&utm_source=ics&utm_campaign=ics\n\n\n【主催】7/
 28(金) 第13回保険分科会\n概要\n2023年7月28日（金）17時
 より、第13回保険分科会を開催いたします。\n前回第12
 回分科会では会員企業の皆様と、今後の保険業界の発
 展に向けてFAJとしてどのようなテーマに取り組んでい
 くべきかディスカッションさせていただいたことを受
 け、「保険業界における生成型AIの活用」及び「組込
 み型保険（エンベデッドインシュアランス）」を今年
 度の活動テーマとすることに決定いたしました。\n今
 回第13回分科会では、これら2つのテーマについて今後
 の進め方をご案内するとともに、ゲストとして三井住
 友海上火災保険株式会社様ならびにリードインクス株
 式会社様をお招きし、取組事例のご紹介および、当協
 会理事を交えたパネルディスカッションを予定してお
 ります。\nなお、今回は数年ぶりの対面開催となり、
 終了後には懇親会も予定しております。皆様のご参加
 をお待ちしております。\n【概要】■日時：2023年7月28
 日（金）・入場受付開始：16:30・分科会：17:00～18:30・
 懇親会：18:30～20:00\n■開催形態：対面形式（※）・会
 場：分科会：三井住友海上火災保険 駿河台新館4F 会議
 室懇親会：三井住友海上火災保険 駿河台ビル2F 食堂・
 アクセス：ＪＲ御茶ノ水駅下車　聖橋口より徒歩５分
 地下鉄千代田線　新御茶ノ水駅 B3b出口より徒歩30秒\n
 ■参加費用：無料\n■定員：60名※定員を超過した場合
 は、オンライン（Zoom）でのご参加を案内させていただ
 きます。※今回はご好意で登壇に加えて場所も三井住
 友海上様に手配頂きました。\n■参加お申し込み方法
 ：以下のリンク先の「チケットを申し込む」からお申
 し込み下さい。https://fajinsurance20230728.peatix.com※運営上
 、会場参加チケットはお申込み締切を設けております
 。あらかじめご注意ください。※会場参加チケットお
 申込み締切：7月24日(月) 正午まで\nタイムスケジュー
 ル（予定）\n(1)前回分科会の振り返りと今後の進め方(2
 )三井住友海上火災保険株式会社様ならびにリードイン
 クス株式会社様における取組事例ご紹介(3)パネルディ
 スカッション(4)懇親会\n※ 当日予告なく時間配分・内
 容が変更になる可能性がございます。\n登壇者プロフ
 ィール\n■八星 衛 氏MSK少額短期設立準備株式会社 社
 長三井住友海上にて商品企画、経営企画、人事、法人
 海外現法等の業務に従事。2023年4月18日、MSK少額短期設
 立準備株式会社の代表取締役社長に就任。\n■高島 隆
 輔 氏三井住友海上火災保険株式会社 ビジネスデザイ
 ン部 プラットフォーマーチーム長三井住友海上にて法
 人営業、リテール営業、DX戦略の企画、立案に従事。20
 23年4月、プラットフォーマーチームの設立に伴い、チ
 ーム長に就任。\n■桑田 修平 氏三井住友海上火災保険
 株式会社 ビジネスデザイン部 データサイエンスチー
 ム 課長2003年 (株)NTTデータ入社。日本電信電話(株)NTTコ
 ミュニケーション科学基礎研究所、(株)NTTドコモ等を
 経て、2021年2月 三井住友海上(株)入社。データ分析ア
 ルゴリズムに関する基礎研究、データ分析システムの
 設計・開発、機械学習技術のマーケティング応用やマ
 ーケテイングオートメーションシステムの全社導入等
 、データ分析・活用に関わる様々な業務に従事。現在
 は生成AIの社内活用推進を担当。一般社団法人データ
 活用推進協会標準化委員会検討委員。博士（工学）。\
 n■柏岡 潤 氏リードインクス株式会社 代表取締役社長
  兼 CEO　2006年にソフトバンクに入社後、法人/個人向け
 セールスに従事。2017年に新設されたデジタルトランス
 フォーメーション本部に異動後、新規事業開発に従事
 。2018年よりグループ内でInsuretechを活用した事業展開
 に従事。現在はFintech事業推進の部長及びリードインク
 ス社の代表取締役社長 兼 CEOを務める。\n■李 暢一般
 社団法人Fintech協会 理事／Plug and Play Japan株式会社 Direct
 or\, Fintech/Insurtech立命館アジア太平洋大学国際経営学部
 卒後、明治安田生命で資産運用、クロースボーダーM&A(
 ニューヨーク)、事業費管理業務を経験。その後香港大
 学(コロンビアビジネススクールコース)MBA在学中Insurtec
 hスタートアップSureifyの日本進出をサポート。2018年12
 月にPlug and Play Japanに入社後、黎明期である日本国内の
 InsurTechエコシステム構築に貢献してきた。また、Asia In
 surance Review、日経トレンディー、The Financeなど国内外の
 メディアに寄稿を幅広くこなし、グローバルにわたるI
 nsurTech・保険関連のイベントを数多く企画、登壇した
 。2022年よりFemtech Community Japanの理事を就任。\n■三輪 
 純平一般社団法人Fintech協会 理事／株式会社リクルー
 ト プロダクト統括本部シニアエキスパートFintech協会
 理事（web3・保険担当）。金融庁にて、2010年から5年に
 亘り、保険課・国際部門で保険の国内規制・国際基準
 策定に携わる。2011年には IAISソルベンシー小委員会副
 議長に就任し、国際資本規制の議論に関与。その後、
 国際政策管理官、フィンテック室長などを歴任。現在
 、(株)リクルートにて SaaS事業を行う傍ら、㈱justInCase
 社外取締役、東京工業大学リベラルアーツ研究教育院
 の非常勤講師として「気候変動・生物多様性とサステ 
 ナブルファイナンス」の講義などを担当。\n■岡田 浩
 介一般社団法人Fintech協会 保険分科会 事務局SIer/損害
 保険会社を経てコンサルティングファーム勤務。現在
 は保険企業向けに新事業創出、業務改革/システム刷新
 、ガバナンス構築などを手掛ける。2019年度からFintech
 協会保険分科会の事務局として、活動の企画推進に従
 事。保険APIに向けた提言書、標準化向けの活動を推進
 。Insurtech、保険会社などに係るイベントにも登壇経験
 あり。\n参加費\n無料\nお願い\n※内容は当日までに変
 更になる可能性がございます、あらかじめご了承くだ
 さい。※お申込時入力頂いた内容は登壇者へ共有させ
 て頂く場合がございます。※Fintech協会の許諾のない写
 真・動画撮影や録音はお控えください。※開催記録と
 して写真撮影を行い、広報のためホームページ等に掲
 載するほか、各メディア等で使用させていただく可能
 性がございますことをご了承ください。※本イベント
 開催趣旨に沿わない方のご参加は、事務局の判断によ
 りお断りする場合がございます。※現地会場での開催
 を予定しておりますが、開催方法が変更になる場合が
 ございます。※ご自身の体調管理に十分にご留意いた
 だき、体調がすぐれない方はご来場をお控え ください
 。※当日は、検温・アルコール消毒へのご配慮をお願
 いいたします。※厚生労働省からの案内に記載ありま
 すとおり、令和5年3月13日以降のマスク着用の考え方に
 ついて、ご参加いただいた皆さまの意思に反してマス
 クの着脱を強いることがないよう、個人の主体的な判
 断が尊重されるよう、ご配慮をお願いします。\n■ご
 質問などある方は当協会HPのお問い合わせよりご連絡
 ください。https://fintechjapan.org/contact/\n何卒よろしくお
 願い申し上げます。Fintech協会事務局
LOCATION:三井住友海上火災保険 駿河台新館4F 会議室 東京
 都千代田区神田駿河台　３－１１－１
URL:https://techplay.jp/event/912847?utm_medium=referral&utm_source=ics&utm
 _campaign=ics
END:VEVENT
END:VCALENDAR
