BEGIN:VCALENDAR
VERSION:2.0
PRODID:-//https://techplay.jp//JP
CALSCALE:GREGORIAN
METHOD:PUBLISH
X-WR-CALDESC:Webサイトリニューアルプロジェクトにおける
 つまずきポイント(トークセッション形式)
X-WR-CALNAME:Webサイトリニューアルプロジェクトにおける
 つまずきポイント(トークセッション形式)
X-WR-TIMEZONE:Asia/Tokyo
BEGIN:VTIMEZONE
TZID:Asia/Tokyo
BEGIN:STANDARD
DTSTART:19700101T000000
TZOFFSETFROM:+0900
TZOFFSETTO:+0900
TZNAME:JST
END:STANDARD
END:VTIMEZONE
BEGIN:VEVENT
UID:913172@techplay.jp
SUMMARY:Webサイトリニューアルプロジェクトにおけるつま
 ずきポイント(トークセッション形式)
DTSTART;TZID=Asia/Tokyo:20230727T110000
DTEND;TZID=Asia/Tokyo:20230727T120000
DTSTAMP:20260420T185822Z
CREATED:20230720T023311Z
DESCRIPTION:イベント詳細はこちら\nhttps://techplay.jp/event/91317
 2?utm_medium=referral&utm_source=ics&utm_campaign=ics\n\n概要\nWebサ
 イトリニューアルをスムーズに進めるために\n当社でWe
 bサイト制作を行った企業や団体のご担当者様の中には
 、Webサイトのリニューアルプロジェクトに初めて携わ
 るという方も多くいらっしゃいます。今や情報発信ツ
 ールとして活用されているWebサイトではありますが、W
 ebサイトリニューアルプロジェクトとなると、そうそ
 う体験しないことなのかもしれません。そのため、Web
 サイトリニューアルを担当される方の中には、「どう
 すればリニューアルがスムーズに進むのだろう？」「
 実際のリニューアルで上手くいかなかったポイントは
 あるの？」など、事前に知っておきたい方もいらっし
 ゃると思います。実際、ささいなことがきっかけでは
 あったものの、プロジェクトに大きな影響を与えてし
 まうこともあるため、事前につまずきポイントを知っ
 ておくことで、リスクを防ぐことが大切です。今回の
 セミナーでは数々のリニューアルに携わってきたディ
 レクターの向井と営業の村岡より、Webサイトのリニュ
 ーアルプロジェクトで、これまで実際にあったつまず
 きポイントをトークセッション形式でご紹介いたしま
 す。また、つまずきポイントからの対処法についても
 ご案内しますので、リニューアルにおけるポイントに
 ついて知りたい方は、ぜひご参加ください。\n◆こん
 な方におすすめ\n\nWebサイトのリニューアルを予定、ま
 たは検討している方\nWebサイトのリニューアルの進め
 方が分からず、悩んでいる方\nWebリニューアルを進め
 る際の注意点を知りたい方\n\nタイムスケジュール\n\n\n
 \n時間\n内容\n\n\n\n\n11:00〜11:05\nオープニング\n\n\n11:05〜
 11:55\n株式会社インフォネット　メディアプロデュース
 部　村岡 祐輔／ クリエイティブ部　向井 智美Webサイ
 トリニューアルプロジェクトにおけるつまずきポイン
 ト1. 社内ステークホルダー2. オプション3. 現状把握4. 
 予算\n\n\n11:55〜12:00\n質疑応答\n\n\n\n※ 当日予告なく登
 壇者・時間配分・内容が変更になる可能性がございま
 す。\n登壇者\n\n村岡 祐輔\n株式会社インフォネット　
 メディアプロデュース部\n大学卒業後、大手ハウスメ
 ーカーにて個人営業を経験したのち、中古車情報運営
 企業において、Webや紙媒体の広告企画の法人営業に従
 事。2021年、インフォネットへ入社。\nインフォネット
 では主に関西の法人企業に対し、Webサイトの企画・提
 案営業に従事している。「成果創出」の理念のもと、
 顧客のWebサイトの「あるべき姿」を想定し、本質的な
 課題を解決することを信条としている。\n\n\n向井 智美
 \n株式会社インフォネット　クリエイティブ部　ディ
 レクションユニット\n日本最大級の不動産・住宅情報
 サイト運営会社でプランナー・制作ディレクターを約7
 年経験後、2015年にインフォネットへ入社。これまで130
 社以上のサイトリニューアルに携わる。お客様のご要
 望をお伺しつつ、更新性・運用性を考慮したサイト制
 作を心掛けています。\n\nこんな方におすすめ\n\nWebサ
 イトのリニューアルを予定、または検討している方\nWe
 bサイトのリニューアルの進め方が分からず、悩んでい
 る方\nWebリニューアルを進める際の注意点を知りたい
 方\n\n参加費\n無料\n注意事項\n\n同業他社の方の参加は
 お断りする場合がございます。\nリクルーティング、
 勧誘など、採用目的でのイベント参加はお断りしてお
 ります。\nキャンセル待ち・補欠・落選の方はご参加
 いただくことが出来ませんのでご了承ください。\n欠
 席される場合は、お手数ですが速やかにキャンセル処
 理をお願い致します。\n無断キャンセルや欠席が続く
 場合、次回以降の参加をお断りさせていただく場合が
 ございます。\n
LOCATION:オンライン
URL:https://techplay.jp/event/913172?utm_medium=referral&utm_source=ics&utm
 _campaign=ics
END:VEVENT
END:VCALENDAR
