BEGIN:VCALENDAR
VERSION:2.0
PRODID:-//https://techplay.jp//JP
CALSCALE:GREGORIAN
METHOD:PUBLISH
X-WR-CALDESC:◆パートナープログラム検討中の企業様向け
 ◆契約が決まりやすい！LINEをネットショップに変える
 Atouchのパートナー募集セミナー
X-WR-CALNAME:◆パートナープログラム検討中の企業様向け
 ◆契約が決まりやすい！LINEをネットショップに変える
 Atouchのパートナー募集セミナー
X-WR-TIMEZONE:Asia/Tokyo
BEGIN:VTIMEZONE
TZID:Asia/Tokyo
BEGIN:STANDARD
DTSTART:19700101T000000
TZOFFSETFROM:+0900
TZOFFSETTO:+0900
TZNAME:JST
END:STANDARD
END:VTIMEZONE
BEGIN:VEVENT
UID:913380@techplay.jp
SUMMARY:◆パートナープログラム検討中の企業様向け◆契
 約が決まりやすい！LINEをネットショップに変えるAtouch
 のパートナー募集セミナー
DTSTART;TZID=Asia/Tokyo:20230802T140000
DTEND;TZID=Asia/Tokyo:20230802T150000
DTSTAMP:20260421T115636Z
CREATED:20230721T065635Z
DESCRIPTION:イベント詳細はこちら\nhttps://techplay.jp/event/91338
 0?utm_medium=referral&utm_source=ics&utm_campaign=ics\n\n今や1商品で
 100億円以上の売上をあげる可能性があるEC業界。ただ
 し、ここで成果を上げることは予想以上に難しく、ほ
 とんどの企業がある壁にぶつかることになります。そ
 れが「カゴ落ち」です。\n●ECの大きな課題「カゴ落ち
 」に終止符を！多くのEC事業者が、LP、キャッチコピー
 、商品の表現など、試行錯誤して「買い物客の購買欲
 求」を刺激します。しかし従来のカートは顧客からす
 ると非常に使いづらく\n\n「購入しよう！」と思ってか
 ら80%の顧客が離脱（カゴ落ち）\nカゴ落ちで売上の2倍
 前後の機会損失が発生\n\nと言われています。\n●「カ
 ゴ落ち」の根本解決が可能なサービスが登場ですが実
 は、商品選択からスルリと購入完了まで到達してしま
 うサービスがあるのです。それはLINE購買サービス『Ato
 uch』。Atouchは「カゴ落ち」を大きく減らし、ECの売上
 を大きく引き上げることを可能にします。\n●「契約
 が決まりやすい」Atouch販売パートナーを募集中そんな
 、カゴ落ち回避、売上アップ、の新兵器とも言える「A
 touch」はただ今、販売パートナーを募集中です。販売
 パートナーになれば、売り上げに応じてストック収益
 が得られます。\n今Atouch販売パートナーになれば…「
 導入費用0円」「月額料金、手数料が安い」「EC業界の
 中でも目新しい」「LINEという全日本人に浸透している
 ツールでネットショップができる」など大きな利点が
 多くあるため、契約が決まりやすいことが予想できま
 す。\n本セミナーでは最新の市場動向を踏まえ、クラ
 イアント様とパートナー様のwinwinにつながる弊社サー
 ビスについて、詳しくお話させていただきます。\n◆
 こんな方におススメ◆\n\n売上アップの方法をクライア
 ントへ提案したい\n最新のLINE×D2C事情を知りたい\n有効
 的なCRM施策を知りたい\n\n※個人事業主さまはお申込み
 いただけません。ご了承ください。\n●「Atouch」とは
 ？？Atouchとは、LINEのトーク画面で商品を選んでそのま
 ま決済まで完了！ そんな便利なネットショップをLINE
 で誰でも簡単に開設できる画期的なサービスです。 「
 操作がカンタン」「気軽に質問ができる」「2回目以降
 のログイン不要」 など、お客様にとって圧倒的に使い
 やすい特徴をもつサービスです。 そのためリリースし
 てすぐに100社以上に導入され、今EC業界を賑わせてい
 ます。 会費などのサブスクリプションの費用回収も可
 能になりました！\n開催概要\n\n開催日時　8月2日（水
 ）　14:00～15:00\n開催場所　オンライン（Zoom）\n登壇者
 　IRISデータラボ株式会社　執行役員　赤﨑良一\n\nLINE 
 APIツール「Atouch」とは\nLINE公式アカウントで簡単にネ
 ットショップが開設できるサービスです。\n手間がか
 かる初期設定や面倒な運用業務は不要。\n特別な知識
 やスキルがなくても、直観的な操作で自分だけのオリ
 ジナルECショップがお手軽に開設できます。\nhttps://atou
 ch.jp/\nIRISデータラボ株式会社\n所在地　　：東京都港
 区南青山2-7-30 ムラハンビル1階設立　　　：2019年3月5
 日代表取締役：安達教顕\n■個人情報の取り扱いにつ
 いてhttps://iris-corp.co.jp/privacypolicy/
LOCATION:オンライン（Zoom）
URL:https://techplay.jp/event/913380?utm_medium=referral&utm_source=ics&utm
 _campaign=ics
END:VEVENT
END:VCALENDAR
