BEGIN:VCALENDAR
VERSION:2.0
PRODID:-//https://techplay.jp//JP
CALSCALE:GREGORIAN
METHOD:PUBLISH
X-WR-CALDESC:7/31(月)無料オンラインセミナー【OpenAI Whisper AP
 I活用事例】議事録の自動作成と、ミスコミュニケーシ
 ョンの自動発見
X-WR-CALNAME:7/31(月)無料オンラインセミナー【OpenAI Whisper AP
 I活用事例】議事録の自動作成と、ミスコミュニケーシ
 ョンの自動発見
X-WR-TIMEZONE:Asia/Tokyo
BEGIN:VTIMEZONE
TZID:Asia/Tokyo
BEGIN:STANDARD
DTSTART:19700101T000000
TZOFFSETFROM:+0900
TZOFFSETTO:+0900
TZNAME:JST
END:STANDARD
END:VTIMEZONE
BEGIN:VEVENT
UID:913538@techplay.jp
SUMMARY:7/31(月)無料オンラインセミナー【OpenAI Whisper API活
 用事例】議事録の自動作成と、ミスコミュニケーショ
 ンの自動発見
DTSTART;TZID=Asia/Tokyo:20230731T180000
DTEND;TZID=Asia/Tokyo:20230731T190000
DTSTAMP:20260421T051457Z
CREATED:20230724T014156Z
DESCRIPTION:イベント詳細はこちら\nhttps://techplay.jp/event/91353
 8?utm_medium=referral&utm_source=ics&utm_campaign=ics\n\n【OpenAI Whispe
 r API活用事例】議事録の自動作成と、ミスコミュニケ
 ーションの自動発見\n概要\n株式会社SHIFTのベトナムオ
 フショア拠点であるSHIFT ASIAでは、AIに関するR&Dを積極
 的に実施しています。本ウェビナーでは、SHIFT ASIAの開
 発責任者であり、AIのR&Dの責任者でもあるPETERから、今
 回のR&Dの概要から結果、そのなかで得られた知見など
 についてご紹介をいたします。※PETERは日本語話者で
 、日本語での開催となりますのでご安心ください\n今
 回ご紹介するのは、OpenAIのWhisper APIとGoogle Cloud Speech-to-
 Text APIを活用した、ミーティングなどの議事録の自動
 作成と、そこからミスコミュニケーションを自動発見
 するための研究開発事例です。\nWhisper APIとGoogle Cloud Sp
 eech-to-Text APIにはそれぞれ得意とする部分と苦手とする
 部分があり、それらをうまく組み合わせることで精度
 の高い自動文字起こしや、そこからのミスコミュニケ
 ーションの検出が可能となります。\nGPTや大規模言語
 モデル（LLM）、Whisper API、Google Speech APIの活用方法や活
 用事例についてご興味のある方は、ぜひご参加くださ
 い。\n発表者\n\nPETER Nguyen\nDevelopment Dev. Director\n国費留
 学生として東京工業大学や東京大学に留学し、機械学
 習におけるビッグデータの分散処理などを研究。\n留
 学後、米国のセキュリティ会社にてアンチスパムのア
 ルゴリズム開発に従事し、2016年にエンジニア第1号と
 してSHIFT ASIAに参画。開発部門の総責任者として最新技
 術の導入や技術力の強化、人材育成などに注力してい
 る。\n\n司会\n\n鈴木 竜人\nSHIFT ASIA QA/Sales Div Manager\n医
 療系会計システムの開発・導入・運用保守を経験後、2
 015年に株式会社SHIFTに入社し、テストPMやテストコンサ
 ルを務める。\n2020年からSHIFT ASIAの推進に関わり、2023
 年から本格的にSHIFT ASIAに参画。セールスやテスト案件
 のマネージャー等を幅広く担当。\n\n開催概要\n【日時
 】2023年7月31日（月）18:00-19:00【会場】オンライン開催
 （Zoom）【参加費】無料\nこんな方におすすめ\n\nAIの開
 発や活用に興味・関心がある方\nGPTや大規模言語モデ
 ル（LLM）の開発や活用に興味・関心がある方\nWhisper API
 やGoogle Speech APIの活用に興味・関心がある方\nオフショ
 ア開発に興味・関心がある方\n\n当日のアジェンダ\n\nAI
 による自然言語処理の現状の紹介（自然言語処理にお
 けるGPTとはどういうものか、など）\nLLM（大規模言語
 モデル）をサービスに取り入れるためのチャレンジ\nSH
 IFT ASIAの研究開発事例の紹介\n研究開発を通じて得られ
 た知見（苦労・工夫した点など）　ほか\n\n注意事項\n\
 nイベント時に、誹謗中傷・悪質な書き込み・不正操作
 の試行などの類は行わないようお願いいたします。\n
 リクルーティング、勧誘など、採用目的でのイベント
 参加はお断りしております。\n欠席される場合は、お
 手数ですが速やかにキャンセル処理をお願いいたしま
 す。\n\n会社概要\n社名：SHIFT ASIA CO.\, LTD.URL：https://shift
 asia.com/ja設立：2016年5月代表者：CEO　伊藤 隆介事業内
 容：ソフトウェアテスト・ソフトウェア開発\nお問い
 合わせ先\n担当：Business Development Div. 木村Email：csteam@shi
 ftasia.com
LOCATION:オンライン（ZOOM）
URL:https://techplay.jp/event/913538?utm_medium=referral&utm_source=ics&utm
 _campaign=ics
END:VEVENT
END:VCALENDAR
