BEGIN:VCALENDAR
VERSION:2.0
PRODID:-//https://techplay.jp//JP
CALSCALE:GREGORIAN
METHOD:PUBLISH
X-WR-CALDESC:【8/10開催】G検定/DS検定のネクストステップ 
 　AIエンジニアリングを学ぶメリットと学習方法
X-WR-CALNAME:【8/10開催】G検定/DS検定のネクストステップ 
 　AIエンジニアリングを学ぶメリットと学習方法
X-WR-TIMEZONE:Asia/Tokyo
BEGIN:VTIMEZONE
TZID:Asia/Tokyo
BEGIN:STANDARD
DTSTART:19700101T000000
TZOFFSETFROM:+0900
TZOFFSETTO:+0900
TZNAME:JST
END:STANDARD
END:VTIMEZONE
BEGIN:VEVENT
UID:913741@techplay.jp
SUMMARY:【8/10開催】G検定/DS検定のネクストステップ 　AI
 エンジニアリングを学ぶメリットと学習方法
DTSTART;TZID=Asia/Tokyo:20230810T190000
DTEND;TZID=Asia/Tokyo:20230810T200000
DTSTAMP:20260421T092723Z
CREATED:20230725T062954Z
DESCRIPTION:イベント詳細はこちら\nhttps://techplay.jp/event/91374
 1?utm_medium=referral&utm_source=ics&utm_campaign=ics\n\n概要\n本セ
 ミナーでは、G検定/DS検定などのリテラシーレベルのネ
 クストステップとして、AIエンジニアリングをゼロか
 ら学べる学習講座と学習方法・スケジュールをご紹介
 します。\n自己研鑽、キャリアアップのために、AIエン
 ジニアリングを学びたい方は、ぜひ本セミナーにご参
 加のうえ、学習すべき項目や学習講座についてお聞き
 ください。\n＜こんな方におすすめ＞\n\nG検定/DS検定な
 どのリテラシーレベルのネクストステップを探してい
 る\nAIエンジニアリングを学びたいが、どこから始めて
 良いか分からない方\nPythonプログラミングや数理統計
 スキルからキャッチアップしたい方\nAVILENのオンライ
 ン学習講座に興味のある方\n\n開催情報\n\n日程：2023年8
 月10日（木）19:00〜 20:00\n会場：Zoomウェビナー（オンラ
 イン）\n参加費：無料\n主催：株式会社AVILEN\n\n注意事
 項\n\n競合製品をお取り扱いされている企業様はご参加
 をお断りする場合がございます。\nその他、主催者の
 判断で参加に相応しくない方は、参加をお断りする場
 合がございますので何卒ご了承ください。\nセミナー
 へお申し込みいただいた方へは、後日参加方法を記載
 したメールをお送り致しますので、1社から複数名様ご
 参加頂く場合でも1名様ずつお申込みください。\n\n株
 式会社AVILEN\nAVILENは「最新のテクノロジーを、多くの
 人へ」をビジョンに掲げ、より多くの人々が最先端の
 テクノロジーを理解・活用できる豊かな社会の実現を
 目指すスタートアップ企業です。現在、AI人材育成事
 業・AI開発事業の2つを軸に、顧客のビジネス課題解決
 に向けてAIのトータルソリューションを提供していま
 す。
LOCATION:オンライン
URL:https://techplay.jp/event/913741?utm_medium=referral&utm_source=ics&utm
 _campaign=ics
END:VEVENT
END:VCALENDAR
