BEGIN:VCALENDAR
VERSION:2.0
PRODID:-//https://techplay.jp//JP
CALSCALE:GREGORIAN
METHOD:PUBLISH
X-WR-CALDESC:第 1 回メタバース展示会 & メタバース・クロ
 スオーバーライブ ～メタバースで、アピールしちゃい
 ます。～
X-WR-CALNAME:第 1 回メタバース展示会 & メタバース・クロ
 スオーバーライブ ～メタバースで、アピールしちゃい
 ます。～
X-WR-TIMEZONE:Asia/Tokyo
BEGIN:VTIMEZONE
TZID:Asia/Tokyo
BEGIN:STANDARD
DTSTART:19700101T000000
TZOFFSETFROM:+0900
TZOFFSETTO:+0900
TZNAME:JST
END:STANDARD
END:VTIMEZONE
BEGIN:VEVENT
UID:913943@techplay.jp
SUMMARY:第 1 回メタバース展示会 & メタバース・クロスオ
 ーバーライブ ～メタバースで、アピールしちゃいます
 。～
DTSTART;TZID=Asia/Tokyo:20231214T100000
DTEND;TZID=Asia/Tokyo:20231215T180000
DTSTAMP:20260426T021123Z
CREATED:20230726T074020Z
DESCRIPTION:イベント詳細はこちら\nhttps://techplay.jp/event/91394
 3?utm_medium=referral&utm_source=ics&utm_campaign=ics\n\n第 1 回メタ
 バース展示会 & メタバース・クロスオーバーライブ\n
 概要\n株式会社NTT QONOQ（以下、コノキュー）が、提供
 する仮想空間プラットフォーム「DOOR」で、2023年12月14
 ・15日にメタバース展示会&ライブイベントを開催しま
 す。2023年7月26日より出展企業の応募を開始いたしまし
 た。デザインスタジオ　フィールドでは、2008より、米
 国リンデン・ラボの「Second Life」での活動を開始。世
 界的人気の漫画家、士郎正宗氏とコラボショップを「S
 econd Life」内に展開するなど、メタバースで、活動して
 いました。Facebookが2021年10月付で社名を「Facebook」から
 「Meta」へ変更したことをきっかけに、「メタバース」
 が、注目され、実際にサービス・ユーザー数ともに、
 増えています。デザインスタジオ　フィールドでは、
 長年のメタバースの経験を活かし、「メタバース」を
 ビジネスで、有効に使っていただくきっかけとして「
 メタバース展示会」を企画いたしました。アプリ不要
 、ログイン不要、スマホからでもアクセスできる、「
 コノキュー」の仮想空間プラットフォーム、「DOOR」を
 使用しますので、誰でも手軽に参加することができま
 す。------------------------------------------------------第 1 回メ
 タバース展示会 & メタバース・クロスオーバーライブ
 ～メタバースで、アピールしちゃいます。～2023 年 12 
 月 14 日 ( 木 )・15 日 ( 金 ) 開催予定-------------------------
 -----------------------------詳しくは、こちらhttps://ds-field.com
 /metavarse2023/■こんな企業さまにおすすめ■VR・XR 関連
 企業さま・メタバースユーザーは、VR・XR 商品に興味
 があります。・展示会は、どうしても東京開催になる
 ので、地方からの参加が見込めます。■オンライン企
 業説明会に興味のある企業さま・メタバースユーザー
 は、Z 世代の若者が中心であり、中でも IT に強い人材
 にアピールすることができます。・メタバースで、企
 業説明会をする企業は、希少価値が高いため、ブラン
 ディング効果が見込めます。■バーチャルオフィス、
 オンライン展示会等のオンラインツールをお探しの企
 業さま・まさに、メタバースは、バーチャルオフィス
 ・オンライン展示会に最適なツールです。メタバース
 展示会は、実際の展示会に比べ、コストも手間も大幅
 に削減できます。2023年7月26日より出展応募を開始いた
 しました。■ライブ出演者も合わせて応募いたします
 。メタバースアーティストの方、メタバースでの活動
 に興味がある方、奮ってご応募ください。■お問合わ
 せ・お申込み第 1 回メタバース展示会 & メタバース・
 クロスオーバーライブ公式ホームページhttps://ds-field.co
 m/metavarse2023/参考サイト■「DOOR」紹介ページURL　https://
 door.ntt/web/about/index.html■「DOOR」「初めての方へ」URL　h
 ttps://door.ntt/web/tutorial/startguide.html■メタバースセミナ
 ー0609リベンジ「DOOR」https://www.youtube.com/watch?v=nysoMyn_E60
 ■メタバースはオワコンか?「セカンドライフの失敗(
 実は成功)に学ぶ。過去・現在・未来」https://www.youtube.c
 om/watch?v=mX6hrZc_Mgg★DS-Fieldバーチャルオフィス■「DOOR」
 オフィス(PC・スマホ・タブレット可。インストール不
 要)URL　https://s.door.ntt/jjrMsQV――――――――――――
 ――――――――――――――――――――――――
 ――――――――――――――――――――――――
 ――――■DOORについて（https://door.ntt/）コノキューが
 提供する仮想空間プラットフォームで、2023年3月時点
 で累計総アクセス数850万、累計ユーザー数220万人を超
 えました。ブラウザでの簡易アクセス（専用アプリ不
 要）が特徴で、法人・個人問わずご利用いただけます
 。NTTオウンドメディアとしても利用しており、大規模
 イベントの開催や、教育・自治体での活用事例もござ
 います。■株式会社 NTT コノキュー企業概要所在地：
 東京都千代田区永田町2丁目11番1号 山王パークタワー7
 階代表取締役社長：丸山 誠治HP：https://www.nttqonoq.com/202
 2年10月1日より株式会社NTTドコモ100%子会社として事業
 を開始いたしました。個人のお客さま・法人のお客さ
 まに対して、VR（仮想現実）やAR（拡張現実）、MR（複
 合現実）などXRを用いて、メタバース・デジタルツイ
 ン・XRデバイスの3つの事業を柱に、さまざまなサービ
 ス、ソリューションを提供いたします。――――――
 ――――――――――――――――――――――――
 ――――――――――――――――――――――――
 ――――――――――企画運営デザインスタジオ　フ
 ィールド〒534-0016　大阪市都島区友渕町3-7-20Tel&Fax.06-695
 5-9922HP. http://ds-field.com/深見一弘ざいます。
LOCATION:オンライン
URL:https://techplay.jp/event/913943?utm_medium=referral&utm_source=ics&utm
 _campaign=ics
END:VEVENT
END:VCALENDAR
