BEGIN:VCALENDAR
VERSION:2.0
PRODID:-//https://techplay.jp//JP
CALSCALE:GREGORIAN
METHOD:PUBLISH
X-WR-CALDESC:江別AI勉強会 Vol.1
X-WR-CALNAME:江別AI勉強会 Vol.1
X-WR-TIMEZONE:Asia/Tokyo
BEGIN:VTIMEZONE
TZID:Asia/Tokyo
BEGIN:STANDARD
DTSTART:19700101T000000
TZOFFSETFROM:+0900
TZOFFSETTO:+0900
TZNAME:JST
END:STANDARD
END:VTIMEZONE
BEGIN:VEVENT
UID:914263@techplay.jp
SUMMARY:江別AI勉強会 Vol.1
DTSTART;TZID=Asia/Tokyo:20230804T200000
DTEND;TZID=Asia/Tokyo:20230804T210000
DTSTAMP:20260420T080428Z
CREATED:20230728T144355Z
DESCRIPTION:イベント詳細はこちら\nhttps://techplay.jp/event/91426
 3?utm_medium=referral&utm_source=ics&utm_campaign=ics\n\n概要\n江別AI
 勉強会は\n\nビールでも飲みながら、\n楽しく（これ重
 要）、\nAIについてお互いに学びましょう！\n\nな趣旨
 の会です。\n希望者による15分程度の発表 → 質疑応答
 スタイルのため、\n発表は苦手。。。という方も気軽
 に参加いただけます！\n発表テーマの指定は「AI」であ
 ることだけで、\nレベルは簡単でも高度でもよく、発
 表者の自由です。\n当事務所は色々な書籍やレコード
 、ゲームなど充実しており、発表が終わったらそのま
 ま自由気ままにくつろげますw\n詳細\n\n参加費：無料\n
 飲み物、食べ物：持参（お酒OK）\n場所　：合同会社ギ
 ミックファクトリーのオフィス\n駐車場：あり（4台ほ
 ど停められます）\n\n発表内容（予定）\n\n機密情報で
 も大丈夫！最先端の音声認識技術を手元で試してみた
 （やまだ）\n飲んで、遊んで、生成して 〜Drink Play Promp
 t〜（さとう）\nLlama.cpp+MetalをM1 Ultraで動かしてみた（
 マイケル）\n\n発表希望者大歓迎です！\n【重要】おい
 しいビールの調達方法\n会場そばにある「地酒のおお
 つ」さんでは、なんと生ビールが購入できます！\n超
 オススメなので、ぜひ来場前にお立ち寄りください。
LOCATION:ギミックファクトリー 北海道江別市一番町24-5
URL:https://techplay.jp/event/914263?utm_medium=referral&utm_source=ics&utm
 _campaign=ics
END:VEVENT
END:VCALENDAR
