BEGIN:VCALENDAR
VERSION:2.0
PRODID:-//https://techplay.jp//JP
CALSCALE:GREGORIAN
METHOD:PUBLISH
X-WR-CALDESC:全10回で学ぶ　PowerPoint基礎（８）～表とグラ
 フの基本操作（２）～
X-WR-CALNAME:全10回で学ぶ　PowerPoint基礎（８）～表とグラ
 フの基本操作（２）～
X-WR-TIMEZONE:Asia/Tokyo
BEGIN:VTIMEZONE
TZID:Asia/Tokyo
BEGIN:STANDARD
DTSTART:19700101T000000
TZOFFSETFROM:+0900
TZOFFSETTO:+0900
TZNAME:JST
END:STANDARD
END:VTIMEZONE
BEGIN:VEVENT
UID:914466@techplay.jp
SUMMARY:全10回で学ぶ　PowerPoint基礎（８）～表とグラフの
 基本操作（２）～
DTSTART;TZID=Asia/Tokyo:20230823T190000
DTEND;TZID=Asia/Tokyo:20230823T200000
DTSTAMP:20260422T174151Z
CREATED:20230731T074448Z
DESCRIPTION:イベント詳細はこちら\nhttps://techplay.jp/event/91446
 6?utm_medium=referral&utm_source=ics&utm_campaign=ics\n\n全10回で学
 ぶ　PowerPoint基礎（８）～表とグラフの基本操作（２）
 ～\nクリーク･アンド･リバー社（C&R社）は８月23日（
 水）に、全10回で学ぶPowerPoint入門（８）「表とグラフ
 の基本操作（２）」無料ウェビナーを実施します。\n
 「全10回で学ぶ　PowerPoint基礎」ウェビナーシリーズは
 、PowerPoint初心者（使い慣れていない）で、Word・Excelの
 基本操作はできる方を対象に、PowerPointの概要からプレ
 ゼン資料の作成まで全10回で身につけていただく内容
 です。\n8回目は、PowerPointでExcelファイルを活用した表
 ・グラフの作成方法とグラフアニメーションについて
 学びます。（※Excelの操作説明はありません。Excelで作
 成済みの表とグラフを当日ダウンロードしてPowerPointで
 使用いたします。）\n7回目（8/9実施）は、表とグラフ
 の基本操作（１）を実施します。（１）で表とグラフ
 の新規作成方法を学んでから8回目の当ウェビナーにご
 参加いただけると理解度が深まります。是非連続して
 ご参加ください。\n★注意★※当日はデュアルモニタ
 で作業画面とZoom画面を投影して作業いただくか、作業
 用PＣの他に、オンライン（Zoom画面）視聴用の端末（
 ＰＣや液晶タブレットなど）を準備いただくと作業が
 しやすいです。\n※講義で使用する素材やデータは、
 当日使用するデバイス（PCなど）でダウンロードして
 いただく予定です。URLは当日ZOOMのチャットにてダウン
 ロードURLを共有いたします。講義はWindows・Microsoft365・
 最新のPowerPointバージョンで行います。下位バージョン
 やmacとは異なる名称や機能が複数ありますのでご注意
 ください。\nこんなことをお話します\n\nExcelファイル
 の活用（Excelでの作成ではありません）\nグラフアニメ
 ーション\n\nこんな方にオススメ！\n\nPowerPointを1から学
 びなおしたい方\nPowerPointで資料作成や、プレゼン資料
 をもっと上手く作りたい方\nPowerPointついて再度学びな
 おしをしたい方\n\nタイムスケジュール\n\n\n\n時間\n内
 容\nspeaker\n\n\n\n\n19：00～19：10\nC&R社からお知らせ\nC&R社
 \n\n\n19：10～19：50\n講演\n森田尚子氏\n\n\n19：50～20：00\n
 質疑応答\n\n\n\n21：00～\nクロージング\n\n\n\n\n※ 当日予
 告なく時間配分・内容が変更になる可能性がございま
 す。\n登壇者\n森田　尚子 (もりた・なおこ)氏\n大学非
 常勤講師／小中学校教員向けICT研修講師／IT新入社員
 研修講師／日本心理学会認定心理士\n五つ星ホテルに
 てブライダル写真集制作や、全国紙三大新聞社にて新
 聞紙面の画像制作、大学の公式キャラクターデザイン
 制作などの経歴を持つ。現在は大学で『Webデザイン』
 『情報コミュニケーション論』『ITパスポート資格取
 得講座』授業の他、各種研修講師を担当している。臨
 床心理学の知識を活かして、本人が自ら考え答えを導
 き出す「コーチング」形式による教育を取り入れてい
 る。プレゼンテーションやデモンストレーションを得
 意とし、500名から千人規模のイベントや展示会・研修
 やセミナーも数多く経験している。\n\n参加対象\n・Powe
 rPointを1から学びたい方・学生時代にしかofficeを触って
 いなかった方・基本的な操作方法を知りたい方・初心
 者ではあるがWord・Excelの操作はできる方\n参加費\n無料
 \n当ウェビナーについて\n\n\nこちらのサイトからもお
 申込みいただくことができます。\n\n▼C&R社で実施して
 いるオンライン講座・ウェビナー　一覧ページhttps://ww
 w.c-place.ne.jp/▼C&R社登録会員限定【視聴無料】 ウェビ
 ナーアーカイブ動画　※お申し込み期間：2023年8月31日
 （木）までhttps://www.creativevillage.ne.jp/category/event-list/semi
 nar/136539/2023年3月～8月までに実施したウェビナーのア
 ーカイブ動画を弊社登録会員の方（CRで始まる番号を
 お持ちの方）および、以下いずれかの条件で、期間限
 定でプレゼントします。※お申し込み期間：2023年8月31
 日（木）まで
LOCATION:オンライン
URL:https://techplay.jp/event/914466?utm_medium=referral&utm_source=ics&utm
 _campaign=ics
END:VEVENT
END:VCALENDAR
