BEGIN:VCALENDAR
VERSION:2.0
PRODID:-//https://techplay.jp//JP
CALSCALE:GREGORIAN
METHOD:PUBLISH
X-WR-CALDESC:MM Tech Talk - チームで取り組むテックカルチャ
 ー - 働く環境・開発スタイルを深掘り！
X-WR-CALNAME:MM Tech Talk - チームで取り組むテックカルチャ
 ー - 働く環境・開発スタイルを深掘り！
X-WR-TIMEZONE:Asia/Tokyo
BEGIN:VTIMEZONE
TZID:Asia/Tokyo
BEGIN:STANDARD
DTSTART:19700101T000000
TZOFFSETFROM:+0900
TZOFFSETTO:+0900
TZNAME:JST
END:STANDARD
END:VTIMEZONE
BEGIN:VEVENT
UID:915515@techplay.jp
SUMMARY:MM Tech Talk - チームで取り組むテックカルチャー - 
 働く環境・開発スタイルを深掘り！
DTSTART;TZID=Asia/Tokyo:20230829T190000
DTEND;TZID=Asia/Tokyo:20230829T200000
DTSTAMP:20260420T152947Z
CREATED:20230808T061729Z
DESCRIPTION:イベント詳細はこちら\nhttps://techplay.jp/event/91551
 5?utm_medium=referral&utm_source=ics&utm_campaign=ics\n\nイベント概
 要\n2022年9月にシリーズBとなり資金調達を行い、 2023年
 1月にエンジニア組織が20名を超えたMagic Moment。 プロダ
 クトの成長と共に組織をスケールしていく今、”チー
 ム”で取り組む組織作りや大切にしている軸を赤裸々
 に語ります。組織作り・チーム開発にご興味ございま
 したらお気軽にご参加ください！\n▼このような方に
 おすすめ（対象者）\n\nプロダクト開発に携わっている
 エンジニアの方\n自社サービスを成長させることに興
 味がある方\n他社の開発環境に興味がある方\n急成長中
 のエンジニア組織、事業に興味がある方\n転職を検討
 されている方\n\n▼Magic Momentについて：エンジニア関連
 情報・会社紹介資料・Tech Blog\n参加方法\n本ページ下部
 の申込みフォームより情報記入の上、送信ください。
 視聴URLはお申し込み完了メールにて添付されておりま
 す。\n定員\n40名\n参加費\n無料\nコンテンツ\nOpening Talk\n
 Magic Momentが目指すビジョンと構想 ：開発責任者 髙橋\n
 \nプロダクトの概要\n組織、体制、プロセス\n目指して
 いること、取り組みたいこと\n\nMain Session\nチームで取
 り組むテックカルチャー- 働く環境・開発スタイルを
 深掘り！\n\nどのようにして今の開発スタイルとなった
 のか？\n開発を後押しするチームの取り組みとは\n働く
 環境について\nカルチャーを醸成するチームの取り組
 みとは\n\n登壇者情報\n清家 良太│執行役員 SRE責任者\n
 東京大学大学院にて修士号取得し卒業。エンジニアと
 してのキャリアをスタート。株式会社インクス、ビー
 ビットを経て起業を経験し、2015年クリエイターズマッ
 チに入社。開発責任者兼カスタマーサクセスチーム事
 業責任者として事業推進する中、プロダクト開発の在
 り方を見直す必要性を感じる。 2019年2月ビットキーに
 て開発者の経験を着実に積む中、改善すべきは組織な
 のかプロダクトなのか、何ができるのかという思いに
 向き合っていたとき、“エンジニアリングとビジネス
 が密接に関わる”領域で新しいチャレンジをしたいと
 の思いで、2020年2月に1人目のエンジニアとして、Magic M
 oment にジョイン。\n栗原 誠一郎│Tech Lead - Web Application 
 Engineer\n2007年株式会社フォーサイド・ドット・コムに
 新卒で入社。モバイルコンテンツ制作をしていく中で
 プログラミングの必要性を感じ、2010年にエンジニアと
 して株式会社エム・フロンティアに転職。 その後、株
 式会社クリエイターズマッチでの Tech Lead の経験を経
 て、現在の Magic Moment に入社。Tech Lead 兼 Engineering Manage
 r としてプロジェクトのリードとプロダクトの設計・
 開発に携わっている。\n盛 慎│Frontend Engineer\n2013年株
 式会社野村総合研究所に入社。オープンソースを用い
 たシステムの構築・エンハンスメント、プリセールス
 、セミナー講演、R&D の業務を担当。その後、サンフラ
 ンシスコのデザインファーム btrax にてデザイン思考を
 習熟。帰国後、社内スタートアップコミュニティ Arumon
  の立ち上げに関わり、複数の新規事業開発およびコン
 サルティングに従事。2019年 NRI digital へ出向し、ロイ
 ヤリティプログラムの SaaS 開発や不動産企業向けの新
 規事業 PoC に携わる。 2020年に Magic Moment へ入社。テッ
 クチームのフロントエンドエンジニアとしてプロダク
 ト開発に貢献する他、全社的なカルチャー推進委員や
 、テックチームのカルチャー浸透もリードしている。\
 n中嶋 慧明│Web Application Engineer\nSIer にシステムエンジ
 ニアとして新卒入社し証券会社向けのシステム開発に
 従事。 オンライントレードシステムで2年、営業支援
 システムで5年の経験を重ねる。スモールチームのマネ
 ジメントをしながら一貫して Web アプリケーション開
 発に軸足を置き、システム開発の全フェーズに広く携
 わる。Magic Moment のプロダクトや思想に共感し、2021年10
 月に Magic Moment に入社。入社当初はフロントエンドエ
 ンジニアだったが、現在は主にバックエンドを主軸と
 しながらフルスタックに活動している。\n大塚 将平│S
 erver Side Engineer\n新卒でソーシャルゲームの開発に邁進
 し技術的成長は実感したが「誰かの役に立つプロダク
 ト開発がしたい」との思いで独立系 SIer に転職。業務
 効率化を実現する Webサービスや新鋭的な IoT サービス
 の実証など幅広く経験をしたが、本質的ではない理由
 で開発が中断される環境もあり自社サービスへの関わ
 りと目指したいエンジニア像を叶えるために転職活動
 を開始し、2022年4月に入社。主にバックエンドを担当
 している。\nモデレーター 髙橋 宏圭│執行役員 開発
 責任者\n神戸大学、同大学院システム情報学研究科を
 修了後、新卒で野村総合研究所にエンジニアとして入
 社。新規サービスのアーキテクトや DX を目指した PoC 
 実行部隊をリーダーとして牽引、大規模サービスなら
 ではの性能やセキュリティ要求を満たすソフトウェア
 開発に従事。海外プロジェクトにも参画し、スクラム
 開発に準ずるアジャイルのノウハウを磨き、ハッカソ
 ンで多数の入賞実績を残す。2022年7月に Magic Moment に入
 社。2023年1月に執行役員就任。\n注意点\n・参加者多数
 の場合は抽選とさせていただく場合がございます。・
 業界未経験の方、競合調査目的など今回の対象にそぐ
 わない場合はお断りをさせていただく可能性がござい
 ますのでご了承くださいませ。
LOCATION:オンライン
URL:https://techplay.jp/event/915515?utm_medium=referral&utm_source=ics&utm
 _campaign=ics
END:VEVENT
END:VCALENDAR
