BEGIN:VCALENDAR
VERSION:2.0
PRODID:-//https://techplay.jp//JP
CALSCALE:GREGORIAN
METHOD:PUBLISH
X-WR-CALDESC:RPAを導入したらどんなふうに動かせるの？ ～R
 oboTANGOの活用事例をご紹介～【実用編】
X-WR-CALNAME:RPAを導入したらどんなふうに動かせるの？ ～R
 oboTANGOの活用事例をご紹介～【実用編】
X-WR-TIMEZONE:Asia/Tokyo
BEGIN:VTIMEZONE
TZID:Asia/Tokyo
BEGIN:STANDARD
DTSTART:19700101T000000
TZOFFSETFROM:+0900
TZOFFSETTO:+0900
TZNAME:JST
END:STANDARD
END:VTIMEZONE
BEGIN:VEVENT
UID:916193@techplay.jp
SUMMARY:RPAを導入したらどんなふうに動かせるの？ ～RoboTA
 NGOの活用事例をご紹介～【実用編】
DTSTART;TZID=Asia/Tokyo:20230913T140000
DTEND;TZID=Asia/Tokyo:20230913T150000
DTSTAMP:20260424T091934Z
CREATED:20230815T013150Z
DESCRIPTION:イベント詳細はこちら\nhttps://techplay.jp/event/91619
 3?utm_medium=referral&utm_source=ics&utm_campaign=ics\n\nこんな方に
 オススメ\n\nRPAに興味はあるものの、具体的な活用イメ
 ージが持てていない方\n実務で使えるRPAがどのような
 フローで作業を進めるのかを見たい方\n既にRPAは導入
 しているが、活用の幅や更に大きな成果を上げたい方\
 n\nこのセミナーでわかること\n\nRPA（RoboTANGO）が人に代
 わってどのような実務を実施するのか\nRPA（RoboTANGO）
 の概要や他ツールとの特長や違い\nRPA（RoboTANGO）の活
 用事例\n\nセミナー概要\nRPAの導入を検討している企業
 の中では、「実際のRPAはどうやって動くの？」 「ロボ
 ットが動くスピードはどのくらい？」 RPAツールの検討
 を進めると、これまで疑問に思わなかったことに気づ
 くことが多くあります。 RPAを導入して成果を出すため
 には、実際のRPAの動きを事前に把握しておくことはと
 ても大切です。 本セミナーでは、RPAツール「RoboTANGO(
 ロボタンゴ)」の営業支援やテクニカルサポートを担当
 しているスペシャリストが、実務で使えるRPAの操作感
 や活用方法をわかりやすく紹介し、RPA導入後の利用イ
 メージを描いていただきます。 セミナー中に分から
 ないことやご質問等ございましたら、Q&Aや専用フォー
 ムからお送りいただきますと後日回答させていただき
 ます。\n講師紹介\nスターティアレイズ株式会社　業務
 自動化ソリューション部　テクニカルコンサルティン
 ググループ中澤 栄一■経歴RoboTANGOのテクニカルエンジ
 ニアとして、営業支援や顧客へのテクニカルサポート
 、ヘルプセンターのコンテンツ追加などをメイン業務
 とし、その他、システム担当者とRoboTANGOの新機能追加
 提案や推進、検証等の作業にも携わる。前職では医薬
 部外品を取り扱う通販企業にて、Webアクセス解析やコ
 ンバージョンを上げる施策の考案や推進、ツール導入
 等を担当。\nセミナー詳細\n\n\n\n\n\n\n\n\n\nタイトル\nRPA
 を導入したらどんなふうに動かせるの？～RoboTANGOの活
 用事例をご紹介～【実用編】\n\n\n日時\n2023年9月13日(水
 )14:00～15:00\n\n\n会場\nオンライン（アーカイブ配信）\n\
 n\n受講料\n無料\n\n\n主催\nスターティアレイズ株式会社
 \n\n\n\n・お申込みいただいた際に、Zoom登録用URLをご登
 録いただいたメールアドレスに送付致します。・セミ
 ナー当日のご参加も可能です。・プログラムは、都合
 により予告無く変更する場合がございます。・ユーザ
 ー企業様向けのセミナーの為、同業者様のご参加はお
 断りさせていただく場合がございます。\nセミナープ
 ログラム\n\n\n\n\n\n\n\n\n\n14:00\n開始\n\n\n14:00~15:00\nRPAを導
 入したらどんなふうに動かせるの？～RoboTANGOの活用事
 例をご紹介～【実用編】\n\n\n15:00\n終了\n\n\n
LOCATION:オンライン（アーカイブ配信）
URL:https://techplay.jp/event/916193?utm_medium=referral&utm_source=ics&utm
 _campaign=ics
END:VEVENT
END:VCALENDAR
