BEGIN:VCALENDAR
VERSION:2.0
PRODID:-//https://techplay.jp//JP
CALSCALE:GREGORIAN
METHOD:PUBLISH
X-WR-CALDESC:コンテンツマーケーター必見！役立つChatGPT汎
 用プロンプトを紹介！
X-WR-CALNAME:コンテンツマーケーター必見！役立つChatGPT汎
 用プロンプトを紹介！
X-WR-TIMEZONE:Asia/Tokyo
BEGIN:VTIMEZONE
TZID:Asia/Tokyo
BEGIN:STANDARD
DTSTART:19700101T000000
TZOFFSETFROM:+0900
TZOFFSETTO:+0900
TZNAME:JST
END:STANDARD
END:VTIMEZONE
BEGIN:VEVENT
UID:916511@techplay.jp
SUMMARY:コンテンツマーケーター必見！役立つChatGPT汎用プ
 ロンプトを紹介！
DTSTART;TZID=Asia/Tokyo:20230912T140000
DTEND;TZID=Asia/Tokyo:20230912T143000
DTSTAMP:20260421T190007Z
CREATED:20230817T112131Z
DESCRIPTION:イベント詳細はこちら\nhttps://techplay.jp/event/91651
 1?utm_medium=referral&utm_source=ics&utm_campaign=ics\n\nこんな方に
 おすすめ\n\nChatGPTで何ができるのか知りたい方\nChatGPT
 をコンテンツで有効活用する方法を知りたい方\nコン
 テンツマーケティングで使えるプロンプトをまとめて
 知りたい方\n\n\n\n\n開催日\n2023年9月12日(火)\n\n\n\n\n時間
 \n14:00～14:30(15分前より入室可能)\n\n\n場所\nウェビナー\
 n\n\n定員\n30名\n\n\n参加費\n無料\n\n\n登壇者\n水越寛太\n\
 n\n\nセミナー内容紹介\nコンテンツマーケティングで使
 えるChatGPTのプロンプトを紹介します！ChatGPTが話題に
 なって数か月以上が経ちました。実際の業務でChatGPTを
 使うにはコツが必要です。今回はコンテンツマーケテ
 ィングにおけるChatGPTの活用方法を紹介します。弊社の
 コンテンツディレクターが内部で蓄積したノウハウを
 凝縮してお届けします！御社のマーケティング施策の
 一助になれば幸いです。\n株式会社ipeについて\n大規模
 サイトのSEOコンサルティングを中心に活動し、最先端
 のSEO技術を提供するをテーマに掲げサービス提供して
 います。Twitterはこちら↓Follow @info_ipe\nクライアント実
 績一例\n\nウェビナー参加特典\nウェビナー参加頂いた
 方の中でご希望される方には下記の特典をプレゼント
 します。●【SEOスペシャリスト／オンライン個別相談
 会】SEOに関する30分のオンライン相談ができます。●
 【無料分析レポート】弊社のSEOディレクターが貴社サ
 イトのSEO課題・改善の方向性、競合調査含め、無料で
 分析させていただきます。\nプログラム\n\n\n\n時間\n内
 容\n\n\n\n\n13:45~14:00\nZOOM入室可能\n\n\n14:00~14:30\nChatGPTと
 はChatGPTでコンテンツを作成するポイントと注意事項今
 すぐ使えるChatGPTの命令文章を紹介！\n\n\n\n株式会社ipe
 　セールスチーム 水越　貫太早稲田大学商学部卒。マ
 ーケティングを専攻し、ブランド戦略論や消費者行動
 論を学ぶ。 在学時に、インターンとしてipeへ参画。 
 現在はインサイドセールスとして、持ち前の傾聴力で
 、お客様に寄り添い、お客様の課題解決に向けた営業
 活動を行うなど、新規顧客との接点創出に従事してい
 る。
LOCATION:オンライン
URL:https://techplay.jp/event/916511?utm_medium=referral&utm_source=ics&utm
 _campaign=ics
END:VEVENT
END:VCALENDAR
