BEGIN:VCALENDAR
VERSION:2.0
PRODID:-//https://techplay.jp//JP
CALSCALE:GREGORIAN
METHOD:PUBLISH
X-WR-CALDESC:◆パートナープログラム検討中の企業様向け
 ◆LINEで月謝や会費の回収もECショップ運営もできるAtou
 ch！パートナー募集セミナー
X-WR-CALNAME:◆パートナープログラム検討中の企業様向け
 ◆LINEで月謝や会費の回収もECショップ運営もできるAtou
 ch！パートナー募集セミナー
X-WR-TIMEZONE:Asia/Tokyo
BEGIN:VTIMEZONE
TZID:Asia/Tokyo
BEGIN:STANDARD
DTSTART:19700101T000000
TZOFFSETFROM:+0900
TZOFFSETTO:+0900
TZNAME:JST
END:STANDARD
END:VTIMEZONE
BEGIN:VEVENT
UID:916566@techplay.jp
SUMMARY:◆パートナープログラム検討中の企業様向け◆LINE
 で月謝や会費の回収もECショップ運営もできるAtouch！
 パートナー募集セミナー
DTSTART;TZID=Asia/Tokyo:20230830T140000
DTEND;TZID=Asia/Tokyo:20230830T150000
DTSTAMP:20260424T022656Z
CREATED:20230817T233327Z
DESCRIPTION:イベント詳細はこちら\nhttps://techplay.jp/event/91656
 6?utm_medium=referral&utm_source=ics&utm_campaign=ics\n\nLINEでECショ
 ップを開設経営できる『Atouch』は、EC事業における多
 くの問題を大きく改善できる画期的なツールです。シ
 ョップ運営のコストや労力を削減し売上アップに直結
 する機能が大きな成果を出すことにつながります。\n
 そして『Atouch』は、スクール運営者などから要望の大
 きかったサブスクリプション費用回収の対応をはじめ
 ました。現状、多くのスクールは月謝の回収を銀行振
 込で対応しているケースが多く、限られたリソースの
 中で請求書・領収書の発行、チェック作業に時間を取
 られ、業務が圧迫されているという声が多くありまし
 た。\n『Atouch』では、従来のLINEのトーク画面上で商品
 を選んでカートに入れて決済することで回収が完了。
 スクール事業、研修事業、システム利用料の徴収など
 ができるようになり、無形商材を展開している事業者
 の業務を削減しリソースの確保することで、よりサー
 ビスを充実させたり事業を拡大することが可能になり
 ます。\n◆サブスクリプションの想定サービス一例\n\n
 各種スクール、講座、ワークショップ\nファンクラブ\n
 セミナー・イベントの参加券や参加費用\nレンタルサ
 ービス\n代行サービス\n駐輪場・駐車場料金……など\n\
 n●Atouch販売パートナーを募集中\nそんな、ECショップ
 、スクールやイベント運営の強い味方となる「Atouch」
 はただ今、販売パートナーを募集中です。 販売パート
 ナーになれば、売り上げに応じてストック収益が得ら
 れます。\n今Atouch販売パートナーになれば…\n「導入費
 用0円」「月額料金、手数料が安い」「全日本人に浸透
 しているLINEでネットショップができる」「今までは難
 しかった月謝や会費などのサブスクリプション費用の
 回収もできる」など大きな利点が多いため、高い訴求
 力があります。\n本セミナーでは最新の市場動向を踏
 まえ、弊社サービスについて詳しくお話いたします。\
 n◆下記のような企業様に特におすすめ◆・制作会社様
 ・EC支援/コンサル会社様・広告代理店様\n※下記に当
 てはまる方のお申し込みはご遠慮いただいております
 ・個人事業主様・同業他社様・営業体制が2名以下の法
 人様\n●「Atouch」とは？？\nAtouchとは、LINEのトーク画
 面で商品を選んでそのまま決済まで完了！そんな便利
 なネットショップをLINEで誰でも簡単に開設できる画期
 的なサービスです。\n「操作がカンタン」「気軽に質
 問ができる」「2回目以降のログイン不要」 など、お
 客様にとって圧倒的に使いやすい特徴をもつサービス
 です。そのためリリースしてすぐに100社以上に導入さ
 れ、今EC業界を賑わせています。\n※会費などのサブス
 クリプションの費用回収も可能になりました！\n\n開催
 概要\n\n開催日時　8月30日（水）　14:00～15:00\n開催場所
 　オンライン（Zoom）\n登壇者　IRISデータラボ株式会社
 　執行役員　赤﨑良一\n\nLINE APIツール「Atouch」とは\nLI
 NE公式アカウントで簡単にネットショップが開設でき
 るサービスです。\n手間がかかる初期設定や面倒な運
 用業務は不要。\n特別な知識やスキルがなくても、直
 観的な操作で自分だけのオリジナルECショップがお手
 軽に開設できます。\nhttps://atouch.jp/\nIRISデータラボ株
 式会社\n所在地　　：東京都港区南青山2-7-30 ムラハン
 ビル1階設立　　　：2019年3月5日代表取締役：安達教顕
 \n■個人情報の取り扱いについてhttps://iris-corp.co.jp/priva
 cypolicy/
LOCATION:オンライン（Zoom）
URL:https://techplay.jp/event/916566?utm_medium=referral&utm_source=ics&utm
 _campaign=ics
END:VEVENT
END:VCALENDAR
