BEGIN:VCALENDAR
VERSION:2.0
PRODID:-//https://techplay.jp//JP
CALSCALE:GREGORIAN
METHOD:PUBLISH
X-WR-CALDESC:【無料・オンライン】現役プロから学ぶ! あな
 たのレベルに合わせた「Vectorworks」の使い方  中級講座
X-WR-CALNAME:【無料・オンライン】現役プロから学ぶ! あな
 たのレベルに合わせた「Vectorworks」の使い方  中級講座
X-WR-TIMEZONE:Asia/Tokyo
BEGIN:VTIMEZONE
TZID:Asia/Tokyo
BEGIN:STANDARD
DTSTART:19700101T000000
TZOFFSETFROM:+0900
TZOFFSETTO:+0900
TZNAME:JST
END:STANDARD
END:VTIMEZONE
BEGIN:VEVENT
UID:916593@techplay.jp
SUMMARY:【無料・オンライン】現役プロから学ぶ! あなた
 のレベルに合わせた「Vectorworks」の使い方  中級講座
DTSTART;TZID=Asia/Tokyo:20230830T190000
DTEND;TZID=Asia/Tokyo:20230830T200000
DTSTAMP:20260420T183230Z
CREATED:20230818T024636Z
DESCRIPTION:イベント詳細はこちら\nhttps://techplay.jp/event/91659
 3?utm_medium=referral&utm_source=ics&utm_campaign=ics\n\n登録御礼に
 つき、通常8800円の講座が無料で受けられる！\n大手内
 装会社出身の現役プロの講師による、Vectorworksの操作
 方法や設計業務を行う上で分からない事を解決するセ
 ミナー。ソフトを触ったことがあるレベルの方から、1
 ～2年の使用経験がある方・ブランクがある方まで疑問
 を解決し、ワンランクアップを目指します。\nお申込
 みはこちらからも可能です☞https://job.fellow-s.co.jp/seminar
 s/detail/1507\n◆3つの特徴(1) 超初心者〜中級まで個々の
 レベルに合わせカリキュラムが変わる！(2) 操作画面を
 見ながら具体的に学べる(3) 少人数なので随時質問OK！
 理解がしやすい♪\n◆受講特典はコレ！・各レベルに
 合わせた設計資料・今後活用できるシンボルデータ\n
 ◆参加に向いている人　レベル【超初級～中級】・内
 装・インテリア業界で仕事がしたい方・実務でのつま
 づきを解消してスキルアップしたい方・ブランクがあ
 るため復習をしたい方・CADオペレーター、空間デザイ
 ナーとしてステップアップしたい方\n◆カリキュラム
 事前アンケートをもとに、受講者の「つまずきポイン
 ト」を細かに指導します！※受講者が多数の場合、す
 べての内容に言及できない場合があります。ご了承願
 います。\n【中級】効率化を図った作図方法＜つまず
 きポイントと解決例＞　■登録画面・シートレイヤー
 などを駆使した作図のスピード化　■シンボル登録で
 多数の図形や文言の修正を効率化　■こだわりのオリ
 ジナルフォーマットでさっと描き始められるように、
 テンプレート保存を学ぶ　■テクスチャ設定やイメー
 ジファイル取り込みの方法を学び図面にリアリティー
 を出す\n※事前アンケート申し込み時に、以下を「コ
 メント欄」に記入してください。参考にして講座を進
 めます。①大学・専門学校・スクールなどで建築やイ
 ンテリアを学んだことはありますか？②Vectorworks 使用
 歴③Photoshop/Illustratorの使用歴(※CGパースを作りたい人
 のみ）④実務経験の有無と年数⑤特に聞きたい部分や
 つまずいている箇所があれば教えてください\n◆受講
 すると・「Vectorworks」のスキルアップを図れます・実
 務レベルの設計スキルが身に付きます・即戦力として
 、空間デザイン業界への就業に役立ちます\n◆講師の
 メッセージ不安を感じながら使っていたツールや、人
 に聞きづらく本にも載っていない知識をここでバージ
 ョンアップ！少人数なので、一つ一つ丁寧にクリアで
 きます。迷いのない図面を一緒に作って行きましょう
 。\n◆受講対象本講座はフェローズのお仕事紹介サー
 ビスを新たに希望する方に、登録御礼として無料開催
 しています。お申込み後、開催日前日までに弊社エー
 ジェントとの登録面談を行っていただきます。\n【受
 講条件】・Vectorworksの使用経験がある方・受講時にVecto
 rworks(Design Suite/Architect/Fundamentals　いずれか)をご自身で
 準備できる方　※バージョンは2019〜2023程度(windows/mac
 問わず)・今後転職を検討されており、フェローズから
 のお仕事の紹介（派遣・委託請負）を希望される方　
 ※就業を確約するものではありません。\n◆持ち物・
 「Vectorworks」をインストールしたパソコンをご用意く
 ださい。・インターネットに接続可能なPCやタブレッ
 ト、スマートフォン※オンライン講座となりますので
 、上記がご用意できない場合はご参加が難しくなりま
 す。ご了承ください。\nお申込みはこちらからも可能
 です☞https://job.fellow-s.co.jp/seminars/detail/1507\n◆講師ヤマ
 ナカ　サチコ／インテリアデザイナー・照明コンサル
 タントSDS Space Design Studio主に商業施設の内装設計や住
 宅のインテリアコーディネートを行う。1983年生まれ。
 鹿島建設株式会社のKAJIMA DESIGNにて研修後、株式会社ラ
 ックランド設計本部を経て、2019年「SDS Space Design Studio
 」設立。東京コミュニケーションアート専門学校イン
 テリアプロダクト学科非常勤講師。作品：・焼鳥・う
 なぎ・惣菜「日本一」フレンテ笹塚店・日本一横浜ジ
 ョイナス店　基本設計・実施設計・羽田エアポートガ
 ーデン「羽田参道」(環境)　実施設計・個人邸インテ
 リアコーディネートspacedesignstudio.info\n◆注意事項※Q&A
 はコチラ\n※開催の有無に関して※開催3日前までに開
 講の有無を決定させていただいております。最低開催
 人数(各講座による)に達しなかった場合は、開講見合
 せとなります。事前にご連絡いただけますとお申し込
 み状況をお伝えすることは可能です。\nオンライン講
 座受講のご意見・ご要望がある際は、フェローズ営業
 時間10:00～19:00（土日祝を除く）にお問合せください。
 上記時間を過ぎてからのお問合せに関しては、対応い
 たしかねますので、ご了承ください。\n※海外から受
 講される場合、稀に、インターネット環境が日本の規
 定と異なり、動画の呼び出しがうまく行われない可能
 性がございます。
LOCATION:オンライン
URL:https://techplay.jp/event/916593?utm_medium=referral&utm_source=ics&utm
 _campaign=ics
END:VEVENT
END:VCALENDAR
