BEGIN:VCALENDAR
VERSION:2.0
PRODID:-//https://techplay.jp//JP
CALSCALE:GREGORIAN
METHOD:PUBLISH
X-WR-CALDESC:【プログラム説明会】MD communet® OPEN INNOVATION PR
 OGRAM 2023：「テレマティクスデータ（あいおいニッセイ
 同和損保）×〇〇」「タイヤセンシングデータ（住友
 ゴム工業）×〇〇」「気象データ（ハレックス）×〇〇
 」
X-WR-CALNAME:【プログラム説明会】MD communet® OPEN INNOVATION PR
 OGRAM 2023：「テレマティクスデータ（あいおいニッセイ
 同和損保）×〇〇」「タイヤセンシングデータ（住友
 ゴム工業）×〇〇」「気象データ（ハレックス）×〇〇
 」
X-WR-TIMEZONE:Asia/Tokyo
BEGIN:VTIMEZONE
TZID:Asia/Tokyo
BEGIN:STANDARD
DTSTART:19700101T000000
TZOFFSETFROM:+0900
TZOFFSETTO:+0900
TZNAME:JST
END:STANDARD
END:VTIMEZONE
BEGIN:VEVENT
UID:917071@techplay.jp
SUMMARY:【プログラム説明会】MD communet® OPEN INNOVATION PROGRAM
  2023：「テレマティクスデータ（あいおいニッセイ同
 和損保）×〇〇」「タイヤセンシングデータ（住友ゴ
 ム工業）×〇〇」「気象データ（ハレックス）×〇〇」
DTSTART;TZID=Asia/Tokyo:20231004T160000
DTEND;TZID=Asia/Tokyo:20231004T173000
DTSTAMP:20260424T100349Z
CREATED:20230822T053216Z
DESCRIPTION:イベント詳細はこちら\nhttps://techplay.jp/event/91707
 1?utm_medium=referral&utm_source=ics&utm_campaign=ics\n\nオープンイ
 ノベーションプログラム説明会概要：10/4(水) 16:00~17:30\
 n交通環境情報ポータル「MD communet®」は、NTTデータが
 運営する、人やモノの動きをとらえることが出来るモ
 ビリティ分野のデータである“交通環境情報”をポー
 タルサイト上で一元的に集約するとともに、アイデア
 創出のための場の提供やマッチング支援、テクニカル
 支援を通じて、社会課題の解決や新しい価値創出を支
 援するための官民連携のポータルです。\nこの度、中
 核企業3社（あいおいニッセイ同和損害保険、住友ゴム
 工業株式会社、株式会社ハレックス）の戦略テーマを
 基軸として、「交通環境情報にまつわる新たな事業を
 創出」するオープンイノベーションプログラムを実施
 いたします。\n本説明会では、プログラム全体説明に
 加え、中核企業3社の各担当者にもご登壇いただき、現
 在抱える課題や目指す世界観、実現したい新規事業の
 姿などをご説明いただきます。\n交通環境情報を活用
 した社会課題解決へのチャレンジを目指して、共に新
 規事業を創出する共創パートナーを募集いたします。\
 n説明会では、内容詳細についての説明のほか、質疑応
 答も広く受け付けます。少しでもプログラム参加にご
 関心のある方は、お気軽にご参加ください。（アーカ
 イブ動画も配信しますので、当日参加できない方もお
 申込みをお願いします）\n中核企業と募集テーマ　※
 詳細ページはコチラ\n➀あいおいニッセイ同和損害保
 険（テレマティクスデータ×〇〇）「テレマティクス
 データを活用した地域交通の利便性向上」\n②住友ゴ
 ム工業株式会社（タイヤセンシングデータ×〇〇）「
 センシングコアを活用した安心・安全なモビリティサ
 ービスの実現」\n③株式会社ハレックス（気象データ×
 〇〇）「気象情報を活用して安全な交通環境を実現す
 る」\nタイムスケジュール\n\n\n\nSTART\nMin\n概要\n\n\n\n\n16
 :00\n0:05\nオープニング\n\n\n16:05\n0:10\nご挨拶/MD Communet®
 ご説明\n\n\n16:15\n0:10\nプログラム概要説明\n\n\n16:25\n0:05\
 nプログラムに関する質疑\n\n\n16:30\n00:50\n募集テーマ説
 明（30分）・Q＆A（20分）・あいおいニッセイ同和損害
 保険株式会社・住友ゴム工業株式会社・株式会社ハレ
 ックス\n\n\n17:20\n0:05\nクロージング\n\n\n\n※ 当日予告な
 く時間配分・内容が変更になる可能性がございます。\
 n参加費・参加方法\n無料オンライン（YouTube LIVE）開催
 　※参加方法は別途ご案内させていただきます。\n注
 意事項\n※ 営業、勧誘目的でのイベント参加はお断り
 いたします。※ 参加を辞退する場合は、詳細ページよ
 り申込のキャンセルをお願い致します。※ 無断キャン
 セル・欠席が続く場合、次回以降の参加をお断りさせ
 ていただく場合がございますのでご了承ください。\n
 プログラムの全体スケジュール\n\n\n\n日程\n内容\n\n\n\n\
 n2023/9/13\nパートナー企業の募集開始\n\n\n2023/10/4\nオン
 ライン説明会開催\n\n\n2023/10/23\nパートナー企業の募集
 締切\n\n\n2023/12月\n採択企業の決定インキュベーション
 開始\n\n\n\n※プログラム詳細はコチラ\n
LOCATION:オンライン開催 (参加方法は別途ご案内させてい
 ただきます)
URL:https://techplay.jp/event/917071?utm_medium=referral&utm_source=ics&utm
 _campaign=ics
END:VEVENT
END:VCALENDAR
