BEGIN:VCALENDAR
VERSION:2.0
PRODID:-//https://techplay.jp//JP
CALSCALE:GREGORIAN
METHOD:PUBLISH
X-WR-CALDESC:9/27(水) ITマネージドサービス コンサルタント 
 キャリアチェンジ採用セミナー・座談会
X-WR-CALNAME:9/27(水) ITマネージドサービス コンサルタント 
 キャリアチェンジ採用セミナー・座談会
X-WR-TIMEZONE:Asia/Tokyo
BEGIN:VTIMEZONE
TZID:Asia/Tokyo
BEGIN:STANDARD
DTSTART:19700101T000000
TZOFFSETFROM:+0900
TZOFFSETTO:+0900
TZNAME:JST
END:STANDARD
END:VTIMEZONE
BEGIN:VEVENT
UID:917203@techplay.jp
SUMMARY:9/27(水) ITマネージドサービス コンサルタント キ
 ャリアチェンジ採用セミナー・座談会
DTSTART;TZID=Asia/Tokyo:20230927T190000
DTEND;TZID=Asia/Tokyo:20230927T203000
DTSTAMP:20260420T224314Z
CREATED:20230823T061059Z
DESCRIPTION:イベント詳細はこちら\nhttps://techplay.jp/event/91720
 3?utm_medium=referral&utm_source=ics&utm_campaign=ics\n\n※昨今の新
 型コロナウィルス感染防止のためオンラインにて実施
 致します。\n概要\n「AccentureでITマネージドサービス コ
 ンサルタント人材になるべき3つの理由」をテーマに現
 役社員が語ります。技術経験やアウトソーシング領域
 のご経験をお持ちでない方でも、自ら積極的に取り組
 みキャッチアップできる力をお持ちで、テクノロジー
 またはお客様の業務変革に関わりたいという熱意をお
 持ちの方を対象とした募集ポジションでございます。\
 nテーマにご興味ある方はもちろん、アクセンチュアに
 ついてご興味ある方々もお気軽にご参加下さい。\nタ
 イムスケジュール\n19:00-19:40　アクセンチュア/インフ
 ラマネージドサービスグループの概要説明19:40-20:00　
 質疑応答20:00-20:30　座談会\n※当日予告なく時間配分が
 変更になる可能性がございます。\n参加対象\n＊本イベ
 ントは社会人経験のある方を対象としております。\n
 ・前向きに新しい技術を吸収できる方・新しいテクノ
 ロジーや変革に興味が持てる方・クライアントとの協
 業を好む方・アクセンチュアでご自身のキャリア・実
 現したいことがある方・ITマネージドサービス コンサ
 ルタントにご興味のある方・応募意志不問(興味はある
 けど応募するかは悩み中、まずは話を聞いてみたいと
 いう方でもOK！\n場所\nオンライン\n参加費\n無料\n応募
 方法\n下記URLよりお申し込みください。https://flows.beamer
 y.com/accenture/it-consultant-0927
LOCATION:オンライン
URL:https://techplay.jp/event/917203?utm_medium=referral&utm_source=ics&utm
 _campaign=ics
END:VEVENT
END:VCALENDAR
