BEGIN:VCALENDAR
VERSION:2.0
PRODID:-//https://techplay.jp//JP
CALSCALE:GREGORIAN
METHOD:PUBLISH
X-WR-CALDESC:Hello Coding SchoolでGASを学ぼう オンラインスクー
 ル 無料説明会
X-WR-CALNAME:Hello Coding SchoolでGASを学ぼう オンラインスクー
 ル 無料説明会
X-WR-TIMEZONE:Asia/Tokyo
BEGIN:VTIMEZONE
TZID:Asia/Tokyo
BEGIN:STANDARD
DTSTART:19700101T000000
TZOFFSETFROM:+0900
TZOFFSETTO:+0900
TZNAME:JST
END:STANDARD
END:VTIMEZONE
BEGIN:VEVENT
UID:917423@techplay.jp
SUMMARY:Hello Coding SchoolでGASを学ぼう オンラインスクール 
 無料説明会
DTSTART;TZID=Asia/Tokyo:20230907T200000
DTEND;TZID=Asia/Tokyo:20230907T204500
DTSTAMP:20260420T012947Z
CREATED:20230824T110657Z
DESCRIPTION:イベント詳細はこちら\nhttps://techplay.jp/event/91742
 3?utm_medium=referral&utm_source=ics&utm_campaign=ics\n\n概要\nパソ
 コンを使って仕事をすることが当たり前となり、DX化
 が叫ばれている昨今、ITスキルを持つ人材がますます
 重要となる時代になってきました。しかし、このよう
 な状況に対して、世界的にIT人材が不足しており、日
 本でも数十万人規模で足りてないと言われております
 。\nそこで、一般社団法人 未来技術推進協会では、IT
 スキルを持った人材を育成するため、9月より、プログ
 ラミングを基礎から学べるオンラインスクール「Hello C
 oding School」を開校することにしました。\n本説明会で
 は、9月7日（木）、9月14日（木）の2回に渡り、本スク
 ールの内容を説明し、皆様の疑問にお答えします。\n\n
 Hello Coding School（ハロスク）とは\nプログラミング未経
 験者または初心者向けのオンラインスクールです。本
 スクールでは、GAS（Google Apps Script）というGoogle社が提
 供するプログラミング言語をベースに学びます。GASを
 学ぶことで、Googleサービス（Gmail、Googleスプレッドシ
 ート、Googleカレンダーなど）を用いた業務の自動化が
 できるようになります。さらに、GASはJavaScriptをベース
 に作られているため、Javascriptの基礎文法を身に着ける
 ことができます。\n講師は現役プログラマーが担当し
 、プログラミングを学ぶ上での疑問や質問にも丁寧に
 対応します。また、今話題のChatGPTも活用した自己学習
 のサポート体制も整えております。プログラミングを
 基礎から丁寧に身につけたい方、業務効率化や転職の
 ためのスキルアップを図りたい方は、ぜひご参加くだ
 さい。\nHello Coding School\n\n参加方法\n参加申し込み者にz
 oom 視聴用URLをこのページやご案内メールをお知らせし
 ます。＾\n参加対象\n\nプログラミングに興味がある方\
 nGoogleサービスをよく利用する方\n業務効率化を考えた
 い方\nすき間時間を活用して新しいスキルを学びたい
 方\nプログラミングスキル・考え方を身に着けたい方\n
 \nイベント参加費\n無料\n問い合わせ窓口\nHello Coding Scho
 ol事務局hello-coding-info@future-tech-association.org
LOCATION:オンライン
URL:https://techplay.jp/event/917423?utm_medium=referral&utm_source=ics&utm
 _campaign=ics
END:VEVENT
END:VCALENDAR
