BEGIN:VCALENDAR
VERSION:2.0
PRODID:-//https://techplay.jp//JP
CALSCALE:GREGORIAN
METHOD:PUBLISH
X-WR-CALDESC:初心者向けDockerハンズオン！Rails環境構築を通
 してDockerの特徴に触れてみよう！
X-WR-CALNAME:初心者向けDockerハンズオン！Rails環境構築を通
 してDockerの特徴に触れてみよう！
X-WR-TIMEZONE:Asia/Tokyo
BEGIN:VTIMEZONE
TZID:Asia/Tokyo
BEGIN:STANDARD
DTSTART:19700101T000000
TZOFFSETFROM:+0900
TZOFFSETTO:+0900
TZNAME:JST
END:STANDARD
END:VTIMEZONE
BEGIN:VEVENT
UID:917522@techplay.jp
SUMMARY:初心者向けDockerハンズオン！Rails環境構築を通し
 てDockerの特徴に触れてみよう！
DTSTART;TZID=Asia/Tokyo:20230922T193000
DTEND;TZID=Asia/Tokyo:20230922T213000
DTSTAMP:20260421T224415Z
CREATED:20230825T055136Z
DESCRIPTION:イベント詳細はこちら\nhttps://techplay.jp/event/91752
 2?utm_medium=referral&utm_source=ics&utm_campaign=ics\n\nイベント概
 要\n日本橋にあるオフィスにて、受託開発・自社サー
 ビス・プロジェクト支援サービスを手がける、miracleave
 株式会社が主催するミートアップ、通称mirameetです！\n
 久々の第33回目の開催となるmirameetの題材は、「初心者
 向けDockerハンズオン！Rails環境構築を通してDockerの特
 徴に触れてみよう！」です。\nDockerの基礎的なことを
 実際にRailsプロジェクトを立ち上げることにより体験
 することが出来る内容になっています！\nこんな人に
 おすすめ！\n・Dockerに興味がある人\n・Dockerを勉強した
 い、勉強中の人\n・過去のイベントに参加された方\n・
 一緒に勉強する仲間が欲しい方\nイベントについて\n・
 日時：2023/9/22(金)\n・時間：19:30 - 21:00 ハンズオン\n　
 　　　21:00 - 21:30 交流会\n・会場：オンライン開催(Disco
 rd)\n　　　　オフライン開催(日本橋)\n・参加費：無料\
 n・準備するもの：以下事前準備をご確認ください。\n
 事前準備\n・PC（Windows もしくは Mac端末）\n・Discordアカ
 ウント\n・エディタインストール（可能でしたらVSCode
 のインストールをお願いいたします）\n・Dockerインス
 トール\n　※Dockerをインストールをされていない方は
 、\n　　以下のリンクを参照して事前にインストール
 していただければと思います。\n　Windows：\n　　・WSL\n
 　　・Docker DeskTop for Windows\n　Mac：\n　　・Docker Desktop o
 n Mac\n　\n※事前準備の実施について、不明点や問題等
 ございましたら公式LINEにお問い合わせください。\n　
 担当者より返信いたします。\nイベントスケジュール\n
 \n\n\n時間\n内容\n\n\n\n\n19:30 - 19:40\nはじめに／パネラー
 紹介\n\n\n19:40 - 20:50\nハンズオン\n\n\n20:50 - 21:00\nQ&A\n\n\n2
 1:00 - 21:30\n交流会（オフライン限定＆任意参加）\n\n\n\n
 お問合せ\n公式LINEより、お問い合わせください。\nそ
 の他・注意事項\n・オンライン上での迷惑行為は禁止
 とさせていただきます。ハラスメント行為などがあっ
 た場合は即時退出、今後のイベント参加をお断りいた
 します。\n・会場での営業活動、保険、投資不動産な
 どの営業目的の方、MLM及び宗教関連の方の参加はお断
 りしております。\n・会場内では、miracleave社による写
 真や動画撮影が行われる予定です。\n・会場内のみな
 さまが映り込む場合があります。それらは、miracleave社
 によるイベント終了後の広告物、取材メディアによるW
 EBなどに露出／掲載される場合がありますので、撮影NG
 の方は事前にご連絡ください。
LOCATION:オフライン：miracleaveオフィス内　／　オンライ
 ン：Discord 〒103-0027 東京都中央区日本橋2-16-6 三光日本
 橋二丁目ビル7F
URL:https://techplay.jp/event/917522?utm_medium=referral&utm_source=ics&utm
 _campaign=ics
END:VEVENT
END:VCALENDAR
