BEGIN:VCALENDAR
VERSION:2.0
PRODID:-//https://techplay.jp//JP
CALSCALE:GREGORIAN
METHOD:PUBLISH
X-WR-CALDESC:組織成長を促す！組織運営ロードマップとチ
 ームの育成術【無料30分ウェビナー】
X-WR-CALNAME:組織成長を促す！組織運営ロードマップとチ
 ームの育成術【無料30分ウェビナー】
X-WR-TIMEZONE:Asia/Tokyo
BEGIN:VTIMEZONE
TZID:Asia/Tokyo
BEGIN:STANDARD
DTSTART:19700101T000000
TZOFFSETFROM:+0900
TZOFFSETTO:+0900
TZNAME:JST
END:STANDARD
END:VTIMEZONE
BEGIN:VEVENT
UID:917826@techplay.jp
SUMMARY:組織成長を促す！組織運営ロードマップとチーム
 の育成術【無料30分ウェビナー】
DTSTART;TZID=Asia/Tokyo:20231002T143000
DTEND;TZID=Asia/Tokyo:20231002T150000
DTSTAMP:20260421T050425Z
CREATED:20230828T090546Z
DESCRIPTION:イベント詳細はこちら\nhttps://techplay.jp/event/91782
 6?utm_medium=referral&utm_source=ics&utm_campaign=ics\n\n組織運営に
 おいて長期的な成功を実現するためには、明確なロー
 ドマップと優れたチームの育成が重要です。この無料3
 0分ウェビナーでは、組織成果を持続的に向上させるた
 めの組織運営ロードマップとチームの育成術について
 探求します。組織運営の重要な要素や成功事例に基づ
 いた、組織成果を継続的に向上させるための具体的な
 手法や戦略を提供します。組織のリーダーや経営幹部
 、組織開発担当者、チームリーダーなど、組織の成果
 向上に関心を持つ方々にお勧めのウェビナーです。\n
 【開催日時】10/2(月) 14:30-15:0010/23(月) 13:30-14:00\n【費用
 】無料\n【30分ウェビナーで得られること】・組織運営
 ロードマップの重要性: 成果を出し続けるための組織
 運営における長期的な戦略と　目標の設定方法につい
 て学びます。・成果を生み出すチームの育成: 優れた
 チームを作り上げるための手法について解説します。
 ・成果を最大化するプロセスの確立: プロジェクト管
 理や効果的なコミュニケーション手法を活用し、　組
 織成果を最大化するためのプロセスを確立する方法に
 ついて紹介します。\n【こんな方にお勧め】・新たな
 ビジネスモデルや技術革新に対応するための組織運営
 のヒントを求める皆様・デジタル化やデータ活用、イ
 ノベーションを推進したい皆様・デジタル変革や新た
 なビジネスモデルの導入による業績向上を目指す皆様
 ・組織の持続的な成長を実現するための組織運営手法
 やチームビルディングのアイデアを学び、　組織内の
 成果向上に貢献したい皆様\n【講師】ラボラティック
 株式会社代表取締役/CEO 野口 麗奈MBA/ 国家資格キャリ
 アコンサルタント\n社内で興味のありそうな方もお誘
 い合わせの上、ぜひご参加くださいませ。皆様のお申
 込みをお待ちしています！
LOCATION:オンライン
URL:https://techplay.jp/event/917826?utm_medium=referral&utm_source=ics&utm
 _campaign=ics
END:VEVENT
END:VCALENDAR
