BEGIN:VCALENDAR
VERSION:2.0
PRODID:-//https://techplay.jp//JP
CALSCALE:GREGORIAN
METHOD:PUBLISH
X-WR-CALDESC:9/26.27.28 開催！ GX Envisioning Conference 2023 -GX推進
 のリアルを学び、脱炭素経営に近づく3日間-
X-WR-CALNAME:9/26.27.28 開催！ GX Envisioning Conference 2023 -GX推進
 のリアルを学び、脱炭素経営に近づく3日間-
X-WR-TIMEZONE:Asia/Tokyo
BEGIN:VTIMEZONE
TZID:Asia/Tokyo
BEGIN:STANDARD
DTSTART:19700101T000000
TZOFFSETFROM:+0900
TZOFFSETTO:+0900
TZNAME:JST
END:STANDARD
END:VTIMEZONE
BEGIN:VEVENT
UID:917983@techplay.jp
SUMMARY:9/26.27.28 開催！ GX Envisioning Conference 2023 -GX推進のリ
 アルを学び、脱炭素経営に近づく3日間-
DTSTART;TZID=Asia/Tokyo:20230926T130000
DTEND;TZID=Asia/Tokyo:20230928T170000
DTSTAMP:20260420T125509Z
CREATED:20230829T093457Z
DESCRIPTION:イベント詳細はこちら\nhttps://techplay.jp/event/91798
 3?utm_medium=referral&utm_source=ics&utm_campaign=ics\n\n■ プログラ
 ム概要\nGX Envisioning Conference 2023は、意思決定者に今後
 の方向性を示すGXシリーズです。各業界のソートリー
 ダーやGX推進の実務者とともに、カーボンニュートラ
 ル実現のあり方を探求します。　\n● 様々な立場のGX\n
 省庁、自治体、民間企業など、様々な立場・視点でのG
 Xへの取り組みを知ることができます。\n● GX推進のリ
 アル\nGX推進の実務者が登壇するので、取り組みの具体
 を知ることができます。\n● 実践的なノウハウ\n実践
 的な内容にフォーカスしているので、自組織ですぐに
 取り組み可能です。\n\n■ タイムスケジュール・スピ
 ーカー\n9/26 (火)\n13:00~13:40　U3イノベーションズ合同会
 社 / 竹内純子 氏13:50~14:30　経済産業省 / 山田 亮太 氏14
 :40~15:20　株式会社USEN-NEXT HOLDINGS / 山本 まりも 氏15:30~16
 :10　尼崎市 / 西岡　努氏16:20~17:00　三井住友銀行 / 清
 水 倫氏　\n9/27 (水)\n13:50~14:30　環境省 / 稲村 晃希 氏14:
 40~15:20　八十二銀行 / 神津 喜英氏15:30~16:10　飯田市 / 
 熊谷 健太郎氏16:20~17:00　株式会社オプテージ / 石橋 和
 幸氏　\n9/28 (木)\n13:50~14:30　金融庁 / 亀井 茉莉 氏14:40~1
 5:20　スキルアップAI株式会社 / 田原 眞一15:30~16:10　堺
 市 / 増田 頂二氏16:20~17:00　e-dash株式会社 / 山崎 冬馬氏
 　　※講演内容の詳細につきましては、こちらでご確
 認ください。\n\n■ 開催日時\n2023年 9/26(火)・ 9/27(水)・
 9/28(木)　 13:00~17:00 ( 参加費：無料 )\n\n■ 開催形式\nオ
 ンライン開催\n※セッション開催前までに視聴用URLを
 メールにてお送り致します。メールが届かない方は、 
 info@skillupai.com へお問い合わせください。\n\n■ 対象\n
 脱炭素経営に取り組もうとされている経営陣や推進部
 署の責任者 ・担当者・管理職の方々\n\n■ 注意事項\n
 ※本セミナーは企業様限定のセミナーとなります。\n
 ※本セミナーの途中入退室は自由です。\n※一部プロ
 グラムに変更が生じる場合がございます。\n※競合他
 社様からのお申込み、または所属する会社名や団体名
 の記載のない方（個人名のみ、フリーランスの方含む
 ）のお申込みは、参加をお断りさせていただいており
 ます。予めご了承ください。　【ご協力のお願い】\n
 ・申込後のキャンセルについては、前日までにご連絡
 ください。\n\n■ 個人情報の取扱いについて\n\n人材育
 成サービス利用規約\n\nスキルアップスキルアップAI株
 式会社が実施するセミナーにご参加いただく際には、
 「人材育成サービス利用規約」を遵守いただくことへ
 の同意をお願いしております。利用規約はこちらから
 ご確認ください。\n\nプライバシーポリシー\n\n本セミ
 ナーの開催にあたり、スキルアップAI株式会社（以下
 、「当社」といいます）が取得したお客様の個人情報
 については、当社の「個人情報保護方針」に基づき、
 適正に取り扱います。また、当社は登壇いただく企業
 （以下「共催社」といいます）との間で、下記の通り
 、お客様の個人情報を共同利用いたします。　（１）
 共同して利用する個人情報　　　本セミナーのお申込
 み時にご提供いただいた、氏名・メールアドレス・電
 話番号・住所・　　所属先情報、 アンケートの回答内
 容等（２）共同利用するものの範囲　　　共催社（３
 ）共同利用する者の利用目的　　　１．本セミナーに
 関するご案内、お問い合わせ等への対応のため　　　
 ２．共催社が提供するイベントやサービス・商品情報
 等の紹介や告知のため　　　３．本セミナーの品質向
 上のため（４）共同して利用する個人情報の管理責任
 者　　　スキルアップAI株式会社　　　東京都千代田
 区神田三崎町３丁目３−２０ VORT水道橋Ⅱ 5F　　　代
 表取締役　田原 眞一　個人情報の取扱いについてご同
 意を頂いた上でお申し込みをお願いしております。プ
 ライバシーポリシーはこちらからご確認ください。\n\n
 ■ 運営団体\nスキルアップAI株式会社\nhttps://www.skillupai
 .com/
LOCATION:Zoom
URL:https://techplay.jp/event/917983?utm_medium=referral&utm_source=ics&utm
 _campaign=ics
END:VEVENT
END:VCALENDAR
