BEGIN:VCALENDAR
VERSION:2.0
PRODID:-//https://techplay.jp//JP
CALSCALE:GREGORIAN
METHOD:PUBLISH
X-WR-CALDESC:まだ間に合う！秋〜年末に成功するため 今か
 らやるべき対策とは
X-WR-CALNAME:まだ間に合う！秋〜年末に成功するため 今か
 らやるべき対策とは
X-WR-TIMEZONE:Asia/Tokyo
BEGIN:VTIMEZONE
TZID:Asia/Tokyo
BEGIN:STANDARD
DTSTART:19700101T000000
TZOFFSETFROM:+0900
TZOFFSETTO:+0900
TZNAME:JST
END:STANDARD
END:VTIMEZONE
BEGIN:VEVENT
UID:918058@techplay.jp
SUMMARY:まだ間に合う！秋〜年末に成功するため 今からや
 るべき対策とは
DTSTART;TZID=Asia/Tokyo:20230928T133000
DTEND;TZID=Asia/Tokyo:20230928T150000
DTSTAMP:20260425T223733Z
CREATED:20230830T061729Z
DESCRIPTION:イベント詳細はこちら\nhttps://techplay.jp/event/91805
 8?utm_medium=referral&utm_source=ics&utm_campaign=ics\n\nまだ間に合
 う！秋〜年末に成功するため 今からやるべき対策とは
 \nセミナー概要\n宿泊事業者は、季節ごとの需要変化や
 お客様のニーズに合わせて戦略的に施策に取り組む必
 要があります。夏の繁忙期が終わりを迎え、ここから
 は秋から年末にかけての対策をすることが重要です！\
 n本セミナーでは、今夏の消費者データと成功事例を元
 に、宿泊施設の運営者の皆様に有益な情報を提供し、
 秋から年末にかけてのビジネスを成功へ導くヒントを
 お伝えします。ぜひご参加いただき、秋から年末にか
 けての宿泊ビジネスに備えましょう。\n参加対象\n\n事
 業者様\n\n開催日時\n\n9月28日（木）13:30〜15:00ライブ配
 信\n10月3日（火）13:30〜15:00録画配信\n10月4日（水）13:30
 〜15:00録画配信\n\n開催場所\n\nオンライン\n\n参加費\n\n
 無料\n\n登壇者\n吉沢円花\nアウモ株式会社\n2019年より
 アウモ株式会社に入社。\n営業事務、SNS運用、SEO/コン
 テンツ、tob向けメディアの運用など幅広い業務を担当
 。\n現在は「aumoマイビジネス」のオウンドメディアの
 企画、ライティングを含め、責任者として従事。toC、t
 oB向けに対して累計100本以上の記事執筆を経験。\n\n東
 聡一郎\nメトロエンジン株式会社営業部\n2021年テレビ
 局より転職、営業の他、人事やプラダクトの構築を担
 当\n\n河村拓己\n株式会社トライハッチ営業本部 営業二
 課\n2022年4月に新卒で株式会社トライハッチへ入社。\n
 入社当時から、50\,000店舗に導入されるMEO対策サービス
 「MEO HATCH」、SaaS型サービス「MEOチェキ」その他Instagram
 運用支援などのセールスとしてこれまで200社以上のWEB
 集客支援に従事。\n現在は、飲食、フィットネス、歯
 科医院などの業種問わず、店舗単一のお客様（SMB層）
 の集客支援を専任。\n\n山本優菜\n株式会社LIXILホテル
 向けプロモーション担当\nLIXIL入社し、ユニットバスル
 ームの商品開発を経験。現在はホテル向けのユニット
 バスルームのプロモーションを担当。\n\n【ウェビナー
 ご参加にあたってのお願い・注意事項】\n◆事前準備
 ①聴講に必要な機器の準備聴講に必要となる端末（PC
 、タブレット端末や携帯電話等）やイヤフォン等をご
 準備ください。②アプリのインストール＊お申し込み
 前に下記 Zoom テストサイト（https://zoom.us/test）で Zoom 
 会議に参加可能かご確認下さい。なお、Zoom アプリま
 たはブラウザからご参加いただけます。＊初めて Zoom 
 をご利⽤になる場合は、Zoom のダウンロードおよびイ
 ンストールが必要になります。◆ウェビナー参加⽅法
 開講時間の1⽇前までにご登録いただきましたメールア
 ドレス宛にウェビナー参加⽤URLを送信いたします。そ
 ちらに記載された内容に従い、ウェビナーのサイトへ
 アクセスしてください。◆参加上の注意事項①ご参加
 頂ける⽅＊お申し込みいただいた⽅のみご参加頂けま
 す。なお、別途ウェビナーのご案内に記載いたしまし
 た参加資格を満たさない場合、ご参加をお断りする場
 合がございます。＊参加⽤ URL へのアクセスは、お申
 込みされた⽅に限らせていただきます。招待メールやU
 RL の第三者への転送はご遠慮ください。＊複数端末か
 ら同時に視聴することや、同⼀／複数端末から複数⼈
 での視聴はご遠慮ください。②ウェビナー開催中のご
 発⾔・ご質問について＊ウェビナー開催中、参加者全
 員の⾳声は事務局にてミュート設定させていただきま
 すので、参加者が⼝頭でご発⾔をしていただくことは
 できません。予めご了承いただきますようお願い申し
 上げます。＊質疑応答は、Zoom の Q&A 機能を使⽤いたし
 ます。質問の内容及びお時間によっては回答できない
 場合がございますので、あらかじめご了承いただきま
 すようお願い申し上げます。③録画・録⾳等の禁⽌＊
 参加者による録画、録⾳、配布いたしました資料の全
 部または⼀部の転載、改変、第三者への配布、ウェブ
 サイトへのアップロード、SNS への投稿等はご遠いただ
 きますようお願い申し上げます。\n
LOCATION:オンライン
URL:https://techplay.jp/event/918058?utm_medium=referral&utm_source=ics&utm
 _campaign=ics
END:VEVENT
END:VCALENDAR
