BEGIN:VCALENDAR
VERSION:2.0
PRODID:-//https://techplay.jp//JP
CALSCALE:GREGORIAN
METHOD:PUBLISH
X-WR-CALDESC:ヒートマップ活用を諦めた人へ！ いますぐ使
 いたくなるヒートマップ基礎セミナー
X-WR-CALNAME:ヒートマップ活用を諦めた人へ！ いますぐ使
 いたくなるヒートマップ基礎セミナー
X-WR-TIMEZONE:Asia/Tokyo
BEGIN:VTIMEZONE
TZID:Asia/Tokyo
BEGIN:STANDARD
DTSTART:19700101T000000
TZOFFSETFROM:+0900
TZOFFSETTO:+0900
TZNAME:JST
END:STANDARD
END:VTIMEZONE
BEGIN:VEVENT
UID:919265@techplay.jp
SUMMARY:ヒートマップ活用を諦めた人へ！ いますぐ使いた
 くなるヒートマップ基礎セミナー
DTSTART;TZID=Asia/Tokyo:20230928T110000
DTEND;TZID=Asia/Tokyo:20230928T120000
DTSTAMP:20260421T141803Z
CREATED:20230908T025103Z
DESCRIPTION:イベント詳細はこちら\nhttps://techplay.jp/event/91926
 5?utm_medium=referral&utm_source=ics&utm_campaign=ics\n\nヒートマッ
 プ活用を諦めた人へ！ いますぐ使いたくなるヒートマ
 ップ基礎セミナー\n概要\n★アンケート回答で投影資料
 プレゼント★\nユーザーがコンテンツのどこを読んで
 いるのか、どこまで読んでいるのか、どこをクリック
 しているのかが可視化できる「ヒートマップ」は、自
 社のコンテンツ改善、LP改善に役立ちます。\n本セミナ
 ーでは、ヒートマップの基本の見方からすぐに使える
 ヒートマップを活用したコンテンツ改善、LP改善のテ
 クニックを事例付きでご紹介いたします。ヒートマッ
 プをご利用中の皆さまはもちろん、これから活用を検
 討している方、コンテンツ改善に課題がある方におす
 すめのウェビナーです。\n登壇者\n藤本 緋音\n株式会社
 Faber Companyヒートマップコンサルタント\n2021年、株式会
 社Faber Company九州佐賀支社にカスタマーサクセスの一員
 としてジョイン、現在に至るまでヒートマップを活用
 した顧客サイトの分析に従事している。\n消費者に寄
 り添ったBtoCサイトの改善提案を得意とし、サイト改善
 初心者も理解しやすいような寄り添ったコンサルティ
 ングを心がけている。時々佐賀弁がとび出す。\n\n参加
 対象\n\nSEOのご担当者さま\nサイト改善・LP改善に課題
 のあるみなさま\nヒートマップをご利用の皆さま\n\n参
 加費\n無料\n注意事項\n\n弊社と競合するサービス、事
 業を展開されている企業さまのご参加はお断りしてお
 ります。ご留意ください。\n
LOCATION:オンライン（zoom）
URL:https://techplay.jp/event/919265?utm_medium=referral&utm_source=ics&utm
 _campaign=ics
END:VEVENT
END:VCALENDAR
