BEGIN:VCALENDAR
VERSION:2.0
PRODID:-//https://techplay.jp//JP
CALSCALE:GREGORIAN
METHOD:PUBLISH
X-WR-CALDESC:SFA/CRM導入の失敗事例から学ぶ 自社に最適なツ
 ール選びのコツ
X-WR-CALNAME:SFA/CRM導入の失敗事例から学ぶ 自社に最適なツ
 ール選びのコツ
X-WR-TIMEZONE:Asia/Tokyo
BEGIN:VTIMEZONE
TZID:Asia/Tokyo
BEGIN:STANDARD
DTSTART:19700101T000000
TZOFFSETFROM:+0900
TZOFFSETTO:+0900
TZNAME:JST
END:STANDARD
END:VTIMEZONE
BEGIN:VEVENT
UID:919279@techplay.jp
SUMMARY:SFA/CRM導入の失敗事例から学ぶ 自社に最適なツー
 ル選びのコツ
DTSTART;TZID=Asia/Tokyo:20231013T120000
DTEND;TZID=Asia/Tokyo:20231013T123000
DTSTAMP:20260422T015407Z
CREATED:20230908T065219Z
DESCRIPTION:イベント詳細はこちら\nhttps://techplay.jp/event/91927
 9?utm_medium=referral&utm_source=ics&utm_campaign=ics\n\nSFA/CRM導入の
 失敗事例から学ぶ 自社に最適なツール選びのコツ\n概
 要\n顧客データを適切に管理したい、営業データを一
 元管理したいなど、さまざまな理由でCRM/SFAの導入を検
 討しているが、導入における費用や期間、導入後のラ
 ンニングコストなど多くの課題に対して不安を持って
 いる企業様へ。 SFA/CRM導入の失敗事例から失敗の要因
 解説し、自社に最適なSFA/CRMの選び方を考えます。 失
 敗事例と同じ轍を踏まないために、SFA/CRMを検討されて
 いる企業様はぜひご参加ください。\nアジェンダ\n\n登
 壇社紹介/会社概要\nSFAとCRMの違い\nSFA/CRM導入失敗事例
 の紹介\n自社に最適なSFA/CRMを選ぶためのポイント\n部
 門単位/必要機能に合わせたSFA/CRMのご紹介\nQ&A\n\n登壇
 者\n山口 孝行\nZen office株式会社 シニアマーケター\n登
 壇者略歴\n大学卒業後、am/pmジャパンに入社。商品部や
 広告部にて全社のマーケティングを担当。\n以後広告
 代理店にて、プランニングディレクターとして大手家
 電メーカーや菓子メーカーを歴任。 社会現象を起こし
 た映画の販促企画では、ARアプリの企画ディレクショ
 ン、SNS拡散により国内プロモーション史上最大の60万
 ダウンロードを記録し認知度を上げた。  \nCMOとして
 戦略デザインファームの立ち上げの後、Zen office inc.へ
 参画。経営学修士（MBA）取得。\n\n寺井 章家\nZen office
 株式会社 マーケター\n登壇者略歴\n2023年3月に関西大学
 総合情報学部を卒業後、同年4月に新卒一期生としてZen
  office inc.へ入社。\nシニア・マーケター 山口のもとで
 、SEOやMEOのコンサルティング、Google Analyticsを用いたWeb
 サイト解析、WEB広告の最適化など数々のデジタルマー
 ケティング業務を行っている\n\n参加費\n・無料・アン
 ケートに回答いただけますと、当日投影した資料を配
 布いたします。\n注意事項\n\nリクルーティング、勧誘
 など、採用目的でのイベント参加はお断りしておりま
 す。\nキャンセル待ち・補欠・落選の方はご参加いた
 だくことが出来ませんのでご了承ください。\n欠席さ
 れる場合は、お手数ですが速やかにキャンセル処理を
 お願い致します。\n無断キャンセルや欠席が続く場合
 、次回以降の参加をお断りさせていただく場合がござ
 います。\nお申し込み頂いた中で、競合他社様や参加
 に相応しくないと判断した場合はお断りをさせていた
 だく場合がございます。\n
LOCATION:オンライン
URL:https://techplay.jp/event/919279?utm_medium=referral&utm_source=ics&utm
 _campaign=ics
END:VEVENT
END:VCALENDAR
