BEGIN:VCALENDAR
VERSION:2.0
PRODID:-//https://techplay.jp//JP
CALSCALE:GREGORIAN
METHOD:PUBLISH
X-WR-CALDESC:【atsumel×スリーシェイク】不動産・住宅業界
 のDXを加速する！〜売上アップを実現するためのデジ
 タルと属人化の融合方法とは？〜
X-WR-CALNAME:【atsumel×スリーシェイク】不動産・住宅業界
 のDXを加速する！〜売上アップを実現するためのデジ
 タルと属人化の融合方法とは？〜
X-WR-TIMEZONE:Asia/Tokyo
BEGIN:VTIMEZONE
TZID:Asia/Tokyo
BEGIN:STANDARD
DTSTART:19700101T000000
TZOFFSETFROM:+0900
TZOFFSETTO:+0900
TZNAME:JST
END:STANDARD
END:VTIMEZONE
BEGIN:VEVENT
UID:919290@techplay.jp
SUMMARY:【atsumel×スリーシェイク】不動産・住宅業界のDX
 を加速する！〜売上アップを実現するためのデジタル
 と属人化の融合方法とは？〜
DTSTART;TZID=Asia/Tokyo:20230925T110000
DTEND;TZID=Asia/Tokyo:20230925T120000
DTSTAMP:20260423T051144Z
CREATED:20230908T092227Z
DESCRIPTION:イベント詳細はこちら\nhttps://techplay.jp/event/91929
 0?utm_medium=referral&utm_source=ics&utm_campaign=ics\n\n【atsumel×ス
 リーシェイク】不動産・住宅業界のDXを加速する！〜
 売上アップを実現するためのデジタルと属人化の融合
 方法とは？〜\nセミナー概要\n不動産や住宅業界は、社
 会情勢や景気の動向、消費者行動の変化に左右されや
 すい業界のため、DX促進による一層の経営基盤強化と
 、迅速な環境適応を強く求められてきております。\n
 しかし、実際にはITに強い人材や情シスが不在の中で
 、\n\nシステムが乱立し、多重入力の事務作業負担が大
 きい\nDX推進に向けて何から着手すれば良いかわからな
 い\nシステム導入が部分最適となっており、全体最適
 がされていない\nそもそも紙文化が残っており、DXの前
 にまずデジタル化が必要\n\nなど、お悩みを抱えている
 企業も少なくありません。\nすべてを脱属人化・脱ア
 ナログにするのは現実的ではなく、人が対応したほう
 が成果が出るシーンもあるのがこの業界の特徴です。\
 nそこで本セミナーでは、業界特有の課題に焦点をあて
 、デジタルとアナログ（属人運用）が融合することで
 生み出せる、相乗効果と具体的な方法についてご紹介
 します。\n\nセミナーで分かること\n\n業界特有の課題
 と市況、動向を踏まえたうえでのDX推進の具体的なス
 テップ\nSFA、CRM、基幹システムなどのデータをシーム
 レスに連携し、活用できる状態にする方法\nデジタル
 化する業務、人が対応する部分の賢いすみ分け方\n\n\n
 こんな方におすすめ\n\nDX推進のための第一歩としてデ
 ジタル化を検討している方\n効率的な業務プロセスを
 構築したい方\nDX推進のための方針が不明確で、具体的
 な手法やベストプラクティスを知りたい方\nシステム
 の分断や属人的な業務による課題を抱えている方\nデ
 ータを有効活用してデータドリブンな組織を目指す方\
 n\n\nスピーカー紹介\n奥田 秀樹 ／ 株式会社atsumel　営
 業部 部長\n不動産\,住宅企業に2015年入社し、売買仲介
 ・住宅事業の営業を経験を経たのちに、2018年に同社の
 グループ企業であるatsumelへ転籍。現在はSalesforceのイ
 ンプリ事業の責任者として従事し、数名規模〜数千名
 規模の不動産\,住宅企業に向けてクラウドツールの導
 入提案から活用\,定着化まで包括的に支援を行ってい
 る。\n\n関根 章雄 ／ 株式会社スリーシェイク　Incubatio
 n事業部 パートナーセールス マネージャー\n大手通信
 キャリアや独立系ソフトウェアベンダーでのBtoBセール
 ス・セールス企画に加え営業責任者を歴任。NW、監視
 、バックオフィス、自動化ツールなど大手からスター
 トアップ企業まで規模を問わず営業実績を積む。新規
 サービスの企画・立上げも経験。\nスリーシェイクにJo
 in後は、クラウド型ETLツールReckonerのパートナーセール
 ス責任者として、販売パートナー、アライアンスパー
 トナーなどあらゆるパートナーの構築と販売促進支援
 を行っている。\n\n注意事項\n\n本セミナーは法人のお
 客様限定となります。また、同業者様のお申込みはお
 断りさせていただく場合がございます。\n視聴用URLは
 開催前日・当日のリマインドメールにてお知らせいた
 します。\n
LOCATION:オンライン（Zoom）
URL:https://techplay.jp/event/919290?utm_medium=referral&utm_source=ics&utm
 _campaign=ics
END:VEVENT
END:VCALENDAR
