BEGIN:VCALENDAR
VERSION:2.0
PRODID:-//https://techplay.jp//JP
CALSCALE:GREGORIAN
METHOD:PUBLISH
X-WR-CALDESC:(ネットチャート)「スマートファクトリ」実現
 に向けて、工場無線LANで「信頼性」と「通信性能」を
 確保するには ～電波干渉・遮蔽に対処する、事前確認
 や手順やフローなど「ネットワーク敷設工事のノウハ
 ウ」を紹介～
X-WR-CALNAME:(ネットチャート)「スマートファクトリ」実現
 に向けて、工場無線LANで「信頼性」と「通信性能」を
 確保するには ～電波干渉・遮蔽に対処する、事前確認
 や手順やフローなど「ネットワーク敷設工事のノウハ
 ウ」を紹介～
X-WR-TIMEZONE:Asia/Tokyo
BEGIN:VTIMEZONE
TZID:Asia/Tokyo
BEGIN:STANDARD
DTSTART:19700101T000000
TZOFFSETFROM:+0900
TZOFFSETTO:+0900
TZNAME:JST
END:STANDARD
END:VTIMEZONE
BEGIN:VEVENT
UID:919362@techplay.jp
SUMMARY:(ネットチャート)「スマートファクトリ」実現に
 向けて、工場無線LANで「信頼性」と「通信性能」を確
 保するには ～電波干渉・遮蔽に対処する、事前確認や
 手順やフローなど「ネットワーク敷設工事のノウハウ
 」を紹介～
DTSTART;TZID=Asia/Tokyo:20231017T140000
DTEND;TZID=Asia/Tokyo:20231017T150000
DTSTAMP:20260423T002523Z
CREATED:20230908T214031Z
DESCRIPTION:イベント詳細はこちら\nhttps://techplay.jp/event/91936
 2?utm_medium=referral&utm_source=ics&utm_campaign=ics\n\n当セミナー
 は終了いたしました。\n\nたくさんのお申込とご参加を
 いただき誠にありがとうございました。\n\nこちらのセ
 ミナーの資料公開は予定されておりません。\n\n\n\n当
 お申込ページは ネットチャート 経由の方向けのお申
 込みページです。\n\n一般の方はこちらからお申し込み
 ください。\n\n本セミナーはWebセミナーです\n\n参加方
 法（URL）は主催企業より直接メールにてご連絡いたし
 ます。\n\nなお、「iij.ad.jp」「zoom.us」「osslabo.com」「maj
 isemi.com」からのメールが迷惑メールとならないよう、
 メールの設定をご確認ください。  \n\n製造業に求めら
 れているIoTデータの利活用\n\n製造業において、IoTデー
 タの利活用はますます重要な役割を果たしています。\
 n\n各種センサーや装置、製造ラインからリアルタイム
 にデータを収集することで品質の改善や製造プロセス
 の最適化等が実現できます。また在庫管理や品質管理
 の用途でのスマートフォンやタブレットなどのモバイ
 ル機器の活用や、各種システムと連動したAGV（無人搬
 送ロボット）、AMR（自律走行搬送ロボット）を用いた
 資材搬送業務の自動化の実現など、工場全体の効率化
 に向けた様々な取り組みが広がっています。\n\nこれら
 の先進的なシステムをサポートするためには、データ
 集約のためのセキュアなIoTデータのインフラ基盤と、
 信頼性の高いデータ通信網が必要になります。\n\nIoTの
 データ活用に必要なセキュアなインフラ環境を、ワン
 ストップで実現する”IoTセキュアリモートマネジメン
 ト(SRM)”\n\nIIJでは、産業領域のIoTソリューション「産
 業IoTセキュアリモートマネジメント」を展開しており
 ます。工場内設備のPLC/CNC、各種センサーからデータを
 収集するゲートウェイデバイス、セキュアな通信サー
 ビス、可視化・分析を行うクラウドまでワンストップ
 でご提供しており、スマートファクトリの実現を支援
 しております。工場設備保全のご担当者・生産管理の
 ご担当者が取り組まれている、設備稼働監視・工場生
 産管理・現場映像監視・計測器IoT化などさまざまな取
 り組みを加速し、生産効率を改善します。\n\nIoTデータ
 収集や利活用のための、信頼性の高いネットワーク網
 を構築する難しさ\n\n工場内のあらゆるデータをつなぐ
 ためには、クラウドへ接続するためのIoT専用のモバイ
 ル通信に加えて、様々なデバイスから取得したデータ
 を集約するための、信頼性の高いネットワーク環境を
 整備する必要があります。しかしながら工場のネット
 ワークの構築には、オフィス環境とは異なり、工場特
 有の様々な影響を考慮する必要があります。\n\nまず、
 工場内は多くの機械や設備が稼働しているため、特に
 無線通信を使う場合は、高電力のモーターや制御装置
 との電子的な干渉に注意する必要があります。また金
 属や厚い壁により無線の信号が遮られる可能性があり
 ます。工場が拡大したり、レイアウトが変更される場
 合、ネットワークもそれに合わせて柔軟に拡張できる
 必要があります。リアルタイムでのデータ処理が必要
 な場合も多いため、通信の遅延が問題となるケースも
 考えられます。\n\n工場環境で信頼性の高いネットワー
 クを構築するには、まずその用途を事前に明確に把握
 し、次に装置のレイアウトや将来の拡張性を考慮した
 上で、その工場固有の特性に最適化されたネットワー
 ク環境を整備する必要があります。\n\n工場での「ネッ
 トワーク敷設工事のノウハウ」を紹介\n\n本セミナーで
 は、IIJが提供するセキュアなインフラ環境をワンスト
 ップで実現する「産業IoTセキュアリモートマネジメン
 ト」をご紹介します。\n\nまた後半のセッションでは、
 工場のネットワーク敷設に焦点を当てて、LAN配線工事
 からインターネット回線まで一気通貫で構築サービス
 を提供するネットチャート社より、工場内で安定した
 通信を確保するための注意点や、どのような手順やフ
 ローでプロジェクトを進めればよいのかなど、敷設工
 事に関する具体的なノウハウについて、事例を元に詳
 しく説明いたします。またご要望の多い、屋外や建屋
 を超えたネットワークの構築についても、実際の施工
 事例をご紹介いたします。  \n\nプログラム\n\n13:45～14:0
 0　受付\n\n14:00～14:15　「IIJ産業IoTセキュアリモートマ
 ネジメント」概略説明\n\n14:15～14:45　ネットチャート
 様企業紹介/工場環境での「ネットワーク敷設工事のノ
 ウハウ」のご紹介　\n\n14:45～15:00　質疑応答\n\n主催\n\n
 株式会社インターネットイニシアティブ（プライバシ
 ー・ポリシー）\n\n共催\n\nネットチャート株式会社（
 プライバシー・ポリシー）\n\n協力\n\n株式会社オープ
 ンソース活用研究所（プライバシー・ポリシー）\n\nマ
 ジセミ株式会社（プライバシー・ポリシー）\n\n当日会
 場アクセスに関するお問合せ\n\niot-seminar@iij.ad.jp\n\nセ
 ミナー事務局及び利用規約\n\nマジセミ株式会社（プラ
 イバシー・ポリシー）\n\n\n※以下の方について、当社
 判断によりご参加をご遠慮頂く場合がございます。予
 めご了承下さい。\n\n・講演企業の競合となる商品・サ
 ービスを提供している企業、同業の企業、及びそのグ
 ループ企業・関連企業の方\n・個人や個人事業主の方\n
 ・海外から参加される方\n・日本に活動拠点が無い企
 業の方\n・その他、弊社及び講演企業が不適切と判断
 した企業・個人の方\n\n※申込が多数の場合、弊社抽選
 にてご参加をご遠慮頂く場合がございますので、予め
 ご了承ください。\n\n※本コミュニティにてご提示いた
 だいた情報、及び、申込時にご記載頂いた内容は、マ
 ジセミ株式会社にて収集し、マジセミ株式会社／オー
 プンソース活用研究所、及び、主催・共催・協賛・協
 力・講演の各企業へ提供します。共催・協賛・協力・
 講演の各企業へは、主催企業を通して提供する場合が
 あります。またプライバシーポリシーに定めがある場
 合は主催・共催・協賛・協力・講演の委託先にマジセ
 ミ株式会社から直接提供する場合があります。ご記入
 頂いた個人情報は、マジセミ株式会社／株式会社オー
 プンソース活用研究所及び主催・共催・協賛・協力・
 講演企業の各プライバシーポリシーに従って厳重に管
 理し、各社のサービス、製品、セミナー、イベントな
 どのご案内に使用させて頂き、また各社のメルマガに
 登録させていただきます。ご記入頂いた個人情報は、
 法で定める場合や各社のプラバシーポリシーに特別な
 記載がある場合を除きご本人の同意を得ることなく第
 三者へ提供いたしません。利用目的遂行のため個人情
 報の取扱いを外部に委託する場合は、委託した個人情
 報の安全管理が図られるように、委託をする各社が定
 めた基準を満たす委託先を選定し、委託先に対して必
 要かつ適切な監督を行います。 お客様の個人情報に関
 する開示等は、お申し出頂いた方がご本人（代理人）
 であることを確認した上で、各社において合理的な期
 間および範囲で対応いたします。開示等の手続き、個
 人情報の取扱いに関するお問い合わせは下記のお問い
 合わせ窓口へご連絡下さい。\n\n〔お問合せ先　及び　
 個人情報保護管理者〕　マジセミ株式会社 個人情報保
 護管理者　連絡先：03-6721-8548
LOCATION:オンライン
URL:https://techplay.jp/event/919362?utm_medium=referral&utm_source=ics&utm
 _campaign=ics
END:VEVENT
END:VCALENDAR
