BEGIN:VCALENDAR
VERSION:2.0
PRODID:-//https://techplay.jp//JP
CALSCALE:GREGORIAN
METHOD:PUBLISH
X-WR-CALDESC: 「スマートファクトリ」実現に向けて、工場
 無線LANで「信頼性」と「通信性能」を確保するには ～
 電波干渉・遮蔽に対処する、事前確認や手順やフロー
 など「ネットワーク敷設工事のノウハウ」を紹介～
X-WR-CALNAME: 「スマートファクトリ」実現に向けて、工場
 無線LANで「信頼性」と「通信性能」を確保するには ～
 電波干渉・遮蔽に対処する、事前確認や手順やフロー
 など「ネットワーク敷設工事のノウハウ」を紹介～
X-WR-TIMEZONE:Asia/Tokyo
BEGIN:VTIMEZONE
TZID:Asia/Tokyo
BEGIN:STANDARD
DTSTART:19700101T000000
TZOFFSETFROM:+0900
TZOFFSETTO:+0900
TZNAME:JST
END:STANDARD
END:VTIMEZONE
BEGIN:VEVENT
UID:919364@techplay.jp
SUMMARY: 「スマートファクトリ」実現に向けて、工場無線
 LANで「信頼性」と「通信性能」を確保するには ～電波
 干渉・遮蔽に対処する、事前確認や手順やフローなど
 「ネットワーク敷設工事のノウハウ」を紹介～
DTSTART;TZID=Asia/Tokyo:20231017T140000
DTEND;TZID=Asia/Tokyo:20231017T150000
DTSTAMP:20260422T112202Z
CREATED:20230908T214032Z
DESCRIPTION:イベント詳細はこちら\nhttps://techplay.jp/event/91936
 4?utm_medium=referral&utm_source=ics&utm_campaign=ics\n\n当セミナー
 は終了いたしました。\n\nたくさんのお申込とご参加を
 いただき誠にありがとうございました。\n\nこちらのセ
 ミナーの資料公開は予定されておりません。\n\n\n\n本
 セミナーはWebセミナーです\n\n参加方法（URL）は主催企
 業より直接メールにてご連絡いたします。\n\nなお、「
 iij.ad.jp」「zoom.us」「osslabo.com」「majisemi.com」からのメ
 ールが迷惑メールとならないよう、メールの設定をご
 確認ください。  \n\n製造業に求められているIoTデータ
 の利活用\n\n製造業において、IoTデータの利活用はます
 ます重要な役割を果たしています。\n\n各種センサーや
 装置、製造ラインからリアルタイムにデータを収集す
 ることで品質の改善や製造プロセスの最適化等が実現
 できます。また在庫管理や品質管理の用途でのスマー
 トフォンやタブレットなどのモバイル機器の活用や、
 各種システムと連動したAGV（無人搬送ロボット）、AMR
 （自律走行搬送ロボット）を用いた資材搬送業務の自
 動化の実現など、工場全体の効率化に向けた様々な取
 り組みが広がっています。\n\nこれらの先進的なシステ
 ムをサポートするためには、データ集約のためのセキ
 ュアなIoTデータのインフラ基盤と、信頼性の高いデー
 タ通信網が必要になります。\n\nIoTのデータ活用に必要
 なセキュアなインフラ環境を、ワンストップで実現す
 る”IoTセキュアリモートマネジメント(SRM)”\n\nIIJでは
 、産業領域のIoTソリューション「産業IoTセキュアリモ
 ートマネジメント」を展開しております。工場内設備
 のPLC/CNC、各種センサーからデータを収集するゲートウ
 ェイデバイス、セキュアな通信サービス、可視化・分
 析を行うクラウドまでワンストップでご提供しており
 、スマートファクトリの実現を支援しております。工
 場設備保全のご担当者・生産管理のご担当者が取り組
 まれている、設備稼働監視・工場生産管理・現場映像
 監視・計測器IoT化などさまざまな取り組みを加速し、
 生産効率を改善します。\n\nIoTデータ収集や利活用のた
 めの、信頼性の高いネットワーク網を構築する難しさ\
 n\n工場内のあらゆるデータをつなぐためには、クラウ
 ドへ接続するためのIoT専用のモバイル通信に加えて、
 様々なデバイスから取得したデータを集約するための
 、信頼性の高いネットワーク環境を整備する必要があ
 ります。しかしながら工場のネットワークの構築には
 、オフィス環境とは異なり、工場特有の様々な影響を
 考慮する必要があります。\n\nまず、工場内は多くの機
 械や設備が稼働しているため、特に無線通信を使う場
 合は、高電力のモーターや制御装置との電子的な干渉
 に注意する必要があります。また金属や厚い壁により
 無線の信号が遮られる可能性があります。工場が拡大
 したり、レイアウトが変更される場合、ネットワーク
 もそれに合わせて柔軟に拡張できる必要があります。
 リアルタイムでのデータ処理が必要な場合も多いため
 、通信の遅延が問題となるケースも考えられます。\n\n
 工場環境で信頼性の高いネットワークを構築するには
 、まずその用途を事前に明確に把握し、次に装置のレ
 イアウトや将来の拡張性を考慮した上で、その工場固
 有の特性に最適化されたネットワーク環境を整備する
 必要があります。\n\n工場での「ネットワーク敷設工事
 のノウハウ」を紹介\n\n本セミナーでは、IIJが提供する
 セキュアなインフラ環境をワンストップで実現する「
 産業IoTセキュアリモートマネジメント」をご紹介しま
 す。\n\nまた後半のセッションでは、工場のネットワー
 ク敷設に焦点を当てて、LAN配線工事からインターネッ
 ト回線まで一気通貫で構築サービスを提供するネット
 チャート社より、工場内で安定した通信を確保するた
 めの注意点や、どのような手順やフローでプロジェク
 トを進めればよいのかなど、敷設工事に関する具体的
 なノウハウについて、事例を元に詳しく説明いたしま
 す。またご要望の多い、屋外や建屋を超えたネットワ
 ークの構築についても、実際の施工事例をご紹介いた
 します。  \n\nプログラム\n\n13:45～14:00　受付\n\n14:00～14
 :15　「IIJ産業IoTセキュアリモートマネジメント」概略
 説明\n\n14:15～14:45　ネットチャート様企業紹介/工場環
 境での「ネットワーク敷設工事のノウハウ」のご紹介
 　\n\n14:45～15:00　質疑応答\n\n主催\n\n株式会社インター
 ネットイニシアティブ（プライバシー・ポリシー）\n\n
 共催\n\nネットチャート株式会社（プライバシー・ポリ
 シー）\n\n協力\n\n株式会社オープンソース活用研究所
 （プライバシー・ポリシー）\n\nマジセミ株式会社（プ
 ライバシー・ポリシー）\n\n当日会場アクセスに関する
 お問合せ\n\niot-seminar@iij.ad.jp\n\nセミナー事務局及び利
 用規約\n\nマジセミ株式会社（プライバシー・ポリシー
 ）\n\n\n※以下の方について、当社判断によりご参加を
 ご遠慮頂く場合がございます。予めご了承下さい。\n\n
 ・講演企業の競合となる商品・サービスを提供してい
 る企業、同業の企業、及びそのグループ企業・関連企
 業の方\n・個人や個人事業主の方\n・海外から参加され
 る方\n・日本に活動拠点が無い企業の方\n・その他、弊
 社及び講演企業が不適切と判断した企業・個人の方\n\n
 ※申込が多数の場合、弊社抽選にてご参加をご遠慮頂
 く場合がございますので、予めご了承ください。\n\n※
 本コミュニティにてご提示いただいた情報、及び、申
 込時にご記載頂いた内容は、マジセミ株式会社にて収
 集し、マジセミ株式会社／オープンソース活用研究所
 、及び、主催・共催・協賛・協力・講演の各企業へ提
 供します。共催・協賛・協力・講演の各企業へは、主
 催企業を通して提供する場合があります。またプライ
 バシーポリシーに定めがある場合は主催・共催・協賛
 ・協力・講演の委託先にマジセミ株式会社から直接提
 供する場合があります。ご記入頂いた個人情報は、マ
 ジセミ株式会社／株式会社オープンソース活用研究所
 及び主催・共催・協賛・協力・講演企業の各プライバ
 シーポリシーに従って厳重に管理し、各社のサービス
 、製品、セミナー、イベントなどのご案内に使用させ
 て頂き、また各社のメルマガに登録させていただきま
 す。ご記入頂いた個人情報は、法で定める場合や各社
 のプラバシーポリシーに特別な記載がある場合を除き
 ご本人の同意を得ることなく第三者へ提供いたしませ
 ん。利用目的遂行のため個人情報の取扱いを外部に委
 託する場合は、委託した個人情報の安全管理が図られ
 るように、委託をする各社が定めた基準を満たす委託
 先を選定し、委託先に対して必要かつ適切な監督を行
 います。 お客様の個人情報に関する開示等は、お申し
 出頂いた方がご本人（代理人）であることを確認した
 上で、各社において合理的な期間および範囲で対応い
 たします。開示等の手続き、個人情報の取扱いに関す
 るお問い合わせは下記のお問い合わせ窓口へご連絡下
 さい。\n\n〔お問合せ先　及び　個人情報保護管理者〕
 　マジセミ株式会社 個人情報保護管理者　連絡先：03-
 6721-8548
LOCATION:オンライン
URL:https://techplay.jp/event/919364?utm_medium=referral&utm_source=ics&utm
 _campaign=ics
END:VEVENT
END:VCALENDAR
