BEGIN:VCALENDAR
VERSION:2.0
PRODID:-//https://techplay.jp//JP
CALSCALE:GREGORIAN
METHOD:PUBLISH
X-WR-CALDESC:30のチェックポイントで学ぶ 事業戦略として
 の営業代行活用方法
X-WR-CALNAME:30のチェックポイントで学ぶ 事業戦略として
 の営業代行活用方法
X-WR-TIMEZONE:Asia/Tokyo
BEGIN:VTIMEZONE
TZID:Asia/Tokyo
BEGIN:STANDARD
DTSTART:19700101T000000
TZOFFSETFROM:+0900
TZOFFSETTO:+0900
TZNAME:JST
END:STANDARD
END:VTIMEZONE
BEGIN:VEVENT
UID:919509@techplay.jp
SUMMARY:30のチェックポイントで学ぶ 事業戦略としての営
 業代行活用方法
DTSTART;TZID=Asia/Tokyo:20230921T110000
DTEND;TZID=Asia/Tokyo:20230921T120000
DTSTAMP:20260420T121351Z
CREATED:20230911T045228Z
DESCRIPTION:イベント詳細はこちら\nhttps://techplay.jp/event/91950
 9?utm_medium=referral&utm_source=ics&utm_campaign=ics\n\n30のチェッ
 クポイントで学ぶ 事業戦略としての営業代行活用方法
 \n労働力不足、特に営業人材の不足により、営業代行
 の需要は急速に高まっております。その中で、事業の
 成長を志向される多くの企業が営業代行を活用し、成
 功を収めております。しかし、同時に、その活用を継
 続できていない企業も多く見受けられます。\nなぜ営
 業代行を導入してもうまくいかなかったのか？そして
 、どのようにすれば営業成果を最大化できるのか？こ
 れらの疑問にお答えし、明確な方針を持って営業代行
 を活用いただくことが、今回のウェビナーの主旨とな
 ります。\n私たちはこれまで1\,000社以上の企業様と対
 話し、お客様のプロジェクト成功の要因や失敗のポイ
 ントを入念に分析してまいりました。そこで今回は、
 実際の事例を通じて、営業代行を導入する際の落とし
 穴や成功の鍵を明らかにし、事業戦略として確認すべ
 き30のチェックポイントをご紹介いたします。\nこのウ
 ェビナーを通じて、皆様の企業において、営業代行が
 戦略の一環として適切かどうかを理解し、漏れなくス
 ムーズな検討が進み、ビジネスにおける成功への一歩
 を踏み出すお手伝いができれば幸いです。\n【こんな
 方におすすめです】\n\n営業代行を利用して営業成果を
 最大化したい\n過去に営業代行を利用したがうまく活
 用できなかった\n「自社に営業代行は合わない、合う
 ところが限られている」と認識してしまっている\n\n【
 本ウェビナーの内容】\n\n事業戦略として営業代行を検
 討すべき組織の特徴\n営業代行の活用における落とし
 穴\n営業代行を選ぶ際の30のチェックポイント\n\n\n概要
 \n\n\n\n\n\n\n\n\n\n対象\n事業責任者 / 営業責任者 / 営業企
 画・経営企画\n\n\n日時\n2023年9月21日（木） 11:00-12:00\n\n
 \n内容\n・事業戦略として営業代行を検討すべき組織の
 特徴・営業代行の活用における落とし穴・営業代行を
 選ぶ際の30のチェックポイント\n\n\n会場\nオンライン（
 Zoom）\n\n\n費用\n無料\n\n\n参加方法\nお申込み後、開催
 日前日までにメールにて視聴用URLが届きます。\n\n\nご
 不明点・ご質問\n弊社ホームページよりお問い合わせ
 ください。\n\n\n注意事項\n＊同業他社様のご参加はご
 遠慮いただいております。＊弊社からのメールを配信
 解除されている方は、再配信設定にて再登録をお願い
 いたします。【プライバシーポリシーについて】今回
 ご提供いただく個人情報は、プライバシーポリシーに
 基づき厳重に管理いたします。株式会社Magic Moment 個人
 情報保護方針\n\n\n
LOCATION:Zoom
URL:https://techplay.jp/event/919509?utm_medium=referral&utm_source=ics&utm
 _campaign=ics
END:VEVENT
END:VCALENDAR
