BEGIN:VCALENDAR
VERSION:2.0
PRODID:-//https://techplay.jp//JP
CALSCALE:GREGORIAN
METHOD:PUBLISH
X-WR-CALDESC:10/21(土) 地方拠点UIターン 採用セミナー
X-WR-CALNAME:10/21(土) 地方拠点UIターン 採用セミナー
X-WR-TIMEZONE:Asia/Tokyo
BEGIN:VTIMEZONE
TZID:Asia/Tokyo
BEGIN:STANDARD
DTSTART:19700101T000000
TZOFFSETFROM:+0900
TZOFFSETTO:+0900
TZNAME:JST
END:STANDARD
END:VTIMEZONE
BEGIN:VEVENT
UID:919819@techplay.jp
SUMMARY:10/21(土) 地方拠点UIターン 採用セミナー
DTSTART;TZID=Asia/Tokyo:20231021T130000
DTEND;TZID=Asia/Tokyo:20231021T160000
DTSTAMP:20260423T181858Z
CREATED:20230913T090409Z
DESCRIPTION:イベント詳細はこちら\nhttps://techplay.jp/event/91981
 9?utm_medium=referral&utm_source=ics&utm_campaign=ics\n\n概要\nテク
 ノロジー コンサルティング本部ではビジネス拡大に伴
 い、全国各地に拠点を開設しています。今回は北海道
 、会津、仙台、前橋、名古屋、福岡のリードより各拠
 点の特徴や地方ならではのマーケット環境、最先端テ
 クノロジーを駆使して行うプロジェクト事例、面白味
 や苦悩などをお話しさせていただきます。\nまた、本
 セミナーは対面＋オンラインでのハイブリット型のた
 め、是非アクセンチュアオフィスへお越しいただき、
 社員の雰囲気を感じていただければと思います。 当日
 は座談会も予定しているため、実際に社員と直接へ質
 問できる機会もご用意しております。 Iターン、Uター
 ンを検討している方、各拠点の採用に興味のある方、
 少しでも興味がありましたら是非お気軽にご参加下さ
 い！\nプログラム\n①会社概要紹介②各拠点紹介③座談
 会/Q&A※オンライン参加の場合：②各拠点紹介までとな
 ります。※当日予告なく時間配分が変更になる可能性
 がございます。\n参加対象（いずれかに当てはまる方
 ）\n・Iターン、Uターンを検討している方・アクセンチ
 ュア地方拠点の働き方に興味のある方・前向きに新し
 い技術を吸収できる方・新しいテクノロジーや変革に
 興味が持てる方・クライアントとの協業を好む方・ア
 クセンチュアで自身のキャリアを成長させたい方\n場
 所\n赤坂インターシティもしくはオンラインhttps://www.ac
 centure.com/content/dam/accenture/final/accenture-com/document/accenture-
 air-aic-map-jp.pdf\n参加費\n無料\n応募方法\n下記URLよりお
 申し込みください。https://flows.beamery.com/accenture/accenture-
 ui-event-1021
LOCATION:赤坂インターシティもしくはオンライン
URL:https://techplay.jp/event/919819?utm_medium=referral&utm_source=ics&utm
 _campaign=ics
END:VEVENT
END:VCALENDAR
