BEGIN:VCALENDAR
VERSION:2.0
PRODID:-//https://techplay.jp//JP
CALSCALE:GREGORIAN
METHOD:PUBLISH
X-WR-CALDESC:推しの技 MISSION 1 『非機能と開発効率化』 TECH 
 × FAMILY がシステム開発における"推しの技"をお教えし
 ます！
X-WR-CALNAME:推しの技 MISSION 1 『非機能と開発効率化』 TECH 
 × FAMILY がシステム開発における"推しの技"をお教えし
 ます！
X-WR-TIMEZONE:Asia/Tokyo
BEGIN:VTIMEZONE
TZID:Asia/Tokyo
BEGIN:STANDARD
DTSTART:19700101T000000
TZOFFSETFROM:+0900
TZOFFSETTO:+0900
TZNAME:JST
END:STANDARD
END:VTIMEZONE
BEGIN:VEVENT
UID:920423@techplay.jp
SUMMARY:推しの技 MISSION 1 『非機能と開発効率化』 TECH × FA
 MILY がシステム開発における"推しの技"をお教えします
 ！
DTSTART;TZID=Asia/Tokyo:20231018T190000
DTEND;TZID=Asia/Tokyo:20231018T201500
DTSTAMP:20260420T210516Z
CREATED:20230920T023841Z
DESCRIPTION:イベント詳細はこちら\nhttps://techplay.jp/event/92042
 3?utm_medium=referral&utm_source=ics&utm_campaign=ics\n\n概要\n某出
 版社から「決済マフィア」とも揶揄されたNTTデータ。
 市場に多くは情報開示されていない金融系IT。我々TECH
 ×FAMILYはNTTデータの金融をつかさどる技術集約組織と
 して、システムに関する先進的かつ高難易度な要件を
 実現する“ITスペシャリスト集団”です！金融ITに関す
 る事例・トレンド・ノウハウ等の“推しの技術”の一
 部を皆様にお届けします！本勉強会（MISSION 1）は、最
 前線で技術プロフェッショナルとして活躍しているTECH
 ×FAMILYの3名から、システム開発を行う上で避けては通
 れない“非機能・セキュリティ・開発プロセス/工数見
 積もり“についてお伝えします！IT業界に関わる人す
 べてに必見の機会です。\n\n※配信URLは、申込者に対し
 本ページ上「参加者へのお知らせ」にて当日までに表
 示されます。\nタイムスケジュール\n\n\n\n時間\n内容\n\n
 \n19:00〜19:10\nオープニング\n\n\n19:10～19:25\n\n非機能の達
 人: 非機能における要件と現実のギャップを紐解く\n米
 山 貴丈\nシステムにおける非機能の考え方について紹
 介します。特に、SIで用いられる傾向のある非機能要
 求グレードと、実際にシステムに求められる非機能要
 件との間に発生しがちなギャップについて中心的に説
 明します。\n\n\n\n19:25～19:40\n\nセキュリティの達人: 不
 正ログインのリスクに光明が！？\n阿久沢 佑介\n近年
 、オンライン決済の不正は数百億円規模におよんでい
 ます。サイバー攻撃の複雑化・高度化に伴い、不正ロ
 グイン事例が多数報告されております。実際の不正ロ
 グイン事例を最新の認証技術でどのように立ち向かう
 か紐解きます。\n\n\n\n19:40～19:55\n\n開発効率化の達人: L
 CP開発の効率向上のために押さえるべきポイント\n藤貫
  美佐\nLCP開発において開発効率を上げるために開発プ
 ロセスや見積もりにおいて何に気を付ければよいのか
 、昨年度日本ファンクションポイントユーザ会が実施
 した実績調査をもとにお話しします。\n\n\n\n19:55～20:10\
 n質疑応答\n\n\n20:10〜20:15\nクロージング\n\n\n\n※ 当日予
 告なく時間配分・内容が変更になる可能性がございま
 す。\n登壇者\n\n\n\n\n米山 貴丈\n株式会社NTTデータシニ
 ア・スペシャリスト\n2004年、NTTデータに新卒入社。入
 社以来、オープン系システムを中心に扱うネットワー
 ク・プラットフォームエンジニアとして、業界や規模
 の異なるさまざまなシステム基盤構築を経験。2017年か
 らは現在の技術戦略推進部に所属。チームマネジメン
 トと並行して複数の案件に参画し、リスク顕在時のト
 ラブルシューティングやシステムアーキテクチャに対
 するデザインレビューなどを担当している。\n\n\n\n\n\n
 阿久沢 佑介\n株式会社NTTデータ課長\n大学・大学院で
 情報工学を学び2004年にNTTデータに入社。大規模な公共
 系システム開発プロジェクトや中央官庁のITディレク
 ションを経験し、2017年より金融分野の技術総括組織で
 セキュリティを所掌。重大セキュリティインシデント
 対応や金融系システムのセキュリティ検討を得意とす
 る。ストイックな性格でIPAの情処試験は中位以上のも
 のは完全取得。新しいモノの技術やガジェットが大好
 物。\n\n\n\n\n\n藤貫 美佐\n株式会社NTTデータフィナンシ
 ャルテクノロジーソリューション＆テクノロジー事業
 部上級プロフェショナル\n1987年日本電信電話（株）に
 新卒入社し、その後NTTデータに転籍。NTTデータにて全
 社標準プロセス、品質生産性指標値、見積りプロセス
 の策定でキャリアを積む。2019年から現在のNTTデータフ
 ィナンシャルテクノロジーにて測る化コンサルティン
 グサービスを展開中。日本ファンクションポイントユ
 ーザ会会長。\n\n\n\n参加対象\n\n最新技術への関心が高
 く自身の知識習得やスキル向上に取り組んでいるエン
 ジニアの方\n\n参加にあたっての注意事項\n\n参加を辞
 退する場合は、詳細ページより申込のキャンセルをお
 願い致します。\n配信映像や音声は各自の通信環境に
 依存します。なるべく通信環境の良い状態で視聴くだ
 さい。\n\n
LOCATION:オンライン
URL:https://techplay.jp/event/920423?utm_medium=referral&utm_source=ics&utm
 _campaign=ics
END:VEVENT
END:VCALENDAR
