BEGIN:VCALENDAR
VERSION:2.0
PRODID:-//https://techplay.jp//JP
CALSCALE:GREGORIAN
METHOD:PUBLISH
X-WR-CALDESC:【10/4(水)16:30初回開催 無料セミナー】中小企
 業がWEBマーケティングで成功するための5つのステップ
 （全4回）
X-WR-CALNAME:【10/4(水)16:30初回開催 無料セミナー】中小企
 業がWEBマーケティングで成功するための5つのステップ
 （全4回）
X-WR-TIMEZONE:Asia/Tokyo
BEGIN:VTIMEZONE
TZID:Asia/Tokyo
BEGIN:STANDARD
DTSTART:19700101T000000
TZOFFSETFROM:+0900
TZOFFSETTO:+0900
TZNAME:JST
END:STANDARD
END:VTIMEZONE
BEGIN:VEVENT
UID:920504@techplay.jp
SUMMARY:【10/4(水)16:30初回開催 無料セミナー】中小企業がW
 EBマーケティングで成功するための5つのステップ（全4
 回）
DTSTART;TZID=Asia/Tokyo:20231004T163000
DTEND;TZID=Asia/Tokyo:20231004T170000
DTSTAMP:20260425T131456Z
CREATED:20230920T080940Z
DESCRIPTION:イベント詳細はこちら\nhttps://techplay.jp/event/92050
 4?utm_medium=referral&utm_source=ics&utm_campaign=ics\n\n【10/4(水)16:3
 0初回開催】中小企業がWEBマーケティングで成功するた
 めの5つのステップ(全4回)\n・商品に自信はあるのに、W
 EBからの集客・成約がなかなか伸びない・WEBマーケテ
 ィングに何度も取り組んでいるけど、そのたびに失敗
 している・今のWEBマーケティング施策が本当に自分た
 ちに合っているのかわからない\nこのような悩みを抱
 えていませんか？\nWEBマーケティングが上手くいかな
 い会社に多いのは、自分に必要なやり方をするのでは
 なく「他の人から聞いたやり方を真似したり」「自分
 のこだわりでやってしまう」からです。\n成功するた
 めにはWEBマーケティングの全体像を理解し、問題点を
 明らかにしたうえで、自分たちにあったやり方をする
 必要があります。\n私たちバリューエージェントは、
 数多くの中小企業のWEBマーケティングを支援し、それ
 ぞれの会社にあったやり方で成果をあげてきました。
 そのほとんどが知名度のない商品やサービスです。\n
 このセミナーでは、知名度がなくても中小企業がWEBマ
 ーケティングで成功する方法を1回30分の講座×4回とい
 う短い時間でレクチャーします。\n「これからWEBマー
 ケティングに力を入れようとしている」「WEBマーケテ
 ィングでもう失敗したくない」「自分たちに合った取
 り組み方を知りたい」という方におすすめですので、
 ぜひお申し込みください！\nこのセミナーで得られる
 もの\n・WEBマーケティングで成功するための取り組み
 方がわかります・あなたが取り組んでいるWEBマーケテ
 ィングの問題が見つけられます・あなたの会社にぴっ
 たりのやり方がわかります・ホームページに訪問する
 ユーザー、問い合わせや成約を増やす方法がわかりま
 す・WEBマーケティングに取り組むときの社内体制が組
 めるようになります\nセミナー内容\n第1回「知名度の
 ない会社がやっている成功の法則を知る」・WEB集客の
 効果を最大化するための考え方を知る・WEBマーケティ
 ングの全体像を理解する・全体像の中から問題を発見
 する\n第2回「失敗と成功から学ぶ（失敗する会社・成
 功する会社がやっていることを知る）」・失敗する会
 社のよくある例を知る・失敗から成功した会社の事例
 を知る・成功する会社がやっていることを知る\n第3回
 「適切な予算と自社にピッタリなやり方を見つける」
 ・目標予算を検討する・問題点を発見し、施策を決め
 る\n第4回「社内で運営・協力体制をつくる」「WEBマー
 ケティングの運用改善の具体的な方法」・主担当者を
 決める・マーケティングプロジェクトを発足する・顧
 客の声を集める・パートナーを見つける\n・プロジェ
 クトチームを作る・進捗管理の仕組みを構築する・進
 捗・結果ミーティングを行う\nセミナー概要\n対象・中
 小企業経営者・中小企業の営業責任者・WEB担当者、WEB
 マーケター\n日時3つのパターンをご用意しており、1回
 30分のセミナーをご都合の良い日時にご参加いただけ
 ます。\n10/4(水)初回 毎週水曜日第1回2023/10/4(水) 16:30~17:
 00第2回2023/10/11(水) 16:30~17:00第3回2023/10/18(水) 16:30~17:00第
 4回2023/10/25(水) 16:30~17:00\n別日程\n10/3(火)初回 毎日連続
 第1回2023/10/3(火) 14:00-14:30第2回2023/10/4(水) 14:00-14:30第3回
 2023/10/5(木) 14:00-14:30第4回2023/10/6(金) 14:00-14:30\n10/5(木)初
 回 毎週木曜日第1回2023/10/5(木) 11:00-11:30第2回2023/10/12(木
 ) 11:00-11:30第3回2023/10/19(木) 11:00-11:30第4回2023/10/26(木) 11:
 00-11:30\n場所オンライン開催※メールにて参加用のZOOM
 のURLをお送りします。\n参加料無料\n講師紹介\n\n上野
 山光雄株式会社バリューエージェント代表取締役WEBマ
 ーケター/WEBコンサルタント\n専門学校を卒業後、店頭
 公開のITシステム会社にSEとして就職。その後建築会社
 の営業で活躍し売上げ100億円超の企業で取締役を3年間
 経験。2005年に株式会社バリューエージェント設立。マ
 ーケティングシステム、店舗集客、WEBマーケティング
 事業で中小企業を中心に500社を超える集客サービスの
 導入実績。\n過去のセミナー・研修実績\nGoogleアナリテ
 ィクスの使い方・分析方法研修Webマーケティングの基
 礎とSEO対策講座売れるホームページの作り方 12のポイ
 ント　吹田商工会議所集客と成約するホームページ作
 成セミナー　北大阪商工会議所主催Ｗeb販路開拓セミ
 ナー「有効なＷeb広告の出し方」豊中商工会議所Webで
 販路開拓を目指すセミナー　和歌山商工会議所自社開
 催＆クライアント先での研修売れるホームページ12の
 ポイントセミナー売れるランディングページ作成研修S
 EOに強いライティング研修Googleアナリティクスを使っ
 て改善点を見つけ出す方法研修有効なツイッター運用
 研修
LOCATION:Zoomウェビナー
URL:https://techplay.jp/event/920504?utm_medium=referral&utm_source=ics&utm
 _campaign=ics
END:VEVENT
END:VCALENDAR
