BEGIN:VCALENDAR
VERSION:2.0
PRODID:-//https://techplay.jp//JP
CALSCALE:GREGORIAN
METHOD:PUBLISH
X-WR-CALDESC:【ライブ配信】無料で学べるAI勉強会 第129回
 ：ChatGPT時代を生き抜くためのプロンプトエンジニアリ
 ング その4
X-WR-CALNAME:【ライブ配信】無料で学べるAI勉強会 第129回
 ：ChatGPT時代を生き抜くためのプロンプトエンジニアリ
 ング その4
X-WR-TIMEZONE:Asia/Tokyo
BEGIN:VTIMEZONE
TZID:Asia/Tokyo
BEGIN:STANDARD
DTSTART:19700101T000000
TZOFFSETFROM:+0900
TZOFFSETTO:+0900
TZNAME:JST
END:STANDARD
END:VTIMEZONE
BEGIN:VEVENT
UID:920596@techplay.jp
SUMMARY:【ライブ配信】無料で学べるAI勉強会 第129回：Chat
 GPT時代を生き抜くためのプロンプトエンジニアリング 
 その4
DTSTART;TZID=Asia/Tokyo:20230927T193000
DTEND;TZID=Asia/Tokyo:20230927T210000
DTSTAMP:20260421T013911Z
CREATED:20230921T060910Z
DESCRIPTION:イベント詳細はこちら\nhttps://techplay.jp/event/92059
 6?utm_medium=referral&utm_source=ics&utm_campaign=ics\n\n■スキルア
 ップAIキャンプとは\n毎週水曜日19:30~21:00開催！※過去
 お申し込みいただいた方はお申し込み不要です。　ス
 キルアップAIは、受講後すぐに使える実践的な機械学
 習スキルを、最前線で活躍する実務家から直接学べるA
 I学習コミュニティです。\n2018年の創業以来、AI人材教
 育のプロフェッショナルとして、累計15\,000人以上の受
 講者、500社以上に実践的・体系的なAI教育プログラム
 を提供しています。\nデータ拡張や特徴量エンジニア
 リングなどのデータ分析・AI開発で頻出となるキーワ
 ードを掘り下げるテーマから、人間参加型機械学習、M
 LOps、説明可能なAIなど今後活用が期待されている最先
 端技術まで幅広く取り上げ、データ分析・AI開発の実
 務力アップにつながるヒントをご提供します。　スキ
 ルアップAIキャンプは、JDLA認定プログラム1号でもある
 スキルアップAIが主催する勉強会です。機械学習エン
 ジニアの視点でAIに用いられている技術の深掘りや、
 現場の視点で考える実務への活用方法など、多岐に渡
 るジャンルについてゲストを交えながら無料で情報を
 得られる場所となっております。各回のアンケートに
 ご回答いただくと特典まで貰える勉強会ですので、ぜ
 ひご参加ください！\nスキルアップAIキャンプ:https://www
 .skillupai.com/skillupai-camp/\n\n■スキルアップAIキャンプへ
 の参加方法\n過去にスキルアップAIキャンプへご参加い
 ただいた方は、お申し込み不要で参加可能です。各回
 の開催概要は、SlackのスキルアップAIキャンプ専用チャ
 ンネルにて毎週告知しております。\n■ライブ配信(ラ
 イブ配信はZoom を使用します。)\n\n入力いただいたメー
 ルアドレス宛にSlackのスキルアップAIキャンプ専用チャ
 ンネルに招待します。Slackにてご確認ください。\nメー
 ルよりSlackにログインの上、スキルアップAIキャンプ専
 用チャンネルにご参加ください。\n各回の前日までに
 、参加用URLがslackチャンネルにて案内されますので、
 当日はそこからご参加ください。出欠のご連絡は不要
 です。\n\n※過去に専用チャンネルでご参加いただいて
 いる方は、お申し込み不要で全ての回にご参加いただ
 けます。\n\n■お願いと注意事項\n\nお申し込みは、フ
 ルネーム（漢字）でお願いいたします。\n撮影・録画
 ・録音はご遠慮ください。\n勉強目的以外での参加は
 ご遠慮いただいております。\n同業他社様のご参加を
 ご遠慮いただいておりますため、 ご参加をお断りさせ
 ていただく場合がございます。 予めご了承くださいま
 せ。\n\n上記ご了承の上お申し込みをお願いいたします
 。\n\n■よくある質問\n\n\n申込後の流れはどうなります
 か？入力いただいたメールアドレス宛にスキルアップA
 Iキャンプ専用Slackチャンネルの招待メールをお送りし
 ます。一度申し込めば、再度申し込み不要で各回のキ
 ャンプにご参加可能です。\n\n勉強会は誰でも参加でき
 ますか？はい。勉強目的の方であれば、誰でも参加可
 能です。（※同業他社様のご参加は、ご遠慮いただい
 ております。）\n\n興味のある回だけ参加できますか？
 参加可能です。Slackご招待後は、お申し込み不要で、
 ご興味のあるすべての回にご参加いただけます。\n\n記
 載されている開催予定以降のテーマは決まっています
 か？参加者のご意見を聞きながら、多くの方が興味を
 持っていただける実践的テーマを設定していく予定で
 す。\n\n　\n■個人情報の取扱いについて\nお申し込み
 時にご提供いただいた情報は、イベント受付管理や各
 種ご案内（サービス・イベント等）に利用させていた
 だきます。プライバシーポリシーhttps://www.skillupai.com/pr
 ivacy/\n\n■運営団体\nスキルアップAI　運営事務局https://
 www.skillupai.com/講座に関するお問い合わせは、info@skillupa
 i.comまでお願いいたします
LOCATION:オンライン
URL:https://techplay.jp/event/920596?utm_medium=referral&utm_source=ics&utm
 _campaign=ics
END:VEVENT
END:VCALENDAR
