BEGIN:VCALENDAR
VERSION:2.0
PRODID:-//https://techplay.jp//JP
CALSCALE:GREGORIAN
METHOD:PUBLISH
X-WR-CALDESC:Amazon IVS やAgoraで始める［ライブ配信アプリ開
 発］勉強会
X-WR-CALNAME:Amazon IVS やAgoraで始める［ライブ配信アプリ開
 発］勉強会
X-WR-TIMEZONE:Asia/Tokyo
BEGIN:VTIMEZONE
TZID:Asia/Tokyo
BEGIN:STANDARD
DTSTART:19700101T000000
TZOFFSETFROM:+0900
TZOFFSETTO:+0900
TZNAME:JST
END:STANDARD
END:VTIMEZONE
BEGIN:VEVENT
UID:920654@techplay.jp
SUMMARY:Amazon IVS やAgoraで始める［ライブ配信アプリ開発］
 勉強会
DTSTART;TZID=Asia/Tokyo:20231017T170000
DTEND;TZID=Asia/Tokyo:20231017T180000
DTSTAMP:20260420T034155Z
CREATED:20230921T112442Z
DESCRIPTION:イベント詳細はこちら\nhttps://techplay.jp/event/92065
 4?utm_medium=referral&utm_source=ics&utm_campaign=ics\n\nライブ配信
 機能の実装に！エンジニアによるコード解説も必見\nAm
 azon IVSやAgoraを活用した「ライブ配信アプリ開発」につ
 いて、経験豊富な専門エンジニアが徹底解説。\n豊富
 なサンプルコードで簡単に配信や録画などの実装を進
 めて、効率的にアプリ開発をしませんか？どのくらい
 簡単かは、いくつかコードを用いて紹介しますのでお
 楽しみに！\n配信機能を簡単に実装して、オリジナル
 のライブ配信アプリを開発しましょう。\nまた、開発
 に使える小ネタやトラブルに対応するコツなど、知っ
 ておきたい情報が盛り沢山です！※AmazonはAmazon.com\, Inc
 .またはその関連会社の商標です。\n\n【こんな方にお
 すすめです！】\n\nライブ配信アプリを開発したい\nラ
 イブ配信の開発において、追加開発ができないなどの
 課題がある\nAmazon IVS/Agoraの基礎や使用方法、APIを使っ
 て配信する方法を知りたい\n\n\n 【Agoraとは】\nUnityに
 も対応しているAgora（agora io sdk）は、スマートフォン
 ・PCアプリやWebサイトに、カスタマイズしたビデオ・
 音声通話やライブ配信・音声配信をかんたんに実装で
 きるSDKです。\n\n最大100万人視聴可能（1配信あたり）\n
 30-200msの超低遅延\nパケットロスは最大70％まで耐久！\
 nAPIと開発ツール群も多彩！\n\n\n【講師紹介】\n藤本 諭
 志株式会社ブイキューブ　技術本部 Agora担当\n2007年ブ
 イキューブ入社。自社開発サービスであるV-CUBE セミナ
 ーの開発に携わる。現在はAgoraのプロダクト担当SEをし
 ている。\nスキル：Docker/AWS/Linux/DB/Ruby/PHP/JavaScript※講
 師は、予告なく変更になる場合がございます。\n\n【セ
 ミナー概要】\n日時： 2023年10月17日(火)17:00〜18:00\n対象
 ：・通話/配信機能の実装にご興味がある方・ネイティ
 ブアプリ/Webアプリなどのサービス開発に携わるエンジ
 ニアの方・新たなコミュニケーションチャネルの実装
 にご興味がある方※競合他社様につきましては、お断
 りさせていただくことがございますので、予めご了承
 ください。\nプログラム：１．Amazon IVS・Agoraとは？２
 ．技術選定の時に考慮すべきこと３．ライブ配信アプ
 リの実装方法　　・コラボ配信、録画、WatchParty４．ア
 ーカイブの設計５．開発に役立つ小ネタ紹介※講演内
 容は、予告なく変更になる場合がございます。\n費用
 ： 無料\n会場： オンライン\n\n【受講方法】\n本セミナ
 ー・イベントは、Zoomウェビナーで配信します（事前登
 録制インターネット視聴）\n普段お使いのパソコンや
 、スマートフォン・タブレット端末でどこからでも参
 加が可能です。※視聴URLは、開催日前日（日祝日の場
 合は前営業日）の18:00以降および当日にメールでお送
 りいたします。
LOCATION:オンライン開催
URL:https://techplay.jp/event/920654?utm_medium=referral&utm_source=ics&utm
 _campaign=ics
END:VEVENT
END:VCALENDAR
