BEGIN:VCALENDAR
VERSION:2.0
PRODID:-//https://techplay.jp//JP
CALSCALE:GREGORIAN
METHOD:PUBLISH
X-WR-CALDESC:脱リソース不足～事業成功に向けたリソース
 マネジメント戦略～
X-WR-CALNAME:脱リソース不足～事業成功に向けたリソース
 マネジメント戦略～
X-WR-TIMEZONE:Asia/Tokyo
BEGIN:VTIMEZONE
TZID:Asia/Tokyo
BEGIN:STANDARD
DTSTART:19700101T000000
TZOFFSETFROM:+0900
TZOFFSETTO:+0900
TZNAME:JST
END:STANDARD
END:VTIMEZONE
BEGIN:VEVENT
UID:920713@techplay.jp
SUMMARY:脱リソース不足～事業成功に向けたリソースマネ
 ジメント戦略～
DTSTART;TZID=Asia/Tokyo:20231004T120000
DTEND;TZID=Asia/Tokyo:20231004T130000
DTSTAMP:20260420T183507Z
CREATED:20230922T052334Z
DESCRIPTION:イベント詳細はこちら\nhttps://techplay.jp/event/92071
 3?utm_medium=referral&utm_source=ics&utm_campaign=ics\n\n脱リソース
 不足～事業成功に向けたリソースマネジメント戦略～\
 n「リソース不足」にお悩みの方必見！\nリソース不足
 は、事業運営に伴いどの企業様も直面する課題の一つ
 ではないでしょうか。今回は、約8年で上場した株式会
 社CINCの副社長・平（たいら）より、業務効率化や社員
 育成・採用・外部人材など様々な観点からマーケティ
 ングのリソース不足解消方法について解説いたします
 。「やりたいことがあるけど手が回らない」「専門知
 識をもった人がいない」「戦略を描ける人がいない」
 などのお悩みをお持ちの方必見のウェビナーです。\n
 ▼こんな方にオススメです！\n\nやりたいことはあるが
 専門家がおらず手がつけれないマーケティング責任者
 様\n事業成長に向け、マーケターの採用に苦戦してい
 る責任者様\n業務がひっ迫し、本質的な業務に時間を
 割けないマーケティングご担当者様\n\n▼ウェビナー内
 容\n\n業務効率化や採用育成、外部人材でリソース不足
 を解消する方法\n自社に合った適切なリソース不足解
 消方法の選び方\n\n▼開催概要\n開催日時：2023年10月4日
 （水）12:00～13:00参加費：無料会場：オンライン　※Zoo
 mを利用します参加方法：お申込み受付後、メールにて
 視聴登録用URLをご案内いたします複数名でのご参加を
 ご希望の場合は、1名様ずつお申し込みくださいますよ
 うお願い申し上げます。\n▼登壇者\n株式会社CINC 取締
 役副社長平 大志朗\n以上となります。皆様のご参加、
 お待ちしております！\n\n※企業向けのセミナーでござ
 いますので、フリーメールでの登録はご遠慮ください
 ますようお願いいたします。※競合他社/同業者/企業
 にご所属でない個人の方からのお申込みなど、 当社の
 判断によりセミナー参加をお断りする場合があります
 。予めご了承ください。※終了時刻は前後する可能性
 がございます。※予告なく登壇者・内容の変更がある
 場合がございます。
LOCATION:オンラインセミナー
URL:https://techplay.jp/event/920713?utm_medium=referral&utm_source=ics&utm
 _campaign=ics
END:VEVENT
END:VCALENDAR
