BEGIN:VCALENDAR
VERSION:2.0
PRODID:-//https://techplay.jp//JP
CALSCALE:GREGORIAN
METHOD:PUBLISH
X-WR-CALDESC:2023年8月コアアルゴリズムアップデート解説！
X-WR-CALNAME:2023年8月コアアルゴリズムアップデート解説！
X-WR-TIMEZONE:Asia/Tokyo
BEGIN:VTIMEZONE
TZID:Asia/Tokyo
BEGIN:STANDARD
DTSTART:19700101T000000
TZOFFSETFROM:+0900
TZOFFSETTO:+0900
TZNAME:JST
END:STANDARD
END:VTIMEZONE
BEGIN:VEVENT
UID:920894@techplay.jp
SUMMARY:2023年8月コアアルゴリズムアップデート解説！
DTSTART;TZID=Asia/Tokyo:20230927T140000
DTEND;TZID=Asia/Tokyo:20230927T143000
DTSTAMP:20260420T043451Z
CREATED:20230923T145802Z
DESCRIPTION:イベント詳細はこちら\nhttps://techplay.jp/event/92089
 4?utm_medium=referral&utm_source=ics&utm_campaign=ics\n\nこんな方に
 おすすめ\n\n2023年8月のコアアルゴリズムアップデート
 の概要を確認されたい方\nコアアルゴリズムアップデ
 ートによる順位変動があったサイトの傾向を知りたい
 方\nコアアルゴリズムアップデート後の対策方法を知
 りたい方\n\n\n\n\n開催日\n2023年9月27日(金)\n\n\n\n\n時間\n1
 4:00～14:30(15分前より入室可能)\n\n\n場所\nウェビナー\n\n
 \n定員\n30名\n\n\n参加費\n無料\n\n\n登壇者\n水越 貫太\n\n\
 n\nセミナー内容紹介\n2023年8月に実施されたGoogleのコア
 アルゴリズムアップデートの最新の動向を解説します
 ！コアアルゴリズムアップデートが実施され1か月が経
 ちました。検索順位の変動が良くも悪くもあった企業
 様もたくさんいらっしゃるのではないでしょうか？今
 回はコアアルゴリズムアップデートの概要、順位の変
 動があったサイトの傾向、今後の対策方法を中心にご
 紹介いたします！10年内部のSEO対策を専門にご支援さ
 せて頂き、過去のアップデートにも柔軟に対応してき
 た弊社のノウハウにを元に今回のアップデートの動向
 を凝縮してお届けします！貴社のマーケティング施策
 の一助になれば幸いです。\n株式会社ipeについて\n大規
 模サイトのSEOコンサルティングを中心に活動し、最先
 端のSEO技術を提供するをテーマに掲げサービス提供し
 ています。最近はリスティング広告なども行っており
 、クライアントの売り上げを伸ばすためのマーケティ
 ング施策を行っております。Twitterはこちら↓Follow @info
 _ipe\nクライアント実績一例\n\nウェビナー参加特典\nウ
 ェビナー参加頂いた方の中でご希望される方には下記
 の特典をプレゼントします。●【SEOスペシャリスト／
 オンライン個別相談会】SEOに関する30分のオンライン
 相談ができます。●【無料分析レポート】弊社のSEOデ
 ィレクターが貴社サイトのSEO課題・改善の方向性、競
 合調査含め、無料で分析させていただきます。\nプロ
 グラム\n\n\n\n時間\n内容\n\n\n\n\n13:45~14:00\nZOOM入室可能\n\
 n\n14:00~14:30\nアルゴリズムアップデートの遍歴8月に実
 施されたアップデートの概要順位変動があったサイト
 の傾向アップデート後の対策方針\n\n\n\n株式会社ipe　
 セールスチーム 水越 貫太早稲田大学商学部卒。マー
 ケティングを専攻し、ブランド戦略論や消費者行動論
 を学ぶ。 在学時に、インターンとしてipeへ参画。 現
 在はインサイドセールスとして、持ち前の傾聴力で、
 お客様に寄り添い、お客様の課題解決に向けた営業活
 動を行うなど、新規顧客との接点創出に従事している
 。
LOCATION:オンライン
URL:https://techplay.jp/event/920894?utm_medium=referral&utm_source=ics&utm
 _campaign=ics
END:VEVENT
END:VCALENDAR
