BEGIN:VCALENDAR
VERSION:2.0
PRODID:-//https://techplay.jp//JP
CALSCALE:GREGORIAN
METHOD:PUBLISH
X-WR-CALDESC:Marketing Native Fes 2023┃ファミマ、ディノス、ア
 ンカー・ジャパンに聞く「店舗・ECの売り上げを伸ば
 す方法」
X-WR-CALNAME:Marketing Native Fes 2023┃ファミマ、ディノス、ア
 ンカー・ジャパンに聞く「店舗・ECの売り上げを伸ば
 す方法」
X-WR-TIMEZONE:Asia/Tokyo
BEGIN:VTIMEZONE
TZID:Asia/Tokyo
BEGIN:STANDARD
DTSTART:19700101T000000
TZOFFSETFROM:+0900
TZOFFSETTO:+0900
TZNAME:JST
END:STANDARD
END:VTIMEZONE
BEGIN:VEVENT
UID:922233@techplay.jp
SUMMARY:Marketing Native Fes 2023┃ファミマ、ディノス、アンカ
 ー・ジャパンに聞く「店舗・ECの売り上げを伸ばす方
 法」
DTSTART;TZID=Asia/Tokyo:20231019T110000
DTEND;TZID=Asia/Tokyo:20231019T141000
DTSTAMP:20260420T142553Z
CREATED:20231004T081219Z
DESCRIPTION:イベント詳細はこちら\nhttps://techplay.jp/event/92223
 3?utm_medium=referral&utm_source=ics&utm_campaign=ics\n\nMarketing Native
  Fes 2023┃ファミマ、ディノス、アンカー・ジャパンに
 聞く「店舗・ECの売り上げを伸ばす方法」\n詳細はこち
 ら：https://marketingnative.jp/mnfes01/\n▽▽▽▽▽▽▽▽▽▽
 ▽▽▽▽▽\n業績好調な小売企業の 経営者・トップマ
 ーケターに迫る！\n株式会社CINCが運営するWebメディア
 「Marketing Native（マーケティング・ネイティブ）」では
 、オンラインイベント「Marketing Native Fes」を開催いた
 します。テーマは小売業界のマーケティングです。\n
 訪日外国人によるインバウンド需要の回復を中心に、
 街に活気が戻りつつあります。一方、歴史的な物価高
 騰の影響で庶民の財布のひもは固く結ばれたままの状
 態が続いていて、消費者の行動は複雑化しています。
 小売業界においてもリアル店舗への集客、コロナ禍で
 増加したEC利用の拡大とロイヤルカスタマーの育成、
 オンラインとオフラインの融合によるスムーズな顧客
 体験の提供など、取り組むべき課題は山積しています
 。各企業はそれぞれこうした課題にどう向き合い、成
 果を上げているのでしょうか。\nそこで、「Marketing Nati
 ve Fes 2023」では、ファミリーマート エグゼクティブ・
 ディレクター、CMO（兼）マーケティング本部長の足立
 光さんやアンカー・ジャパン 代表取締役CEO 猿渡歩さ
 んらを登壇者に迎え、はなまる チーフマーケティング
 オフィサー（CMO）髙口裕之さん、匿名マーケターのみ
 る兄さんらがモデレーターとして対談。顧客接点の強
 化やリアル店舗への集客、ロイヤルカスタマーの育成
 、顧客データの活用方法など、注目の企業のマーケテ
 ィング戦略に迫ります。\n\n▼このような方におすすめ
 \n\n小売企業の経営者や事業責任者、マーケティング責
 任者の方\n店舗やECサイトの運営担当者の方\n成長企業
 のマーケティング事例について知りたい方\n\n\n▼イベ
 ント詳細\nhttps://marketingnative.jp/mnfes01/\n\n▼Opening&Session.1
 　11:00～12:00\n既存店売上が24カ月連続で前年超え！ フ
 ァミリーマート業績好調の背景にあるマーケティング
 戦略\nファミリーマートが既存店売上、客数ともに好
 調です。9月に発表された8月の月次営業報告によると
 、既存店売上は24カ月連続で、客数は18カ月連続で前年
 を上回っています。近年は店内に設置された3連の大型
 スクリーンによるデジタルサイネージ「FamilyMartVision」
 の活用に取り組むなど、最新技術や手法の導入にも積
 極的です。業績好調なファミリーマートの2023年のマー
 ケティングについて、エグゼクティブ・ディレクター
 、CMO（兼）マーケティング本部長の足立光さんにモデ
 レーターのはなまる チーフマーケティングオフィサー
 （CMO）髙口裕之さんが迫ります。\n足立 光（あだち・
 ひかる）株式会社ファミリーマート エグゼクティブ・
 ディレクター、CMO（兼）マーケティング本部長\nモデ
 レーター髙口 裕之（たかぐち・ひろゆき）株式会社は
 なまる 企画本部　チーフマーケティングオフィサー（
 CMO）\n\n▼Session.2　12:05～13:05\nコロナ後に見えてきたEC
 の課題とこれからの小売企業に必要な戦略\n「ロイヤ
 ルカスタマーの育成が難しい」「店舗とECのスムーズ
 な連携が実現できていない」「拡大したEC需要に対応
 したくても配送が追いつかない」など、EC事業を推進
 する上で重大な課題を抱えている企業は少なくありま
 せん。コロナ禍で高まった需要の勢いをそのままに、
 ますます成長を続けるEC。そんな時代にあって、EC事業
 を推進する企業の責任者は、それぞれの課題解決にど
 う取り組めば良いのでしょうか。DINOS CORPORATIONをはじ
 め、多数の企業のEC事業で成果を上げ続ける石川森生
 さんに、モデレーターのフラクタ代表取締役 河野貴伸
 さんが詳しく聞きます。\n石川 森生（いしかわ・もり
 う）株式会社DINOS CORPORATION CECO（Chief e-Commerce Officer）\n
 モデレーター河野 貴伸（こうの・たかのぶ）株式会社
 フラクタ 代表取締役\n\n▼Session.3　13:10～14:10\n出張版
 「みる兄さんのキーパーソン深掘り！」 ～アンカー・
 ジャパンの店舗戦略～\n2013年の設立から右肩上がりで
 成長し続け、2022年12月期の売上高が350億円超を記録し
 たアンカー・ジャパン。2017年に立ち上げたストア事業
 も好調で、コロナ禍を乗り越えて全国各地への出店が
 続いています。同社が快進撃を続ける理由は何でしょ
 うか。そして、直営店の出店強化の背景とは？この5年
 の振り返りとその背景にあるマーケティング戦略につ
 いて「Marketing Native」の人気連載「みる兄さんのキーパ
 ーソン深掘り！」のみる兄さんが、アンカー・ジャパ
 ン 代表取締役CEOの猿渡歩さんに迫ります。\n猿渡 歩（
 えんど・あゆむ）アンカー・ジャパン株式会社 代表取
 締役CEO\nモデレーターみる兄さん（みるにいさん）匿
 名アカウントなマーケター。\n\n▼開催概要\n\n開催日
 時：10月19日（木）11:00～14:10\n参加費：無料\n会場：オ
 ンライン　※Zoomを利用します\n参加方法：お申込み受
 付後、メールにて視聴登録用URLをご案内いたします\n
 複数名でのご参加をご希望の場合は、1名様ずつお申し
 込みくださいますようお願い申し上げます。\n本イベ
 ントのご参加にあたり、フォームにて当社へ送信いた
 だいた個人情報は、スポンサー企業にも提供いたしま
 す。個人情報の管理・利用につきましては、各企業の
 プライバシーポリシーに基づき、厳重に管理いたしま
 す。\nイベント詳細：https://marketingnative.jp/mnfes01/\n\n\n株
 式会社CINC：プライバシーポリシー\n\n\nMaking Native：利
 用規約\n\n\n△△△△△△△△△△△△△△△\n───
 ────────────────────────
 ───────────Marketing Native Fes 2023ファミマ、
 ディノス、アンカー・ジャパンに聞く「店舗・ECの売
 り上げを伸ばす方法」──────────────
 ────────────────────────
 ▼詳細はこちらhttps://marketingnative.jp/mnfes01/
LOCATION:オンラインセミナー
URL:https://techplay.jp/event/922233?utm_medium=referral&utm_source=ics&utm
 _campaign=ics
END:VEVENT
END:VCALENDAR
