BEGIN:VCALENDAR
VERSION:2.0
PRODID:-//https://techplay.jp//JP
CALSCALE:GREGORIAN
METHOD:PUBLISH
X-WR-CALDESC:中小企業こそ輝ける！サブスクリプションで
 新たな未来を切り拓くAtouch活用セミナー
X-WR-CALNAME:中小企業こそ輝ける！サブスクリプションで
 新たな未来を切り拓くAtouch活用セミナー
X-WR-TIMEZONE:Asia/Tokyo
BEGIN:VTIMEZONE
TZID:Asia/Tokyo
BEGIN:STANDARD
DTSTART:19700101T000000
TZOFFSETFROM:+0900
TZOFFSETTO:+0900
TZNAME:JST
END:STANDARD
END:VTIMEZONE
BEGIN:VEVENT
UID:922438@techplay.jp
SUMMARY:中小企業こそ輝ける！サブスクリプションで新た
 な未来を切り拓くAtouch活用セミナー
DTSTART;TZID=Asia/Tokyo:20231016T150000
DTEND;TZID=Asia/Tokyo:20231019T170000
DTSTAMP:20260421T002552Z
CREATED:20231006T014539Z
DESCRIPTION:イベント詳細はこちら\nhttps://techplay.jp/event/92243
 8?utm_medium=referral&utm_source=ics&utm_campaign=ics\n\n◆中小企業
 こそ輝ける！サブスクリプションで新たな未来を切り
 拓くAtouch活用セミナー\nサブスクリプションビジネス
 を大手企業だけのものと思っていませんか？本当は違
 います。規模に関わらず、そしてどんな商材でも、サ
 ブスクリプション商品は作れるのです。今あなたの事
 業が成長しきった大企業でないのなら、だからこそサ
 ブスクリプションビジネスを検討すべきです。\nこの
 セミナーでは、サブスク型ビジネスを成功させるため
 のヒントを具体的にお話いたします。\n●本セミナー
 は次のような無形商材を取り扱う事業者様にお勧めで
 す\n\nファンクラブ\nコミュニティサイト\nセミナー・
 イベントの参加券や参加費用\n体験型アクティビティ
 ・ワークショップ\nレンタルサービス\n代行サービス\n
 駐輪場・駐車場料金　など…\n\n●「Atouch」とは？\nLINE
 で誰でも簡単にネットショップが開設できる、画期的
 なサービスです。このたび、サブスクリプションの費
 用回収も可能になりました！\n●『Atouch』の特徴\n\n多
 岐にわたるビジネスに対応可能\nECショップの運営をサ
 ポート\nコミュニティやファンクラブの管理\nセミナー
 やイベントのチケット販売\n様々な商品・サービスの
 提供\n\nサブスクリプションという新しいビジネスの扉
 は、中小規模の企業にこそ開かれています。環境さえ
 整っていれば、どんなビジネスもサブスク形態に変え
 ることができるのです。しかも『Atouch』が提供するシ
 ステムなら、ビジネスのスタートから運用まで、驚く
 ほどスムーズに進められます。同じジャンルで他にな
 い新しいサブスク商材を作りたいと思っている方も、
 ご安心ください。私たちがサポートします。まだ商品
 のアイディアが固まっていなくても大丈夫。きっとあ
 なたの商材に可能性があるはずです。\n今すぐにサブ
 スクリプションでビジネスの可能性を広げ、成功への
 道を共に歩みませんか？ぜひセミナーにご参加くださ
 い。お申し込みをお待ちしています。\n開催日時\n10月1
 6日（月）　15:00～17:0010月19日（木）　15:00～17:00\n※各
 日程、同じセミナー内容です\n■開催場所　オンライ
 ン（Zoom）■登壇者　　IRISデータラボ株式会社　三井 
 朝洋\nLINE APIツール「Atouch」とは\nLINE公式アカウントで
 簡単にネットショップが開設できるサービスです。\n
 手間がかかる初期設定や面倒な運用業務は不要。\n特
 別な知識やスキルがなくても、直観的な操作で自分だ
 けのオリジナルECショップが手軽に開設できます。\nhtt
 ps://atouch.jp/\n～～～～～～～～～～～～～～～～■IRIS
 データラボ株式会社所在地　　：東京都港区南青山2-7-
 30 ムラハンビル1階設立　　　：2019年3月5日代表取締役
 ：安達教顕\n■個人情報の取り扱いについてhttps://iris-c
 orp.co.jp/privacypolicy/～～～～～～～～～～～～～～～～
LOCATION:オンライン（Zoom）
URL:https://techplay.jp/event/922438?utm_medium=referral&utm_source=ics&utm
 _campaign=ics
END:VEVENT
END:VCALENDAR
