BEGIN:VCALENDAR
VERSION:2.0
PRODID:-//https://techplay.jp//JP
CALSCALE:GREGORIAN
METHOD:PUBLISH
X-WR-CALDESC:現役データサイエンティストと人事に聞く！ 
 異業種からのキャリアチェンジの始め方
X-WR-CALNAME:現役データサイエンティストと人事に聞く！ 
 異業種からのキャリアチェンジの始め方
X-WR-TIMEZONE:Asia/Tokyo
BEGIN:VTIMEZONE
TZID:Asia/Tokyo
BEGIN:STANDARD
DTSTART:19700101T000000
TZOFFSETFROM:+0900
TZOFFSETTO:+0900
TZNAME:JST
END:STANDARD
END:VTIMEZONE
BEGIN:VEVENT
UID:922462@techplay.jp
SUMMARY:現役データサイエンティストと人事に聞く！ 異業
 種からのキャリアチェンジの始め方
DTSTART;TZID=Asia/Tokyo:20231026T190000
DTEND;TZID=Asia/Tokyo:20231026T203000
DTSTAMP:20260426T020925Z
CREATED:20231006T061321Z
DESCRIPTION:イベント詳細はこちら\nhttps://techplay.jp/event/92246
 2?utm_medium=referral&utm_source=ics&utm_campaign=ics\n\n概要\nカジ
 ュアルに誰でもご参加頂ける、座談会イベントです！\
 n当社の協業先である(株)アイデミー様と共催で、現役
 データサイエンティスト4名と採用責任者である齋田が
 登壇する、座談会イベントを実施いたします。（オフ
 ライン+オンライン同時開催となります！）当社への応
 募意思は不問です！\n●データサイエンティストにつ
 いてもっと知りたい！という方●実務未経験／異業種
 からデータサイエンティストへとキャリアチェンジを
 考えている方●データサイエンティストになるべく、
 学習中／これから学習を始める方\nなど、どなたでも
 ご参加いただけます。少しでもご興味がある方はぜひ
 ご参加いただければと思います。ベンダーやメーカー
 とは異なる 「アウトソーシング企業ならでは」のデー
 タサイエンティストの仕事ぶりやキャリアの築き方な
 ど、 参加者からの質問に答えていく形で、お話したい
 と思います！（内容としては若手の方、初学者向けの
 内容がメインとなっております。）過去何度か実施し
 ていますが、非常にアットホームなイベントです♪\n
 タイムスケジュール\n\n\n\n時間\nスケジュール\n\n\n\n\n18
 ：45 ～19：00\nオフライン参加者受付開始\n\n\n18：55 ～19
 ：00\nオンライン参加者入室開始\n\n\n19：00 ～19：40\n現
 役データサイエンティストと人事に聞く！異業種から
 のキャリアチェンジの始め方\n\n\n19：40～20：30\n交流会
 （オフライン参加者のみ）\n\n\n\n登壇者\nテクノプロ・
 デザイン社よりデータサイエンティスト4名と採用責任
 者1名が登壇致します。\n◆エンジニア伊中茂＞＞イン
 タビュー記事大谷潤一郎＞＞インタビュー記事鄭秉柱
 ＞＞インタビュー記事馬場 義幸\n◆採用責任者齋田龍
 （テクノプロ・デザイン社キャリア採用部部長）\n◆
 司会株式会社アイデミー\n開催日・開催場所・応募締
 め切り\n＜開催日＞\n2023年10月26日（木）19：00～20：30
 （予定）※途中入場・退室OK\n＜開催場所＞\n＞＞オフ
 ライン参加者株式会社アイデミー本社東京都千代田区
 大手町一丁目２番１号Otemachi Oneタワー６F\n＞＞オンラ
 イン参加者前日までにご登録のメールアドレスに参加U
 RLを送付致します。\n＜応募締め切り＞\n2023年10月24日
 （火）まで\nお申し込み方法\n「参加申し込みページへ
 」のボタンより必要事項ご登録お願い致します。下部
 にオフラインorオンライン参加参加を選択する項目が
 ありますのでチェックをお願い致します。\nセミナー
 ご参加までの流れ\n＞＞オフライン参加者１）申込み
 ページより申込２）前日までにメールにて入館方法な
 どの詳細をご案内いたします。（@technopro.comからメー
 ル送信致します）３）当日会場にお越しいただき、受
 付をお願い致します。\n＞＞オンライン参加者１）申
 込みページより申込２）前日までにメールにて参加URL
 をお送り致します。（@technopro.comからメール送信致し
 ます）３）当日メールに記載のアドレスをクリックし
 参加\n＜当日午前中になってもメールが届かない場合
 はお手数ですが下記までご連絡ください＞株式会社テ
 クノプロ　テクノプロ・デザイン社キャリア採用部　
 佐藤江里子Mail　Sato.Eriko@technopro.comTEL　070 -8833-2506\n注
 意事項\n\nリクルーティング、勧誘など、採用目的での
 イベント参加はお断りしております。\n途中参加＆退
 出は自由です。お好きなタイミングで ご参加ください
 。\n参加URLは当日のみ有効です。\n基本的には、前日ま
 でに、必ずお持ちの端末（パソコン、スマートフォン
 、タブレット）にあらかじめ Zoom をインストールしセ
 ミナーに参加できる環境をご準備ください。また、マ
 イクなどの視聴機器の調整も事前にご準備ください。\
 n開始5分前からオンライン接続可能です。接続に不安
 な方は、時間の余裕を持って早めに接続ください。ネ
 ットワーク環境や各自使用する端末のスペックによっ
 て、接続が一部停止・遅延する可能性があります。\n
 時間になっても始まらないときは、Zoom を一旦終了し
 て、再度接続しなおしてください。\n本イベントはご
 参加者による録音・録画（スクリーンショット含む）
 はご遠慮いただいております。\n
LOCATION:Otemachi Oneタワー６F 株式会社アイデミー本社
URL:https://techplay.jp/event/922462?utm_medium=referral&utm_source=ics&utm
 _campaign=ics
END:VEVENT
END:VCALENDAR
