BEGIN:VCALENDAR
VERSION:2.0
PRODID:-//https://techplay.jp//JP
CALSCALE:GREGORIAN
METHOD:PUBLISH
X-WR-CALDESC:交流できる自習会【わいわい会】12月2日(土)＠
 オンライン
X-WR-CALNAME:交流できる自習会【わいわい会】12月2日(土)＠
 オンライン
X-WR-TIMEZONE:Asia/Tokyo
BEGIN:VTIMEZONE
TZID:Asia/Tokyo
BEGIN:STANDARD
DTSTART:19700101T000000
TZOFFSETFROM:+0900
TZOFFSETTO:+0900
TZNAME:JST
END:STANDARD
END:VTIMEZONE
BEGIN:VEVENT
UID:922586@techplay.jp
SUMMARY:交流できる自習会【わいわい会】12月2日(土)＠オ
 ンライン
DTSTART;TZID=Asia/Tokyo:20231202T100000
DTEND;TZID=Asia/Tokyo:20231202T120000
DTSTAMP:20260422T121826Z
CREATED:20231007T075651Z
DESCRIPTION:イベント詳細はこちら\nhttps://techplay.jp/event/92258
 6?utm_medium=referral&utm_source=ics&utm_campaign=ics\n\n☆わいわい
 会とは☆\n各自もくもくと勉強や作業、本を読んだり
 するだけの会「もくもく会」を雑談・質問もOKにした
 会のことです。オンライン(Zoom)にて開催します。\n【
 スタートの想い】シーン…とし過ぎるより、適度にわ
 いわいしながら、刺激のある環境で作業や仕事を捗ら
 せたい。IT業界でも、横のつながりを持ちたい。どん
 な方でも気軽に参加できる場所を作りたい。という想
 いで始めました。ですので、勉強でも、仕事でも、読
 書でも、手芸でも、何にでも使ってください。\n【こ
 んな方にお薦め】「家ではどうも仕事や勉強に集中で
 きない、さぼってしまいがち」「他の人が作業してる
 のを見ると自分もやんなきゃなんないような気がする
 」「一人でタスクに向かう気の重さを人と集まること
 で紛らわせたい」「わいわい話したいなぁ」「どうせ
 なら、読書ついでに知り合いが増えたらいいな」\nコ
 ロナの状況により今回はオンライン開催ですが普段は
 、合間の気分転換や、楽しみながら参加できるように
 ワークショップや出張コーヒーサービス、マッサージ
 などの企画もしています。企画は不定期ですが、よけ
 れば＋ITをフォローしていただき、そちらもお気軽に
 ご参加ください。\n-----------------------------------------------
 ------------------------------------------------【日時】12月2日(土
 ) 10:00～12:00※途中参加・途中退室自由\n【参加費】無
 料\n【場所】オンライン開催(Zoom)※お申し込み後のみ
 閲覧できるページにて、ZoomのURLをご案内いたします。
 ※Zoomは最新バージョンにアップデートしてご利用くだ
 さい。（古いバージョンではマイクやカメラで不具合
 が起きることがあります）\n【持ち物】・ご自分の作
 業・勉強に必要なもの・飲み物・お菓子等ご自由に\n
 【参加講師・スタッフ】Excelコース・SEコース・VBAコー
 ス・Javaコース講師SQL講座、フリーランスSE、IT業界転
 職経験豊富なメンバーなどなどスキルや仕事について
 質問してもらうのも大歓迎です。※個別で対応中や、
 当日不参加の時もありますのでご相談ください\n【参
 加人数】10～15名程※他サイトでも募集しているため、
 こちらのページの参加人数と一致しない事があります
 。\n【注意事項】大声で騒ぐ、ナンパ・勧誘行為など
 、参加者の迷惑になると判断した場合は退室していた
 だく場合がございますので、ご了承ください。\n☆『
 ＋IT（プラスアイティー）』とは☆\nSEやIT事務職のメ
 ンバーで、都内を中心にITスキル講座を開催していま
 す。IT技術の習得によって、収入UPや仕事の能率UPの実
 現する人が増えるように活動しています。会社や業界
 関係なく横のつながりを創り、楽しく学び合えるコミ
 ュニティができるといいなと考えています。雑談や交
 流OK、イベント等も同時開催する自習会、｢わいわい
 会｣を毎週開催しています。Peatixページで他のイベン
 トもぜひご覧ください。https://plus-info-tech.com/
LOCATION:オンライン
URL:https://techplay.jp/event/922586?utm_medium=referral&utm_source=ics&utm
 _campaign=ics
END:VEVENT
END:VCALENDAR
