BEGIN:VCALENDAR
VERSION:2.0
PRODID:-//https://techplay.jp//JP
CALSCALE:GREGORIAN
METHOD:PUBLISH
X-WR-CALDESC:【明日から使える！】GA4を使いこなす超実践
 セミナー
X-WR-CALNAME:【明日から使える！】GA4を使いこなす超実践
 セミナー
X-WR-TIMEZONE:Asia/Tokyo
BEGIN:VTIMEZONE
TZID:Asia/Tokyo
BEGIN:STANDARD
DTSTART:19700101T000000
TZOFFSETFROM:+0900
TZOFFSETTO:+0900
TZNAME:JST
END:STANDARD
END:VTIMEZONE
BEGIN:VEVENT
UID:922637@techplay.jp
SUMMARY:【明日から使える！】GA4を使いこなす超実践セミ
 ナー
DTSTART;TZID=Asia/Tokyo:20231018T140000
DTEND;TZID=Asia/Tokyo:20231018T150000
DTSTAMP:20260420T180507Z
CREATED:20231008T072811Z
DESCRIPTION:イベント詳細はこちら\nhttps://techplay.jp/event/92263
 7?utm_medium=referral&utm_source=ics&utm_campaign=ics\n\nこんな方に
 おすすめ\n\nGA4を実践的に理解したい\nサクッとGA4をキ
 ャッチアップしたい\n明日にでも使える知識しか欲し
 くない\n\n\n\n\n開催日\n2023年10月18日(水)\n\n\n\n\n時間\n14:
 00～15:00(15分前より入室可能)\n\n\n場所\nウェビナー\n\n\n
 定員\n30名\n\n\n参加費\n無料\n\n\n登壇者\n金子 優太\n\n\n\
 nウェビナーの参加はこちらから\nセミナー内容紹介\nGA
 4セミナーを多数開催してきましたが、「もっと実践的
 な知識を！」と言う声を多数いただいております。そ
 こで今回のウェビナーでは明日から使える超実践的なG
 A4の知識をご紹介いたします。大手実績多数の株式会
 社ipeに在籍するアナリストたちの知見を１時間に凝縮
 。現場で使える生きた知識をご紹介します。より効果
 的にGA4を使いこなすためにも、弊社の知見をぜひご活
 用ください。大規模サイトのSEOコンサルティングを中
 心に活動し、最先端のSEO技術を提供するをテーマに掲
 げサービス提供しています。Twitterはこちら↓Follow @info
 _ipe\nクライアント実績一例\n\nウェビナー参加特典\nウ
 ェビナーにご参加頂いた方の中でご希望される方には
 下記の特典をご用意しております。・「GA4設定チェッ
 クリスト」⇒ウェビナーで使用させて頂いた、GA4基本
 設定の手順が一目で分かるチェックシートを今回ご参
 加頂いた方、限定でお渡しさせて頂きます。是非、今
 一度ご自分の手でご確認ください\n・「サイト無料診
 断」⇒SEO対策に関するお悩みを解決させて頂く相談会
 を無料でご招待させて頂きます。下記に該当する悩み
 をお持ちの方に、お役立ていただける内容になってお
 ります。\n・検索順位が伸び悩んでいる・今以上に流
 入数を増加させたいが、方法が分からない・流入数は
 確保できているが、CVにつながらない\n\nプログラム\n\n
 \n\n時間\n内容\n\n\n\n\n13:45~14:00\nZOOM入室可能\n\n\n14:00~15:0
 0\nGA4の実践的手法GA4活用に欠かせないtipsGA4でサイト分
 析をする際に使える手法\n\n\n\n株式会社ipe　セールス
 チーム 金子 優太在学時には地域経済論を専攻し、ビ
 ジネスを通じた地域活性化の手段を模索。事業を作り
 、伸ばしていく手段としてのマーケティングに興味を
 持つ。その頃から伝統的なマーケティングの概要だけ
 でなく、LINEマーケを始めとした最新のトレンドも含め
 勉強を開始。同時期にインターンとして株式会社ipeへ
 ジョイン。セールスチームで活動し、インターン時か
 ら案件受注するなど、その提案力には定評がある。既
 存の枠に囚われないマーケティング思考は好評で、特
 に人材領域への提案を強みとしている。
LOCATION:オンライン
URL:https://techplay.jp/event/922637?utm_medium=referral&utm_source=ics&utm
 _campaign=ics
END:VEVENT
END:VCALENDAR
