BEGIN:VCALENDAR
VERSION:2.0
PRODID:-//https://techplay.jp//JP
CALSCALE:GREGORIAN
METHOD:PUBLISH
X-WR-CALDESC:【アーカイブ配信】入門編・ウェビナーの始
 め方
X-WR-CALNAME:【アーカイブ配信】入門編・ウェビナーの始
 め方
X-WR-TIMEZONE:Asia/Tokyo
BEGIN:VTIMEZONE
TZID:Asia/Tokyo
BEGIN:STANDARD
DTSTART:19700101T000000
TZOFFSETFROM:+0900
TZOFFSETTO:+0900
TZNAME:JST
END:STANDARD
END:VTIMEZONE
BEGIN:VEVENT
UID:922923@techplay.jp
SUMMARY:【アーカイブ配信】入門編・ウェビナーの始め方
DTSTART;TZID=Asia/Tokyo:20231011T160000
DTEND;TZID=Asia/Tokyo:20231231T230000
DTSTAMP:20260420T165327Z
CREATED:20231011T065842Z
DESCRIPTION:イベント詳細はこちら\nhttps://techplay.jp/event/92292
 3?utm_medium=referral&utm_source=ics&utm_campaign=ics\n\n概要\n新型
 コロナウィルス感染症の流行から、すっかり企業の代
 表的な「WEBマーケティング」の代名詞にもなってきた
 ウェビナー。講師も2020年頃から多くのウェビナーを開
 催、数多くの失敗も経験してきました。\n一方まだウ
 ェビナーをスタートしきれない企業様も数多く見てき
 ていますが、大抵の場合何故か難しく考え、最初の一
 歩を踏み出せないケースがほとんどだと思います。\n
 当セミナーでは実体験からウェビナーのミニマムスタ
 ートの仕方。ウェビナーはリード（営業リスト）獲得
 向けなのか、リード育成向けなのかなど、ご担当者様
 がお悩みになっておられることを解説。\nウェビナー
 を開催してみる最初のきっかけになれば幸いです。\n
 動画内容\n\n\n\n\n内容\n\n\n\n\n本編\n・ウェビナーの始め
 方・企画の立て方・集客の行い方・講師のウェビナー
 「しくじり談」\n\n\n\n※アーカイブ配信のため質疑応
 答へのご対応が出来ない点、ご了承くださいませ。\n
 登壇者\n\n藤江 信之\n株式会社ネクストソリューション
 ズ マーケティング室\n大学卒業後、税理士向け商社で
 営業マンを経験したのち、2000年代前半より広告代理店
 や、WEB制作会社等で主にクリエイターとして従事。\n
 大手エネルギー会社や、大手小売店、某市地下鉄など
 のWEBサイトやプロジェクトに関わる傍ら、2010年頃まで
 、都内のWEBデザインスクールで非常勤の講師を務める
 。\n\nその後クライアントワークから、自社の広報マー
 ケティングにキャリアチェンジ。\n上場IT企業のマーケ
 ティング部門立ち上げに中心メンバーとして関わり、
 ウェビナーや展示会の運営などを通じリード創出を行
 う。\n\n人材サービス会社を経て、2023年6月ネクストソ
 リューションズに入社。\n“提案サイド”と“担当者
 サイド”両方を経験した知見を活かし、マーケティン
 グ室の立ち上げ中。\n\n参加対象\n\nウェビナーを始め
 てみたい広報・マーケやインサイドセールス、営業企
 画部門等の方\nウェビナーを始めてみたけど上手くい
 かずヒントを得たい方\n\n参加費\n無料\n注意事項\n\nリ
 クルーティング、勧誘など、採用目的でのイベント参
 加はお断りしております。\nキャンセル待ち・補欠・
 落選の方はご参加いただくことが出来ませんのでご了
 承ください。\n欠席される場合は、お手数ですが速や
 かにキャンセル処理をお願い致します。\n無断キャン
 セルや欠席が続く場合、次回以降の参加をお断りさせ
 ていただく場合がございます。\n
LOCATION:オンライン
URL:https://techplay.jp/event/922923?utm_medium=referral&utm_source=ics&utm
 _campaign=ics
END:VEVENT
END:VCALENDAR
