BEGIN:VCALENDAR
VERSION:2.0
PRODID:-//https://techplay.jp//JP
CALSCALE:GREGORIAN
METHOD:PUBLISH
X-WR-CALDESC:BtoBマーケティング入門編 Google WorkSpaceを活用
 した業務改善/MA活用セミナー
X-WR-CALNAME:BtoBマーケティング入門編 Google WorkSpaceを活用
 した業務改善/MA活用セミナー
X-WR-TIMEZONE:Asia/Tokyo
BEGIN:VTIMEZONE
TZID:Asia/Tokyo
BEGIN:STANDARD
DTSTART:19700101T000000
TZOFFSETFROM:+0900
TZOFFSETTO:+0900
TZNAME:JST
END:STANDARD
END:VTIMEZONE
BEGIN:VEVENT
UID:922938@techplay.jp
SUMMARY:BtoBマーケティング入門編 Google WorkSpaceを活用した
 業務改善/MA活用セミナー
DTSTART;TZID=Asia/Tokyo:20231019T120000
DTEND;TZID=Asia/Tokyo:20231019T123000
DTSTAMP:20260421T183816Z
CREATED:20231011T092221Z
DESCRIPTION:イベント詳細はこちら\nhttps://techplay.jp/event/92293
 8?utm_medium=referral&utm_source=ics&utm_campaign=ics\n\nセミナー概
 要\n日常的に使用しているGoogleWorkSpaceを使った業務改
 善をご紹介！ MAツールを使用されている場合は、ツー
 ルと連携させることでさらに業務が楽になります。 大
 規模なシステムを導入することなく、マーケティング
 の自動化を進める事例をご紹介します。\n登壇者\n山口
  孝行\nZen office株式会社 シニアマーケター\n登壇者略歴
 \n大学卒業後、am/pmジャパンに入社。商品部や広告部に
 て全社のマーケティングを担当。 以後広告代理店にて
 、プランニングディレクターとして大手家電メーカー
 や菓子メーカーを歴任。 社会現象を起こした映画の販
 促企画では、ARアプリの企画ディレクション、SNS拡散
 により国内プロモーション史上最大の60万ダウンロー
 ドを記録し認知度を上げた。  \nCMOとして戦略デザイ
 ンファームの立ち上げの後、Zen office inc.へ参画。経営
 学修士（MBA）取得。\n\n寺井 章家\nZen office株式会社 マ
 ーケター\n登壇者略歴\n2023年3月に関西大学総合情報学
 部を卒業後、同年4月に新卒一期生としてZen office inc.へ
 入社。シニア・マーケター 山口のもとで、SEOやMEOのコ
 ンサルティング、Google Analyticsを用いたWebサイト解析、
 WEB広告の最適化など数々のデジタルマーケティング業
 務を行っている。\n\n詳細\n・日時 2023/10/19(水)12:00-12:30\
 n・参加費 無料 ・イベント形式 ウェビナー（オンライ
 ンzoom）※お申し込み後にZoomのURLをお送りいたします
 。\n・参加特典 当日のスライド資料（簡易版）※セミ
 ナー終了後のアンケートにお答え頂いた方限定\n注意
 事項\n\nリクルーティング、勧誘など、採用目的でのイ
 ベント参加はお断りしております。\nキャンセル待ち
 ・補欠・落選の方はご参加いただくことが出来ません
 のでご了承ください。\n欠席される場合は、お手数で
 すが速やかにキャンセル処理をお願い致します。\n無
 断キャンセルや欠席が続く場合、次回以降の参加をお
 断りさせていただく場合がございます。\n
LOCATION:オンライン
URL:https://techplay.jp/event/922938?utm_medium=referral&utm_source=ics&utm
 _campaign=ics
END:VEVENT
END:VCALENDAR
