BEGIN:VCALENDAR
VERSION:2.0
PRODID:-//https://techplay.jp//JP
CALSCALE:GREGORIAN
METHOD:PUBLISH
X-WR-CALDESC:11/25(土)【新宿】オフラインTableauもくもく会 Vo
 l.10
X-WR-CALNAME:11/25(土)【新宿】オフラインTableauもくもく会 Vo
 l.10
X-WR-TIMEZONE:Asia/Tokyo
BEGIN:VTIMEZONE
TZID:Asia/Tokyo
BEGIN:STANDARD
DTSTART:19700101T000000
TZOFFSETFROM:+0900
TZOFFSETTO:+0900
TZNAME:JST
END:STANDARD
END:VTIMEZONE
BEGIN:VEVENT
UID:923327@techplay.jp
SUMMARY:11/25(土)【新宿】オフラインTableauもくもく会 Vol.10
DTSTART;TZID=Asia/Tokyo:20231125T150000
DTEND;TZID=Asia/Tokyo:20231125T180000
DTSTAMP:20260425T165229Z
CREATED:20231015T102233Z
DESCRIPTION:イベント詳細はこちら\nhttps://techplay.jp/event/92332
 7?utm_medium=referral&utm_source=ics&utm_campaign=ics\n\n11/25(土)【新
 宿】オフラインTableauもくもく会 Vol.10\n※すみません。
 開催場所が変わります\n概要\nオフラインでTableauもく
 もく会を開催します。⇨もくもく会ではありますが、
 オフラインならではのTableauユーザ同士で業界を横断し
 ての交流会も楽しんでいただければと思います。予め
 ご了承下さい。\n\n新宿のカフェ会議室（ https://www.ginza
 -renoir.co.jp/myspace/booking/shops/room/新宿３丁目ビッグスビ
 ル店/5号室 ） に集まり、Tableauをはじめ、各々やりた
 いことを作業する会になります。\n途中ゆるりと雑談
 したりわいわいしたりもします。\nTableauを使っている
 際の困り事や悩み事も主催者や参加者の皆様が親切に
 相談に乗ってくれるはず？\nTableauユーザー、Tableauに興
 味のある方でしたらどなたでもウェルカムです。\nも
 くもく会が終わった後は懇親会を行いますので、お時
 間のある方はそちらもぜひご参加ください。\n\n＜参考
 ＞・記念すべき第1回の様子はこちらです。(Xにリンク
 します)　オフラインTableauもくもく会 Vol.1\n＜過去の履
 歴＞【新宿】オフラインTableauもくもく会 Vol.9　もくも
 く会＆秋のワークショップ企画【名駅】オフラインTabl
 eauもくもく会 Vol.8【新宿】オフラインTableauもくもく会
  Vol.7【新宿】オフラインTableauもくもく会 Vol.6【神田】
 オフラインTableauもくもく会 Vol.5【新宿】オフラインTab
 leauもくもく会 Vol.4【新宿】オフラインTableauもくもく
 会 Vol.3【秋葉原】オフラインTableauもくもく会 Vol.2\nタ
 イムスケジュール\n2023年11月25日(土) 15:00〜18:00\n\n\n\n時
 間\n内容\n\n\n\n\n15:00\n開場・入室\n\n\n15:00〜15:10\n挨拶・
 自己紹介\n\n\n15:10〜15:30\nアイスブレイク・プチイベン
 ト\n\n\n15:30〜17:30\nもくもく作業・途中雑談\n\n\n17:30〜17
 :50\n成果発表\n\n\n18:00\n退出\n\n\n18:15〜20:30\n懇親会（*希
 望者）\n\n\n\n※ 当日予告なく時間配分・内容が変更に
 なる可能性がございます。\n場所\n喫茶室ルノアール 
 新宿３丁目ビッグスビル店(貸会議室5号室)こちらのGoog
 le mapをご参考ください。https://www.google.com/maps/place/喫茶
 室ルノアール+新宿３丁目ビッグスビル店/@35.6912393\,139.
 7051431\,17z/data=!3m2!4b1!5s0x60188cdc95624f5b:0x64ff320ff35487a5!4m6!3m
 5!1s0x60188cdcbffee8ef:0x8340d7b7742c8772!8m2!3d35.691235!4d139.707718!16
 s%2Fg%2F1tdb48b8?entry=ttu\n主催者\n\nわたるん  @proj_aquabellus\
 n\nTableau兄さん @tableau_nisan\n参加対象\n\nTableauユーザー\
 nTableauに興味のある方\nTableauユーザー同士で交流して
 みたい方\n美味しいご飯を食べながらTableau談義に花を
 咲かせたい方\n\n参加費\n1000円〜1500円程度（会場代+ド
 リンク代）\n(※懇親会は別途)\n注意事項・メモ書き\n
 電源、無料Wi-Fi、ホワイトボード、おしぼり、お冷が
 完備されてます
LOCATION:喫茶室ルノアール 新宿３丁目ビッグスビル店(貸
 会議室5号室) 〒160-0022 東京都新宿区新宿2-19-1 ビッグス
 新宿ビルB2F
URL:https://techplay.jp/event/923327?utm_medium=referral&utm_source=ics&utm
 _campaign=ics
END:VEVENT
END:VCALENDAR
