BEGIN:VCALENDAR
VERSION:2.0
PRODID:-//https://techplay.jp//JP
CALSCALE:GREGORIAN
METHOD:PUBLISH
X-WR-CALDESC:【無料】元ヤフーの現役エンジニアが教える!W
 ordPressで自作する初めてのホームページ講座
X-WR-CALNAME:【無料】元ヤフーの現役エンジニアが教える!W
 ordPressで自作する初めてのホームページ講座
X-WR-TIMEZONE:Asia/Tokyo
BEGIN:VTIMEZONE
TZID:Asia/Tokyo
BEGIN:STANDARD
DTSTART:19700101T000000
TZOFFSETFROM:+0900
TZOFFSETTO:+0900
TZNAME:JST
END:STANDARD
END:VTIMEZONE
BEGIN:VEVENT
UID:923364@techplay.jp
SUMMARY:【無料】元ヤフーの現役エンジニアが教える!WordPr
 essで自作する初めてのホームページ講座
DTSTART;TZID=Asia/Tokyo:20231029T180000
DTEND;TZID=Asia/Tokyo:20231029T210000
DTSTAMP:20260425T155924Z
CREATED:20231015T150147Z
DESCRIPTION:イベント詳細はこちら\nhttps://techplay.jp/event/92336
 4?utm_medium=referral&utm_source=ics&utm_campaign=ics\n\n================
 ====================\n元ヤフーの現役エンジニアが教える！
 自分で作る初めてのホームページ講座\n====================
 ================\n【参加費】無料\n【場所】池袋駅から徒
 歩圏内\n【内容】ワードプレスを使ったホームページ
 を自分で作成していきます。　元ヤフーの現役エンジ
 ニアが基礎の基礎から教えますので知識はまったくい
 りません。　数名のワークショップ形式で進行します
 。持ち物はノートパソコンだけ。\n【対象者】起業や
 新規事業でホームページ制作を考えている方、今ある
 ホームページを作り変えたい方など気軽にご参加くだ
 さい。　今回は初心者を対象としています。何度も作
 っている経験者の方は対象外とさせていただきます。\
 n※ご紹介大歓迎です！参加したそうな方がいらしたら
 ぜひURLをご共有ください\n
LOCATION:としま区民センター(JR他各線「池袋駅」より徒歩
 7分) 東京都豊島区東池袋1-20-10
URL:https://techplay.jp/event/923364?utm_medium=referral&utm_source=ics&utm
 _campaign=ics
END:VEVENT
END:VCALENDAR
